BEGIN:VCALENDAR
VERSION:2.0
PRODID:-//Stayinmcallen - ECPv6.15.20//NONSGML v1.0//EN
CALSCALE:GREGORIAN
METHOD:PUBLISH
X-ORIGINAL-URL:https://stayinmcallen.com
X-WR-CALDESC:Events for Stayinmcallen
REFRESH-INTERVAL;VALUE=DURATION:PT1H
X-Robots-Tag:noindex
X-PUBLISHED-TTL:PT1H
BEGIN:VTIMEZONE
TZID:America/Chicago
BEGIN:DAYLIGHT
TZOFFSETFROM:-0600
TZOFFSETTO:-0500
TZNAME:CDT
DTSTART:20230312T080000
END:DAYLIGHT
BEGIN:STANDARD
TZOFFSETFROM:-0500
TZOFFSETTO:-0600
TZNAME:CST
DTSTART:20231105T070000
END:STANDARD
BEGIN:DAYLIGHT
TZOFFSETFROM:-0600
TZOFFSETTO:-0500
TZNAME:CDT
DTSTART:20240310T080000
END:DAYLIGHT
BEGIN:STANDARD
TZOFFSETFROM:-0500
TZOFFSETTO:-0600
TZNAME:CST
DTSTART:20241103T070000
END:STANDARD
BEGIN:DAYLIGHT
TZOFFSETFROM:-0600
TZOFFSETTO:-0500
TZNAME:CDT
DTSTART:20250309T080000
END:DAYLIGHT
BEGIN:STANDARD
TZOFFSETFROM:-0500
TZOFFSETTO:-0600
TZNAME:CST
DTSTART:20251102T070000
END:STANDARD
END:VTIMEZONE
BEGIN:VEVENT
DTSTART;TZID=America/Chicago:20240925T190000
DTEND;TZID=America/Chicago:20240925T210000
DTSTAMP:20260421T100035
CREATED:20240901T230601Z
LAST-MODIFIED:20240925T023506Z
UID:10001154-1727290800-1727298000@stayinmcallen.com
SUMMARY:Tote-ally Ready for Fall: A tote bag painting event!
DESCRIPTION:Ready for the Fall season? Your friends at VAC are!! Join us for an evening of tote bag painting\, hangout with friends\, and learn more about the resources offered at VAC. Free Rapid HIV testing will be offered! Tote bags and art supplies will be provided.
URL:https://stayinmcallen.com/events/tote-ally-ready-for-fall-a-tote-bag-painting-event/
LOCATION:Casa Orgullo\, 2 S 2nd St\, McAllen\, TX\, United States
CATEGORIES:Family Fun,Health and Wellness,Explore McAllen,Social Meetups
ATTACH;FMTTYPE=image/jpeg:https://stayinmcallen.com/wp-content/uploads/2024/09/Tote-bag-Painting-Event-lrpClx.tmp_.jpg
ORGANIZER;CN="Valley AIDS Council":MAILTO:jmiramontes@valleyaids.org
GEO:26.201744;-98.22125
X-APPLE-STRUCTURED-LOCATION;VALUE=URI;X-ADDRESS=Casa Orgullo 2 S 2nd St McAllen TX United States;X-APPLE-RADIUS=500;X-TITLE=2 S 2nd St:geo:-98.22125,26.201744
END:VEVENT
BEGIN:VEVENT
DTSTART;TZID=America/Chicago:20240925T210000
DTEND;TZID=America/Chicago:20240925T233000
DTSTAMP:20260421T100035
CREATED:20240901T230614Z
LAST-MODIFIED:20240926T023502Z
UID:10001155-1727298000-1727307000@stayinmcallen.com
SUMMARY:Flying Mic Night
DESCRIPTION:Join us every Wednesday for Flying Mic Night\, where all art forms are celebrated! Whether you’re a musician\, poet\, comedian\, magician\, or any other performer\, our stage is open to you. With professional lighting and sound by Indigo Sound Co.\, you’ll have everything you need for an amazing performance. Sign-ups start at 8 PM\, and the show kicks off at 9 PM\, running until we close at 2 AM. Welcoming everyone from first-time performers to seasoned pros\, experience the best weekday crowd in town at Flying Mic Night!
URL:https://stayinmcallen.com/events/flying-mic-night-21/
LOCATION:The Flying Walrus\, 204 S 17th St\, McAllen\, TX\, United States
CATEGORIES:Live Music,Explore McAllen,Open Mic
ATTACH;FMTTYPE=image/jpeg:https://stayinmcallen.com/wp-content/uploads/2024/09/flying-walrus-open-mic-H2ZKCM.tmp_.jpg
ORGANIZER;CN="Indigo Sound Co.":MAILTO:info@indigosound.co
GEO:26.202828;-98.238122
X-APPLE-STRUCTURED-LOCATION;VALUE=URI;X-ADDRESS=The Flying Walrus 204 S 17th St McAllen TX United States;X-APPLE-RADIUS=500;X-TITLE=204 S 17th St:geo:-98.238122,26.202828
END:VEVENT
END:VCALENDAR