BEGIN:VCALENDAR
VERSION:2.0
PRODID:-//Stayinmcallen - ECPv6.15.20//NONSGML v1.0//EN
CALSCALE:GREGORIAN
METHOD:PUBLISH
X-ORIGINAL-URL:https://stayinmcallen.com
X-WR-CALDESC:Events for Stayinmcallen
REFRESH-INTERVAL;VALUE=DURATION:PT1H
X-Robots-Tag:noindex
X-PUBLISHED-TTL:PT1H
BEGIN:VTIMEZONE
TZID:America/Chicago
BEGIN:DAYLIGHT
TZOFFSETFROM:-0600
TZOFFSETTO:-0500
TZNAME:CDT
DTSTART:20230312T080000
END:DAYLIGHT
BEGIN:STANDARD
TZOFFSETFROM:-0500
TZOFFSETTO:-0600
TZNAME:CST
DTSTART:20231105T070000
END:STANDARD
BEGIN:DAYLIGHT
TZOFFSETFROM:-0600
TZOFFSETTO:-0500
TZNAME:CDT
DTSTART:20240310T080000
END:DAYLIGHT
BEGIN:STANDARD
TZOFFSETFROM:-0500
TZOFFSETTO:-0600
TZNAME:CST
DTSTART:20241103T070000
END:STANDARD
BEGIN:DAYLIGHT
TZOFFSETFROM:-0600
TZOFFSETTO:-0500
TZNAME:CDT
DTSTART:20250309T080000
END:DAYLIGHT
BEGIN:STANDARD
TZOFFSETFROM:-0500
TZOFFSETTO:-0600
TZNAME:CST
DTSTART:20251102T070000
END:STANDARD
END:VTIMEZONE
BEGIN:VEVENT
DTSTART;TZID=America/Chicago:20241230T090000
DTEND;TZID=America/Chicago:20241230T150000
DTSTAMP:20260420T225551
CREATED:20241204T123111Z
LAST-MODIFIED:20241230T154512Z
UID:10001472-1735549200-1735570800@stayinmcallen.com
SUMMARY:Operation Imagination Winter Camp
DESCRIPTION:Operation Imagination: Winter Camp is back!\nCamp includes engaging activities\, museum exhibit exploration\, outdoor recess and an afternoon snack (campers with dietary needs are welcomed to bring their own snacks). Campers must have a reusable water bottle. Campers must provide their own packed lunch or have lunch dropped off at 11:00 a.m. for lunch time. Camp runs from December 30 through January 3\, excluding Wednesday\, January 1\, when we will be closed in observance of New Year’s Day.\n$190 per Camp\n$150 for IMAS Members\n \n5% Sibling Discount Code: OISB2\nAll children must be in same family unit and fall within the camp week’s grade level. Improper use will result in cancellation.
URL:https://stayinmcallen.com/events/operation-imagination-winter-camp/
LOCATION:IMAS\, 101 W Nolana Ave\, McAllen\, TX\, United States
CATEGORIES:IMAS - International Museum of Art & Science,Youth Program
ATTACH;FMTTYPE=image/png:https://stayinmcallen.com/wp-content/uploads/2024/12/OI-Winter-Camps-2024_square-06JbXi.tmp_.png
GEO:26.238021;-98.212333
X-APPLE-STRUCTURED-LOCATION;VALUE=URI;X-ADDRESS=IMAS 101 W Nolana Ave McAllen TX United States;X-APPLE-RADIUS=500;X-TITLE=101 W Nolana Ave:geo:-98.212333,26.238021
END:VEVENT
BEGIN:VEVENT
DTSTART;TZID=America/Chicago:20241230T090000
DTEND;TZID=America/Chicago:20241230T150000
DTSTAMP:20260420T225551
CREATED:20241204T123120Z
LAST-MODIFIED:20241204T123120Z
UID:10001476-1735549200-1735570800@stayinmcallen.com
SUMMARY:Operation Imagination Winter Camp
DESCRIPTION:Operation Imagination: Winter Camp is back!\nCamp includes engaging activities\, museum exhibit exploration\, outdoor recess and an afternoon snack (campers with dietary needs are welcomed to bring their own snacks). Campers must have a reusable water bottle. Campers must provide their own packed lunch or have lunch dropped off at 11:00 a.m. for lunch time. Camp runs from December 30 through January 3\, excluding Wednesday\, January 1\, when we will be closed in observance of New Year’s Day.\n$190 per Camp\n$150 for IMAS Members\n \n5% Sibling Discount Code: OISB2\nAll children must be in same family unit and fall within the camp week’s grade level. Improper use will result in cancellation.
URL:https://stayinmcallen.com/events/operation-imagination-winter-camp-3/
LOCATION:IMAS\, 101 W Nolana Ave\, McAllen\, TX\, United States
CATEGORIES:IMAS - International Museum of Art & Science,Youth Program
ATTACH;FMTTYPE=image/png:https://stayinmcallen.com/wp-content/uploads/2024/12/OI-Winter-Camps-2024_square-X6AEMt.tmp_.png
GEO:26.238021;-98.212333
X-APPLE-STRUCTURED-LOCATION;VALUE=URI;X-ADDRESS=IMAS 101 W Nolana Ave McAllen TX United States;X-APPLE-RADIUS=500;X-TITLE=101 W Nolana Ave:geo:-98.212333,26.238021
END:VEVENT
BEGIN:VEVENT
DTSTART;TZID=America/Chicago:20241230T130000
DTEND;TZID=America/Chicago:20241230T130000
DTSTAMP:20260420T225551
CREATED:20240916T035139Z
LAST-MODIFIED:20241229T234513Z
UID:10001192-1735563600-1735563600@stayinmcallen.com
SUMMARY:Come From Away
DESCRIPTION:Broadway’s COME FROM AWAY is a Best Musical winner all across North America!\nThis New York Times Critics’ Pick takes you into the heart of the remarkable true story of 7\,000 stranded passengers and the small town in Newfoundland that welcomed them. Cultures clashed and nerves ran high\, but uneasiness turned into trust\, music soared into the night\, and gratitude grew into enduring friendships.\nDon’t miss this breathtaking new musical written by Tony® nominees Irene Sankoff and David Hein\, directed by Tony-winning Best Director\, Christopher Ashley and musical staging by Tony-nominee Kelly Devine. The tour is directed by Daniel Goldstein with musical staging by Richard J. Hinds\, based on the original Broadway direction and choreography.\nAge recommendation: Recommended for ages 10+.\nRun time: Approx. 100 minutes.\nSubscribe to Season Pass\nLearn More About Group Sales\nTickets On Sale Now
URL:https://stayinmcallen.com/events/come-from-away-3/
LOCATION:McAllen Performing Arts Center\, 99 Center Ln\, McAllen\, TX\, United States
CATEGORIES:Performance,Ticketed
ATTACH;FMTTYPE=image/jpeg:https://stayinmcallen.com/wp-content/uploads/2024/07/CFA_LOGO_CJ_ARTWORK_v5-mCJipw.tmp_.jpg
GEO:26.19785;-98.277591
X-APPLE-STRUCTURED-LOCATION;VALUE=URI;X-ADDRESS=McAllen Performing Arts Center 99 Center Ln McAllen TX United States;X-APPLE-RADIUS=500;X-TITLE=99 Center Ln:geo:-98.277591,26.19785
END:VEVENT
BEGIN:VEVENT
DTSTART;TZID=America/Chicago:20241230T133000
DTEND;TZID=America/Chicago:20241230T150000
DTSTAMP:20260420T225551
CREATED:20240729T024629Z
LAST-MODIFIED:20240909T033553Z
UID:10000963-1735565400-1735570800@stayinmcallen.com
SUMMARY:Come From Away
DESCRIPTION:Come From Away\nGet tickets now at https://www.ticketmaster.com/event/3A005F04127F75CA
URL:https://stayinmcallen.com/events/come-from-away/
LOCATION:McAllen Performing Arts Center\, 99 Center Ln\, McAllen\, TX\, United States
CATEGORIES:Performance,Performing Arts Center,Ticketed
ATTACH;FMTTYPE=image/jpeg:https://stayinmcallen.com/wp-content/uploads/2024/07/Come-From-Away-TRdj9Q.tmp_.jpg
GEO:26.19785;-98.277591
X-APPLE-STRUCTURED-LOCATION;VALUE=URI;X-ADDRESS=McAllen Performing Arts Center 99 Center Ln McAllen TX United States;X-APPLE-RADIUS=500;X-TITLE=99 Center Ln:geo:-98.277591,26.19785
END:VEVENT
BEGIN:VEVENT
DTSTART;TZID=America/Chicago:20241230T140000
DTEND;TZID=America/Chicago:20241230T140000
DTSTAMP:20260420T225551
CREATED:20240729T024636Z
LAST-MODIFIED:20240909T033556Z
UID:10000964-1735567200-1735567200@stayinmcallen.com
SUMMARY:Come From Away
DESCRIPTION:Broadway’s COME FROM AWAY is a Best Musical winner all across North America!\nThis New York Times Critics’ Pick takes you into the heart of the remarkable true story of 7\,000 stranded passengers and the small town in Newfoundland that welcomed them. Cultures clashed and nerves ran high\, but uneasiness turned into trust\, music soared into the night\, and gratitude grew into enduring friendships.\nDon’t miss this breathtaking new musical written by Tony® nominees Irene Sankoff and David Hein\, directed by Tony-winning Best Director\, Christopher Ashley and musical staging by Tony-nominee Kelly Devine. The tour is directed by Daniel Goldstein with musical staging by Richard J. Hinds\, based on the original Broadway direction and choreography.\nAge recommendation: Recommended for ages 10+.\nRun time: Approx. 100 minutes.\nSubscribe to Season Pass\nIndividual Tickets Coming Soon
URL:https://stayinmcallen.com/events/come-from-away-2/
LOCATION:McAllen Performing Arts Center\, 99 Center Ln\, McAllen\, TX\, United States
CATEGORIES:Performance,Ticketed
ATTACH;FMTTYPE=image/jpeg:https://stayinmcallen.com/wp-content/uploads/2024/07/CFA_LOGO_CJ_ARTWORK_v5-mCJipw.tmp_.jpg
GEO:26.19785;-98.277591
X-APPLE-STRUCTURED-LOCATION;VALUE=URI;X-ADDRESS=McAllen Performing Arts Center 99 Center Ln McAllen TX United States;X-APPLE-RADIUS=500;X-TITLE=99 Center Ln:geo:-98.277591,26.19785
END:VEVENT
BEGIN:VEVENT
DTSTART;TZID=America/Chicago:20241230T183000
DTEND;TZID=America/Chicago:20241230T203000
DTSTAMP:20260420T225551
CREATED:20240906T143027Z
LAST-MODIFIED:20241227T194522Z
UID:10001181-1735583400-1735590600@stayinmcallen.com
SUMMARY:UTRGV Men's Basketball vs Dallas Christian
DESCRIPTION:UTRGV Men’s Basketball vs Dallas Christian\nTV: ESPN+ (USA) | Southland International\nStreaming Video: http://plus.espn.com/\nTickets: https://www.showpass.com/o/university-of-texas-rio-grande-valley-utrgv/
URL:https://stayinmcallen.com/events/utrgv-mens-basketball-vs-dallas-christian/
LOCATION:Edinburg\, TX\, UTRGV Fieldhouse
CATEGORIES:UTRGV Athletics
END:VEVENT
BEGIN:VEVENT
DTSTART;TZID=America/Chicago:20241230T190000
DTEND;TZID=America/Chicago:20241230T190000
DTSTAMP:20260420T225551
CREATED:20241217T063134Z
LAST-MODIFIED:20241230T080013Z
UID:10001622-1735585200-1735585200@stayinmcallen.com
SUMMARY:Come Far Away
DESCRIPTION:
URL:https://stayinmcallen.com/events/come-far-away/
LOCATION:TX
CATEGORIES:Performing Arts
ATTACH;FMTTYPE=image/jpeg:https://stayinmcallen.com/wp-content/uploads/2024/12/comefromaway-l2WRKE.tmp_.jpg
END:VEVENT
BEGIN:VEVENT
DTSTART;TZID=America/Chicago:20241230T190000
DTEND;TZID=America/Chicago:20241230T190000
DTSTAMP:20260420T225551
CREATED:20241217T063140Z
LAST-MODIFIED:20241217T063140Z
UID:10001628-1735585200-1735585200@stayinmcallen.com
SUMMARY:Come Far Away
DESCRIPTION:
URL:https://stayinmcallen.com/events/come-far-away-2/
LOCATION:TX
CATEGORIES:Performing Arts
ATTACH;FMTTYPE=image/jpeg:https://stayinmcallen.com/wp-content/uploads/2024/12/comefromaway-l2WRKE.tmp_.jpg
END:VEVENT
BEGIN:VEVENT
DTSTART;TZID=America/Chicago:20241230T210000
DTEND;TZID=America/Chicago:20241230T233000
DTSTAMP:20260420T225551
CREATED:20241228T074533Z
LAST-MODIFIED:20241230T080020Z
UID:10001696-1735592400-1735601400@stayinmcallen.com
SUMMARY:Flying Mic Night
DESCRIPTION:Join us every Wednesday for Flying Mic Night\, where all art forms are celebrated! Whether you’re a musician\, poet\, comedian\, magician\, or any other performer\, our stage is open to you. With professional lighting and sound by Indigo Sound Co.\, you’ll have everything you need for an amazing performance. Sign-ups start at 8 PM\, and the show kicks off at 9 PM\, running until we close at 2 AM. Welcoming everyone from first-time performers to seasoned pros\, experience the best weekday crowd in town at Flying Mic Night!
URL:https://stayinmcallen.com/events/flying-mic-night-42/
LOCATION:The Flying Walrus\, 204 S 17th St\, McAllen\, TX\, United States
CATEGORIES:Live Music,Open Mic
ATTACH;FMTTYPE=image/jpeg:https://stayinmcallen.com/wp-content/uploads/2024/09/flying-walrus-open-mic-H2ZKCM.tmp_.jpg
ORGANIZER;CN="Indigo Sound Co.":MAILTO:info@indigosound.co
GEO:26.202828;-98.238122
X-APPLE-STRUCTURED-LOCATION;VALUE=URI;X-ADDRESS=The Flying Walrus 204 S 17th St McAllen TX United States;X-APPLE-RADIUS=500;X-TITLE=204 S 17th St:geo:-98.238122,26.202828
END:VEVENT
BEGIN:VEVENT
DTSTART;TZID=America/Chicago:20241230T210000
DTEND;TZID=America/Chicago:20241230T233000
DTSTAMP:20260420T225551
CREATED:20241228T074535Z
LAST-MODIFIED:20241228T074535Z
UID:10001697-1735592400-1735601400@stayinmcallen.com
SUMMARY:Flying Mic Night
DESCRIPTION:Join us every Wednesday for Flying Mic Night\, where all art forms are celebrated! Whether you’re a musician\, poet\, comedian\, magician\, or any other performer\, our stage is open to you. With professional lighting and sound by Indigo Sound Co.\, you’ll have everything you need for an amazing performance. Sign-ups start at 8 PM\, and the show kicks off at 9 PM\, running until we close at 2 AM. Welcoming everyone from first-time performers to seasoned pros\, experience the best weekday crowd in town at Flying Mic Night!
URL:https://stayinmcallen.com/events/flying-mic-night-43/
LOCATION:The Flying Walrus\, 204 S 17th St\, McAllen\, TX\, United States
CATEGORIES:Live Music,Open Mic
ATTACH;FMTTYPE=image/jpeg:https://stayinmcallen.com/wp-content/uploads/2024/09/flying-walrus-open-mic-H2ZKCM.tmp_.jpg
ORGANIZER;CN="Indigo Sound Co.":MAILTO:info@indigosound.co
GEO:26.202828;-98.238122
X-APPLE-STRUCTURED-LOCATION;VALUE=URI;X-ADDRESS=The Flying Walrus 204 S 17th St McAllen TX United States;X-APPLE-RADIUS=500;X-TITLE=204 S 17th St:geo:-98.238122,26.202828
END:VEVENT
END:VCALENDAR