BEGIN:VCALENDAR
VERSION:2.0
PRODID:-//Stayinmcallen - ECPv6.15.20//NONSGML v1.0//EN
CALSCALE:GREGORIAN
METHOD:PUBLISH
X-ORIGINAL-URL:https://stayinmcallen.com
X-WR-CALDESC:Events for Stayinmcallen
REFRESH-INTERVAL;VALUE=DURATION:PT1H
X-Robots-Tag:noindex
X-PUBLISHED-TTL:PT1H
BEGIN:VTIMEZONE
TZID:America/Chicago
BEGIN:DAYLIGHT
TZOFFSETFROM:-0600
TZOFFSETTO:-0500
TZNAME:CDT
DTSTART:20240310T080000
END:DAYLIGHT
BEGIN:STANDARD
TZOFFSETFROM:-0500
TZOFFSETTO:-0600
TZNAME:CST
DTSTART:20241103T070000
END:STANDARD
BEGIN:DAYLIGHT
TZOFFSETFROM:-0600
TZOFFSETTO:-0500
TZNAME:CDT
DTSTART:20250309T080000
END:DAYLIGHT
BEGIN:STANDARD
TZOFFSETFROM:-0500
TZOFFSETTO:-0600
TZNAME:CST
DTSTART:20251102T070000
END:STANDARD
BEGIN:DAYLIGHT
TZOFFSETFROM:-0600
TZOFFSETTO:-0500
TZNAME:CDT
DTSTART:20260308T080000
END:DAYLIGHT
BEGIN:STANDARD
TZOFFSETFROM:-0500
TZOFFSETTO:-0600
TZNAME:CST
DTSTART:20261101T070000
END:STANDARD
END:VTIMEZONE
BEGIN:VEVENT
DTSTART;TZID=America/Chicago:20250606T160000
DTEND;TZID=America/Chicago:20250608T180000
DTSTAMP:20260420T151421
CREATED:20250606T150315Z
LAST-MODIFIED:20250608T153323Z
UID:10002555-1749225600-1749405600@stayinmcallen.com
SUMMARY:Barnes & Noble Book Fair & Adoption Event with PVAS
DESCRIPTION:Get Ready For The Barnes & Noble Book Fair & Adoption Event!\nJune 6th -8th at 4005 N. 10th st\, McAllen\, TX\nRelive your childhood book fair memories with this event\, while proceeds go towards our life-saving mission!Celebrate with an adoption event Saturday\,June 7th from 4-6pm!See you there!\nIn-Store Purchase Guidelines• Supporters\, please mention the PVAS Bookfair at the time of purchase.• Only eligible purchases made during the agreed-upon Bookfair date(s) will count towards the Bookfair.• Barnes & Noble Members may use their Membership discount on all eligible purchases during the Bookfair.• Certain offers\, promotions\, or discounts may not be offered during the Bookfair.\nThe following transactions are not included in the in-store Bookfair totals:• The purchase of gift cards• Shipping or handling fees; or Barnes & Noble Membership fees (new or renewal)• The purchase of textbooks\, magazine subscriptions\, video games\, software and digital content (eBooks).• Purchases made at Cafés owned or operated by Starbucks• Other items Barnes & Noble may exclude from time to time in its sole discretion.
URL:https://stayinmcallen.com/events/barnes-noble-book-fair-adoption-event-with-pvas/
LOCATION:Texas
CATEGORIES:Shopping
ATTACH;FMTTYPE=image/webp:https://stayinmcallen.com/wp-content/uploads/2025/06/June-6th-8th-PVAS-Barnes-Noble-g8a7gS.webp
END:VEVENT
BEGIN:VEVENT
DTSTART;VALUE=DATE:20250606
DTEND;VALUE=DATE:20250608
DTSTAMP:20260420T151421
CREATED:20241122T181248Z
LAST-MODIFIED:20250524T020436Z
UID:10001428-1749236400-1749322799@stayinmcallen.com
SUMMARY:UTRGV Baseball vs NCAA Super Regionals Game 2
DESCRIPTION:UTRGV Baseball vs NCAA Super Regionals Game 2\nTV: ESPN Family of Networks\nStreaming Video: https://plus.espn.com/
URL:https://stayinmcallen.com/events/utrgv-baseball-vs-ncaa-super-regionals-game-2-2/
LOCATION:Campus Sites
CATEGORIES:UTRGV Athletics
END:VEVENT
BEGIN:VEVENT
DTSTART;TZID=America/Chicago:20250607T100000
DTEND;TZID=America/Chicago:20250607T130000
DTSTAMP:20260420T151421
CREATED:20250531T021844Z
LAST-MODIFIED:20250607T023319Z
UID:10002531-1749290400-1749301200@stayinmcallen.com
SUMMARY:UTRGV Camps  Track & Field Youth Clinic (K-12)
DESCRIPTION:UTRGV Camps  Track & Field Youth Clinic (K-12)
URL:https://stayinmcallen.com/events/utrgv-camps-track-field-youth-clinic-k-12/
LOCATION:Edinburg\, TX\, UTRGV Soccer and Track & Field Complex
CATEGORIES:UTRGV Athletics
END:VEVENT
BEGIN:VEVENT
DTSTART;TZID=America/Chicago:20250607T100000
DTEND;TZID=America/Chicago:20250607T130000
DTSTAMP:20260420T151421
CREATED:20250531T021847Z
LAST-MODIFIED:20250531T021847Z
UID:10002534-1749290400-1749301200@stayinmcallen.com
SUMMARY:UTRGV Camps  Track & Field Youth Clinic (K-12)
DESCRIPTION:UTRGV Camps  Track & Field Youth Clinic (K-12)
URL:https://stayinmcallen.com/events/utrgv-camps-track-field-youth-clinic-k-12-2/
LOCATION:Edinburg\, TX
CATEGORIES:UTRGV Athletics
END:VEVENT
BEGIN:VEVENT
DTSTART;TZID=America/Chicago:20250607T110000
DTEND;TZID=America/Chicago:20250607T130000
DTSTAMP:20260420T151421
CREATED:20250607T151823Z
LAST-MODIFIED:20250607T151823Z
UID:10002585-1749294000-1749301200@stayinmcallen.com
SUMMARY:Summer Reading Challenge Kick-off Party
DESCRIPTION:You’re invited to MPL’s Summer Reading Challenge Kick-off Party!\nCome by for a fun-filled afternoon with activities\, FREE hotdogs and giveaways while supplies last.\nCommunity partners will be on-site with activities for the whole family\, and Marty the Library Cat will make a special appearance. While you’re here\, register for the Summer Reading Challenge and get ready for six weeks of fun\, reading\, and prizes!\nDetails on our website at https://mcallenlibrary.net/events/src.
URL:https://stayinmcallen.com/events/summer-reading-challenge-kick-off-party/
LOCATION:McAllen Public Library\, 4001 N 23rd St\, McAllen\, TX\, United States
CATEGORIES:Family Fun
ATTACH;FMTTYPE=image/webp:https://stayinmcallen.com/wp-content/uploads/2025/06/SRC-Kick-Off-Teaser-MAZGKW.webp
ORGANIZER;CN="McAllen Public Library":MAILTO:ask@mcallen.libanswers.com
GEO:26.240605;-98.239376
X-APPLE-STRUCTURED-LOCATION;VALUE=URI;X-ADDRESS=McAllen Public Library 4001 N 23rd St McAllen TX United States;X-APPLE-RADIUS=500;X-TITLE=4001 N 23rd St:geo:-98.239376,26.240605
END:VEVENT
BEGIN:VEVENT
DTSTART;TZID=America/Chicago:20250607T160000
DTEND;TZID=America/Chicago:20250607T190000
DTSTAMP:20260420T151421
CREATED:20250607T151832Z
LAST-MODIFIED:20250607T151832Z
UID:10002586-1749312000-1749322800@stayinmcallen.com
SUMMARY:Wine & Grapes Painting Class at Dora's Cozy Art Studio
DESCRIPTION:Come paint a fun and easy wine and grapes acrylic painting with your family and or friends. Children over 8+ are welcome. Bring your own snacks and beverages and enjoy while you paint.\nThe class is 3 hours long and the art instructor is bilingual. There is limited seating up to 7 people\, must call or text (956)627-9848 to reserve your spot. If arriving after 5pm please call to be let in\, doors lock automatically at 5pm.\nDora’s Cozy Art Studio is located on 1333 E Jasmine Ave Suite 107\, McAllen\, TX 78501. Can follow @weblightdreams for more info.
URL:https://stayinmcallen.com/events/wine-grapes-painting-class-at-doras-cozy-art-studio/
LOCATION:Dora’s Cozy Art Studio\, 1333 E Jasmine Ave Suite 107\, McAllen\, 78501
CATEGORIES:Family Fun,Educational Activities
ATTACH;FMTTYPE=image/webp:https://stayinmcallen.com/wp-content/uploads/2025/06/Wine-And-Grapes-Painting-rotated-0bXiIH.webp
ORGANIZER;CN="@weblightdreams":MAILTO:weblightdreams@gmail.com
END:VEVENT
BEGIN:VEVENT
DTSTART;TZID=America/Chicago:20250607T160000
DTEND;TZID=America/Chicago:20250609T180000
DTSTAMP:20260420T151421
CREATED:20250607T151840Z
LAST-MODIFIED:20250609T154821Z
UID:10002587-1749312000-1749492000@stayinmcallen.com
SUMMARY:Barnes & Noble Book Fair & Adoption Event with PVAS
DESCRIPTION:Get Ready For The Barnes & Noble Book Fair & Adoption Event!\nJune 6th -8th at 4005 N. 10th st\, McAllen\, TX\nRelive your childhood book fair memories with this event\, while proceeds go towards our life-saving mission!Celebrate with an adoption event Saturday\,June 7th from 4-6pm!See you there!\nIn-Store Purchase Guidelines• Supporters\, please mention the PVAS Bookfair at the time of purchase.• Only eligible purchases made during the agreed-upon Bookfair date(s) will count towards the Bookfair.• Barnes & Noble Members may use their Membership discount on all eligible purchases during the Bookfair.• Certain offers\, promotions\, or discounts may not be offered during the Bookfair.\nThe following transactions are not included in the in-store Bookfair totals:• The purchase of gift cards• Shipping or handling fees; or Barnes & Noble Membership fees (new or renewal)• The purchase of textbooks\, magazine subscriptions\, video games\, software and digital content (eBooks).• Purchases made at Cafés owned or operated by Starbucks• Other items Barnes & Noble may exclude from time to time in its sole discretion.
URL:https://stayinmcallen.com/events/barnes-noble-book-fair-adoption-event-with-pvas-2/
LOCATION:Texas
CATEGORIES:Shopping
ATTACH;FMTTYPE=image/webp:https://stayinmcallen.com/wp-content/uploads/2025/06/June-6th-8th-PVAS-Barnes-Noble-g8a7gS.webp
END:VEVENT
BEGIN:VEVENT
DTSTART;TZID=America/Chicago:20250607T170000
DTEND;TZID=America/Chicago:20250607T210000
DTSTAMP:20260420T151421
CREATED:20250607T151844Z
LAST-MODIFIED:20250607T151844Z
UID:10002588-1749315600-1749330000@stayinmcallen.com
SUMMARY:Vendor Market at Ace's BBQ in McAllen
DESCRIPTION:🏷️ Together We Thrive Market\n📅 Date: Saturday\, June 7th\n⏰ Time: 5pm – 9pm\n📍 Location: Ace’s BBQ | 111. E. Nolana Ave\, McAllen\, TX
URL:https://stayinmcallen.com/events/vendor-market-at-aces-bbq-in-mcallen/
LOCATION:Ace’s BBQ\, 111. E. Nolana Ave\, McAllen\, 78504
CATEGORIES:Shopping
ATTACH;FMTTYPE=image/webp:https://stayinmcallen.com/wp-content/uploads/2025/06/June-7th-Thrive-Vendor-Market-tSyKbr.webp
END:VEVENT
BEGIN:VEVENT
DTSTART;VALUE=DATE:20250607
DTEND;VALUE=DATE:20250609
DTSTAMP:20260420T151421
CREATED:20241122T181254Z
LAST-MODIFIED:20250524T020440Z
UID:10001429-1749322800-1749409199@stayinmcallen.com
SUMMARY:UTRGV Baseball vs NCAA Super Regionals Game 3
DESCRIPTION:UTRGV Baseball vs NCAA Super Regionals Game 3\nTV: ESPN Family of Networks\nStreaming Video: https://plus.espn.com/
URL:https://stayinmcallen.com/events/utrgv-baseball-vs-ncaa-super-regionals-game-3/
LOCATION:Campus Sites
CATEGORIES:UTRGV Athletics
END:VEVENT
BEGIN:VEVENT
DTSTART;TZID=America/Chicago:20250607T200000
DTEND;TZID=America/Chicago:20250607T230000
DTSTAMP:20260420T151421
CREATED:20250607T151852Z
LAST-MODIFIED:20250607T151852Z
UID:10002589-1749326400-1749337200@stayinmcallen.com
SUMMARY:RGV Speed Dating at Roosevelt's at 7
DESCRIPTION:What’s a Singles Mixer?\nA singles mixer is a fun\, casual social event designed for adults 21 and over to connect\, mingle\, and meet new people in a relaxed environment. This is not a speed dating event—there’s no pressure\, no structured rotations—just good vibes\, great music\, and the chance to make genuine connections.\nWhether you’re looking for friendship\, romance\, or just want to meet other amazing RGV singles\, this event is open to all sexual orientations and identities. Come solo or bring a single friend—there’ll be games\, a DJ\, and plenty of opportunities to break the ice and have a good time!
URL:https://stayinmcallen.com/events/rgv-speed-dating-at-roosevelts-at-7/
LOCATION:Roosevelt’s at 7\, 821 N Main St\, McAllen\, 78501
CATEGORIES:Social Meetups
ATTACH;FMTTYPE=image/webp:https://stayinmcallen.com/wp-content/uploads/2025/06/June-7th-RGV-Speed-Dating-at-Roosevelts-at-7-mH2GTR.webp
ORGANIZER;CN="RGV Speed Dating":MAILTO:Speedrgvdating@gmail.com
END:VEVENT
BEGIN:VEVENT
DTSTART;TZID=America/Chicago:20250607T210000
DTEND;TZID=America/Chicago:20250607T235900
DTSTAMP:20260420T151421
CREATED:20250607T151858Z
LAST-MODIFIED:20250607T151858Z
UID:10002590-1749330000-1749340740@stayinmcallen.com
SUMMARY:Live Music at Flying Walrus
DESCRIPTION:This SATURDAY The Flying Walrus and The Emo Knights proudly present LOS SKARNALES!!!\n– Doors open at 8pm\n– Come early for Felipe Galvan Pacheco Boogie Sound System at 9pm!\n– @los_skarnales 10pm till Midnight!\n– @theemoknights Midnight till Close!\nLights and Sound courtesy @indigosoundco\nDoors open at 8pm. Show starts at 9pm. $10 at the door. 18+ Welcome. Sorry no extreme minors without parent or guardian.
URL:https://stayinmcallen.com/events/live-music-at-flying-walrus/
LOCATION:The Flying Walrus\, 204 S 17th St\, McAllen\, TX\, United States
CATEGORIES:Live Music
ATTACH;FMTTYPE=image/webp:https://stayinmcallen.com/wp-content/uploads/2025/06/6.7-Live-Music-by-Los-Skarnales-at-Flying-Walrus-Anv2l9.webp
GEO:26.202828;-98.238122
X-APPLE-STRUCTURED-LOCATION;VALUE=URI;X-ADDRESS=The Flying Walrus 204 S 17th St McAllen TX United States;X-APPLE-RADIUS=500;X-TITLE=204 S 17th St:geo:-98.238122,26.202828
END:VEVENT
END:VCALENDAR