BEGIN:VCALENDAR
VERSION:2.0
PRODID:-//Stayinmcallen - ECPv6.15.20//NONSGML v1.0//EN
CALSCALE:GREGORIAN
METHOD:PUBLISH
X-ORIGINAL-URL:https://stayinmcallen.com
X-WR-CALDESC:Events for Stayinmcallen
REFRESH-INTERVAL;VALUE=DURATION:PT1H
X-Robots-Tag:noindex
X-PUBLISHED-TTL:PT1H
BEGIN:VTIMEZONE
TZID:America/Chicago
BEGIN:DAYLIGHT
TZOFFSETFROM:-0600
TZOFFSETTO:-0500
TZNAME:CDT
DTSTART:20240310T080000
END:DAYLIGHT
BEGIN:STANDARD
TZOFFSETFROM:-0500
TZOFFSETTO:-0600
TZNAME:CST
DTSTART:20241103T070000
END:STANDARD
BEGIN:DAYLIGHT
TZOFFSETFROM:-0600
TZOFFSETTO:-0500
TZNAME:CDT
DTSTART:20250309T080000
END:DAYLIGHT
BEGIN:STANDARD
TZOFFSETFROM:-0500
TZOFFSETTO:-0600
TZNAME:CST
DTSTART:20251102T070000
END:STANDARD
BEGIN:DAYLIGHT
TZOFFSETFROM:-0600
TZOFFSETTO:-0500
TZNAME:CDT
DTSTART:20260308T080000
END:DAYLIGHT
BEGIN:STANDARD
TZOFFSETFROM:-0500
TZOFFSETTO:-0600
TZNAME:CST
DTSTART:20261101T070000
END:STANDARD
END:VTIMEZONE
BEGIN:VEVENT
DTSTART;TZID=America/Chicago:20250828T100000
DTEND;TZID=America/Chicago:20250828T143000
DTSTAMP:20260425T212334
CREATED:20250812T132136Z
LAST-MODIFIED:20250828T153402Z
UID:10002938-1756375200-1756391400@stayinmcallen.com
SUMMARY:Community Blood Drive - with Vitalant at the McAllen Library
DESCRIPTION:Give the gift of life. Join us in supporting those in need through blood donations! Your donation can help save lives and make a lasting impact.\nWalk-ins welcome\, or sign up using the QR Code.\nID Required.
URL:https://stayinmcallen.com/events/community-blood-drive-with-vitalant-at-the-mcallen-library/
LOCATION:McAllen Public Library\, 4001 N 23rd St\, McAllen\, TX\, United States
CATEGORIES:Health and Wellness
ATTACH;FMTTYPE=image/webp:https://stayinmcallen.com/wp-content/uploads/2025/08/Events-Library-Aug-28-sidN81.webp
ORGANIZER;CN="McAllen Public Library":MAILTO:ask@mcallen.libanswers.com
GEO:26.240605;-98.239376
X-APPLE-STRUCTURED-LOCATION;VALUE=URI;X-ADDRESS=McAllen Public Library 4001 N 23rd St McAllen TX United States;X-APPLE-RADIUS=500;X-TITLE=4001 N 23rd St:geo:-98.239376,26.240605
END:VEVENT
BEGIN:VEVENT
DTSTART;TZID=America/Chicago:20250828T180000
DTEND;TZID=America/Chicago:20250828T190000
DTSTAMP:20260425T212334
CREATED:20250809T125132Z
LAST-MODIFIED:20250812T132144Z
UID:10002929-1756404000-1756407600@stayinmcallen.com
SUMMARY:FALL SPEAKER SERIES at Quinta Mazatlan
DESCRIPTION:Learn something new every week with our speaker series! Experience the chance to hear about South Texas lizards and the different Bat species that call the RGV their home. Our Thursday speaker series also offers the chance to connect with nature with a relational therapy guide!\nAugust Lineup:\n8/14: Lizard talk with Angela Rojas\n8/21: An Evening of Forest Bathing with Taylor Zavala\n8/28: Bats in Palms with Josue Ayala\nWhat to Expect:\n🌿Nature based discussions with insight on native species in the Rio Grande Valley\n🌎Education on lizards\, bats and more about nature and relational therapy\n👣A chance to stroll through the trails in search of lizards and discover the plants native to the RGV
URL:https://stayinmcallen.com/events/fall-speaker-series-at-quinta-mazatlan-3/
LOCATION:Quinta Mazatlan\, 600 Sunset Dr\, McAllen\, TX\, United States
ATTACH;FMTTYPE=image/webp:https://stayinmcallen.com/wp-content/uploads/2025/08/Events-Quinta-Aug-142128-ir6X0Y.webp
GEO:26.176444;-98.229808
X-APPLE-STRUCTURED-LOCATION;VALUE=URI;X-ADDRESS=Quinta Mazatlan 600 Sunset Dr McAllen TX United States;X-APPLE-RADIUS=500;X-TITLE=600 Sunset Dr:geo:-98.229808,26.176444
END:VEVENT
BEGIN:VEVENT
DTSTART;TZID=America/Chicago:20250828T180000
DTEND;TZID=America/Chicago:20250828T190000
DTSTAMP:20260425T212334
CREATED:20250812T132148Z
LAST-MODIFIED:20250812T132148Z
UID:10002939-1756404000-1756407600@stayinmcallen.com
SUMMARY:FALL SPEAKER SERIES at Quinta Mazatlan
DESCRIPTION:Learn something new every week with our speaker series! Experience the chance to hear about South Texas lizards and the different Bat species that call the RGV their home. Our Thursday speaker series also offers the chance to connect with nature with a relational therapy guide!\nAugust Lineup:\n8/14: Lizard talk with Angela Rojas\n8/21: An Evening of Forest Bathing with Taylor Zavala\n8/28: Bats in Palms with Josue Ayala\nWhat to Expect:\n🌿Nature based discussions with insight on native species in the Rio Grande Valley\n🌎Education on lizards\, bats and more about nature and relational therapy\n👣A chance to stroll through the trails in search of lizards and discover the plants native to the RGV
URL:https://stayinmcallen.com/events/fall-speaker-series-at-quinta-mazatlan-6/
LOCATION:Quinta Mazatlan\, 600 Sunset Dr\, McAllen\, TX\, United States
CATEGORIES:Parks and Outdoors
ATTACH;FMTTYPE=image/webp:https://stayinmcallen.com/wp-content/uploads/2025/08/Events-Quinta-Aug-142128-ir6X0Y.webp
GEO:26.176444;-98.229808
X-APPLE-STRUCTURED-LOCATION;VALUE=URI;X-ADDRESS=Quinta Mazatlan 600 Sunset Dr McAllen TX United States;X-APPLE-RADIUS=500;X-TITLE=600 Sunset Dr:geo:-98.229808,26.176444
END:VEVENT
BEGIN:VEVENT
DTSTART;TZID=America/Chicago:20250828T180000
DTEND;TZID=America/Chicago:20250828T190000
DTSTAMP:20260425T212334
CREATED:20250813T133537Z
LAST-MODIFIED:20250828T153409Z
UID:10002942-1756404000-1756407600@stayinmcallen.com
SUMMARY:FALL SPEAKER SERIES at Quinta Mazatlan
DESCRIPTION:Learn something new every week with our speaker series! Experience the chance to hear about South Texas lizards and the different Bat species that call the RGV their home. Our Thursday speaker series also offers the chance to connect with nature with a relational therapy guide!\nAugust Lineup:\n8/14: Lizard talk with Angela Rojas\n8/21: An Evening of Forest Bathing with Taylor Zavala\n8/28: Bats in Palms with Josue Ayala\nWhat to Expect:\n🌿Nature based discussions with insight on native species in the Rio Grande Valley\n🌎Education on lizards\, bats and more about nature and relational therapy\n👣A chance to stroll through the trails in search of lizards and discover the plants native to the RGV
URL:https://stayinmcallen.com/events/fall-speaker-series-at-quinta-mazatlan-9/
LOCATION:Quinta Mazatlan\, 600 Sunset Dr\, McAllen\, TX\, United States
ATTACH;FMTTYPE=image/webp:https://stayinmcallen.com/wp-content/uploads/2025/08/Events-Quinta-Aug-142128-ir6X0Y.webp
GEO:26.176444;-98.229808
X-APPLE-STRUCTURED-LOCATION;VALUE=URI;X-ADDRESS=Quinta Mazatlan 600 Sunset Dr McAllen TX United States;X-APPLE-RADIUS=500;X-TITLE=600 Sunset Dr:geo:-98.229808,26.176444
END:VEVENT
BEGIN:VEVENT
DTSTART;TZID=America/Chicago:20250828T183000
DTEND;TZID=America/Chicago:20250828T203000
DTSTAMP:20260425T212334
CREATED:20250726T034947Z
LAST-MODIFIED:20250823T051902Z
UID:10002770-1756405800-1756413000@stayinmcallen.com
SUMMARY:UTRGV Women's Soccer vs Louisiana
DESCRIPTION:UTRGV Women’s Soccer vs Louisiana\nTV: ESPN+ (USA) | Southland International\nStreaming Video: https://www.southland.org/espn
URL:https://stayinmcallen.com/events/utrgv-womens-soccer-vs-louisiana/
LOCATION:Edinburg\, Texas\, UTRGV Soccer and Track & Field Complex
CATEGORIES:UTRGV Athletics
END:VEVENT
BEGIN:VEVENT
DTSTART;TZID=America/Chicago:20250828T183000
DTEND;TZID=America/Chicago:20250828T203000
DTSTAMP:20260425T212334
CREATED:20250726T034951Z
LAST-MODIFIED:20250726T034951Z
UID:10002773-1756405800-1756413000@stayinmcallen.com
SUMMARY:UTRGV Women's Soccer vs Louisiana
DESCRIPTION:UTRGV Women’s Soccer vs Louisiana\nTV: TV: ESPN+ (USA) | Southland International\nStreaming Video: https://www.southland.org/espn
URL:https://stayinmcallen.com/events/utrgv-womens-soccer-vs-louisiana-2/
LOCATION:Edinburg\, Texas\, UTRGV Soccer and Track & Field Complex
CATEGORIES:UTRGV Athletics
END:VEVENT
END:VCALENDAR