BEGIN:VCALENDAR
VERSION:2.0
PRODID:-//Stayinmcallen - ECPv6.15.20//NONSGML v1.0//EN
CALSCALE:GREGORIAN
METHOD:PUBLISH
X-WR-CALNAME:Stayinmcallen
X-ORIGINAL-URL:https://stayinmcallen.com
X-WR-CALDESC:Events for Stayinmcallen
REFRESH-INTERVAL;VALUE=DURATION:PT1H
X-Robots-Tag:noindex
X-PUBLISHED-TTL:PT1H
BEGIN:VTIMEZONE
TZID:America/Chicago
BEGIN:DAYLIGHT
TZOFFSETFROM:-0600
TZOFFSETTO:-0500
TZNAME:CDT
DTSTART:20240310T080000
END:DAYLIGHT
BEGIN:STANDARD
TZOFFSETFROM:-0500
TZOFFSETTO:-0600
TZNAME:CST
DTSTART:20241103T070000
END:STANDARD
BEGIN:DAYLIGHT
TZOFFSETFROM:-0600
TZOFFSETTO:-0500
TZNAME:CDT
DTSTART:20250309T080000
END:DAYLIGHT
BEGIN:STANDARD
TZOFFSETFROM:-0500
TZOFFSETTO:-0600
TZNAME:CST
DTSTART:20251102T070000
END:STANDARD
BEGIN:DAYLIGHT
TZOFFSETFROM:-0600
TZOFFSETTO:-0500
TZNAME:CDT
DTSTART:20260308T080000
END:DAYLIGHT
BEGIN:STANDARD
TZOFFSETFROM:-0500
TZOFFSETTO:-0600
TZNAME:CST
DTSTART:20261101T070000
END:STANDARD
END:VTIMEZONE
BEGIN:VEVENT
DTSTART;VALUE=DATE:20251128
DTEND;VALUE=DATE:20251130
DTSTAMP:20260424T174831
CREATED:20250726T035626Z
LAST-MODIFIED:20251029T185432Z
UID:10002826-1764352800-1764439199@stayinmcallen.com
SUMMARY:UTRGV Men's Soccer vs Third Round
DESCRIPTION:UTRGV Men’s Soccer vs Third Round
URL:https://stayinmcallen.com/events/utrgv-mens-soccer-vs-third-round-3/
LOCATION:Campus Site
CATEGORIES:UTRGV Athletics
END:VEVENT
BEGIN:VEVENT
DTSTART;VALUE=DATE:20251128
DTEND;VALUE=DATE:20251130
DTSTAMP:20260424T174831
CREATED:20250726T035658Z
LAST-MODIFIED:20250726T035658Z
UID:10002835-1764352800-1764439199@stayinmcallen.com
SUMMARY:UTRGV Men's Soccer vs Third Round
DESCRIPTION:UTRGV Men’s Soccer vs Third Round
URL:https://stayinmcallen.com/events/utrgv-mens-soccer-vs-third-round-4/
LOCATION:Campus Site
CATEGORIES:UTRGV Athletics
END:VEVENT
BEGIN:VEVENT
DTSTART;TZID=America/Chicago:20251129T080000
DTEND;TZID=America/Chicago:20251129T140000
DTSTAMP:20260424T174831
CREATED:20251105T185430Z
LAST-MODIFIED:20251125T222936Z
UID:10003227-1764403200-1764424800@stayinmcallen.com
SUMMARY:Fireman's Park 3rd Annual Turkey Trot 5K
DESCRIPTION:Join us on November 29th for the 3rd Annual Turkey Trot 5K Run/Walk presented by CASA LIDIA Maternity House. All proceeds go to help young mothers.\n🦃 Custom Finisher Medal\n🦃 Event Shirt\n🦃 Event Bib\n🦃 Age Group Awards
URL:https://stayinmcallen.com/events/firemans-park-3rd-annual-turkey-trot-5k/
LOCATION:Fireman’s Park\, 201 N 1st St\, McAllen\, TX\, United States
CATEGORIES:City Events
ATTACH;FMTTYPE=image/webp:https://stayinmcallen.com/wp-content/uploads/2025/11/turkey-trot-9YzKKj.webp
GEO:26.20318;-98.219109
X-APPLE-STRUCTURED-LOCATION;VALUE=URI;X-ADDRESS=Fireman’s Park 201 N 1st St McAllen TX United States;X-APPLE-RADIUS=500;X-TITLE=201 N 1st St:geo:-98.219109,26.20318
END:VEVENT
BEGIN:VEVENT
DTSTART;TZID=America/Chicago:20251129T140000
DTEND;TZID=America/Chicago:20251129T140000
DTSTAMP:20260424T174831
CREATED:20250324T234937Z
LAST-MODIFIED:20251126T184140Z
UID:10002256-1764424800-1764424800@stayinmcallen.com
SUMMARY:Kevyn Contreras
DESCRIPTION:Kevyn Contreras in McAllen at the McAllen Performing Arts Center\nView More Events or Leave Us A Review
URL:https://stayinmcallen.com/events/kevyn-contreras/
LOCATION:McAllen Performing Arts Center\, 99 Center Ln\, McAllen\, TX\, United States
CATEGORIES:Performance,Performing Arts Center,Ticketed
ATTACH;FMTTYPE=image/webp:https://stayinmcallen.com/wp-content/uploads/2025/07/2-Flyer-Kevyn-2025-1200-x-1200-2-1U0I1n.webp
GEO:26.19785;-98.277591
X-APPLE-STRUCTURED-LOCATION;VALUE=URI;X-ADDRESS=McAllen Performing Arts Center 99 Center Ln McAllen TX United States;X-APPLE-RADIUS=500;X-TITLE=99 Center Ln:geo:-98.277591,26.19785
END:VEVENT
BEGIN:VEVENT
DTSTART;TZID=America/Chicago:20251129T190000
DTEND;TZID=America/Chicago:20251129T230000
DTSTAMP:20260424T174831
CREATED:20251105T185456Z
LAST-MODIFIED:20251125T222940Z
UID:10003228-1764442800-1764457200@stayinmcallen.com
SUMMARY:Sax in the City LIVE
DESCRIPTION:Come enjoy the food and drinks while you listen to your favorite jazz\, funk\, latin\, and pop tunes!\n 
URL:https://stayinmcallen.com/events/sax-in-the-city-live/
LOCATION:Roosevelt’s at 7\, 821 N Main St\, McAllen\, 78501
CATEGORIES:Live Music,City Events
ATTACH;FMTTYPE=image/webp:https://stayinmcallen.com/wp-content/uploads/2025/11/sax-in-the-city-RRfX7x.webp
END:VEVENT
BEGIN:VEVENT
DTSTART;TZID=America/Chicago:20251129T200000
DTEND;TZID=America/Chicago:20251129T200000
DTSTAMP:20260424T174831
CREATED:20251102T195027Z
LAST-MODIFIED:20251125T222944Z
UID:10003210-1764446400-1764446400@stayinmcallen.com
SUMMARY:Kevyn Contreras
DESCRIPTION:
URL:https://stayinmcallen.com/events/kevyn-contreras-2/
LOCATION:McAllen Performing Arts Center\, 99 Center Ln\, McAllen\, TX\, United States
CATEGORIES:Performing Arts
ATTACH;FMTTYPE=image/webp:https://stayinmcallen.com/wp-content/uploads/2025/11/2-Flyer-Kevyn-2025-1200-x-1200-2-sIZglK.webp
GEO:26.19785;-98.277591
X-APPLE-STRUCTURED-LOCATION;VALUE=URI;X-ADDRESS=McAllen Performing Arts Center 99 Center Ln McAllen TX United States;X-APPLE-RADIUS=500;X-TITLE=99 Center Ln:geo:-98.277591,26.19785
END:VEVENT
END:VCALENDAR