BEGIN:VCALENDAR
VERSION:2.0
PRODID:-//Stayinmcallen - ECPv6.15.20//NONSGML v1.0//EN
CALSCALE:GREGORIAN
METHOD:PUBLISH
X-WR-CALNAME:Stayinmcallen
X-ORIGINAL-URL:https://stayinmcallen.com
X-WR-CALDESC:Events for Stayinmcallen
REFRESH-INTERVAL;VALUE=DURATION:PT1H
X-Robots-Tag:noindex
X-PUBLISHED-TTL:PT1H
BEGIN:VTIMEZONE
TZID:America/Chicago
BEGIN:DAYLIGHT
TZOFFSETFROM:-0600
TZOFFSETTO:-0500
TZNAME:CDT
DTSTART:20250309T080000
END:DAYLIGHT
BEGIN:STANDARD
TZOFFSETFROM:-0500
TZOFFSETTO:-0600
TZNAME:CST
DTSTART:20251102T070000
END:STANDARD
BEGIN:DAYLIGHT
TZOFFSETFROM:-0600
TZOFFSETTO:-0500
TZNAME:CDT
DTSTART:20260308T080000
END:DAYLIGHT
BEGIN:STANDARD
TZOFFSETFROM:-0500
TZOFFSETTO:-0600
TZNAME:CST
DTSTART:20261101T070000
END:STANDARD
BEGIN:DAYLIGHT
TZOFFSETFROM:-0600
TZOFFSETTO:-0500
TZNAME:CDT
DTSTART:20270314T080000
END:DAYLIGHT
BEGIN:STANDARD
TZOFFSETFROM:-0500
TZOFFSETTO:-0600
TZNAME:CST
DTSTART:20271107T070000
END:STANDARD
END:VTIMEZONE
BEGIN:VEVENT
DTSTART;TZID=America/Chicago:20260307T120000
DTEND;TZID=America/Chicago:20260307T150000
DTSTAMP:20260424T064714
CREATED:20251217T032557Z
LAST-MODIFIED:20260303T164610Z
UID:10003350-1772884800-1772895600@stayinmcallen.com
SUMMARY:UTRGV Men's Tennis at Mount St. Mary's
DESCRIPTION:UTRGV Men’s Tennis at Mount St. Mary’s
URL:https://stayinmcallen.com/events/utrgv-mens-tennis-at-mount-st-marys/
LOCATION:Emmitsburg\, MD
CATEGORIES:UTRGV Athletics
END:VEVENT
BEGIN:VEVENT
DTSTART;TZID=America/Chicago:20260307T140000
DTEND;TZID=America/Chicago:20260307T140000
DTSTAMP:20260424T064714
CREATED:20251225T005242Z
LAST-MODIFIED:20260306T112741Z
UID:10003375-1772892000-1772892000@stayinmcallen.com
SUMMARY:Elías Medina en Concierto | Tour 2026 en McAllen Performing Arts Center
DESCRIPTION:Elías Medina en Concierto | Tour 2026 en McAllen\nCompra Ya\nEl nuevo clásico de la música mexicana llega a McAllen.\nElías Medina regresa al escenario con su esperado Tour 2026\, una noche que promete emociones intensas\, grandes interpretaciones y canciones que han marcado a generaciones. Reconocido por su potente voz\, carisma y una trayectoria que conecta la tradición con lo contemporáneo\, Elías Medina se ha consolidado como una de las figuras más destacadas de la música mexicana actual.\nEste concierto en el McAllen Performing Arts Center ofrecerá una experiencia única\, con una producción de alto nivel y un repertorio que celebra lo mejor de su carrera\, junto con nuevas propuestas que confirman por qué su música se ha convertido en un nuevo clásico.\n📅 Sábado 7 de marzo📍 McAllen Performing Arts Center
URL:https://stayinmcallen.com/events/elias-medina-en-concierto-tour-2026-en-mcallen/
LOCATION:McAllen Performing Arts Center\, 99 Center Ln\, McAllen\, TX\, United States
CATEGORIES:Performance,Performing Arts Center,Ticketed,Concert
ATTACH;FMTTYPE=image/webp:https://stayinmcallen.com/wp-content/uploads/2025/12/McAllen-Concepto-1-_1080x1350-3-1-uikfVf.webp
GEO:26.19785;-98.277591
X-APPLE-STRUCTURED-LOCATION;VALUE=URI;X-ADDRESS=McAllen Performing Arts Center 99 Center Ln McAllen TX United States;X-APPLE-RADIUS=500;X-TITLE=99 Center Ln:geo:-98.277591,26.19785
END:VEVENT
BEGIN:VEVENT
DTSTART;TZID=America/Chicago:20260307T140000
DTEND;TZID=America/Chicago:20260307T160000
DTSTAMP:20260424T064714
CREATED:20250910T014952Z
LAST-MODIFIED:20260306T152733Z
UID:10003125-1772892000-1772899200@stayinmcallen.com
SUMMARY:Youth Workshop - Art in Motion: Colorful Art Bots
DESCRIPTION:Youth Workshop\nArt in Motion: Colorful Art Bots\nSaturday\, March 7\, 2026\n2:00 p.m. – 4:00 p.m.\nGet the creative gears in motion with this hands-on workshop that infuses both art and science. Work with markers\, motors and wires to create a simple circuit that gets your art into action. Explore how distribution of weight can help create lines and color as you design and engineer the best art bot. Create new works of art and let the art bots battle!
URL:https://stayinmcallen.com/events/youth-workshop-art-in-motion-colorful-art-bots/
LOCATION:IMAS\, 101 W Nolana Ave\, McAllen\, TX\, United States
CATEGORIES:IMAS - International Museum of Art & Science,Youth Program
ATTACH;FMTTYPE=image/webp:https://stayinmcallen.com/wp-content/uploads/2026/01/Art-in-Motion-Colorful-Art-Bots-scaled-LDuBSW.webp
GEO:26.238021;-98.212333
X-APPLE-STRUCTURED-LOCATION;VALUE=URI;X-ADDRESS=IMAS 101 W Nolana Ave McAllen TX United States;X-APPLE-RADIUS=500;X-TITLE=101 W Nolana Ave:geo:-98.212333,26.238021
END:VEVENT
BEGIN:VEVENT
DTSTART;TZID=America/Chicago:20260307T140000
DTEND;TZID=America/Chicago:20260307T160000
DTSTAMP:20260424T064714
CREATED:20260114T000423Z
LAST-MODIFIED:20260114T000423Z
UID:10003476-1772892000-1772899200@stayinmcallen.com
SUMMARY:Youth Workshop - Art in Motion: Colorful Art Bots
DESCRIPTION:Youth Workshop\nArt in Motion: Colorful Art Bots\nSaturday\, March 7\, 2026\n2:00 p.m. – 4:00 p.m.\nGet the creative gears in motion with this hands-on workshop that infuses both art and science. Work with markers\, motors and wires to create a simple circuit that gets your art into action. Explore how distribution of weight can help create lines and color as you design and engineer the best art bot. Create new works of art and let the art bots battle!
URL:https://stayinmcallen.com/events/youth-workshop-art-in-motion-colorful-art-bots-2/
LOCATION:IMAS\, 101 W Nolana Ave\, McAllen\, TX\, United States
CATEGORIES:IMAS - International Museum of Art & Science,Youth Program
GEO:26.238021;-98.212333
X-APPLE-STRUCTURED-LOCATION;VALUE=URI;X-ADDRESS=IMAS 101 W Nolana Ave McAllen TX United States;X-APPLE-RADIUS=500;X-TITLE=101 W Nolana Ave:geo:-98.212333,26.238021
END:VEVENT
BEGIN:VEVENT
DTSTART;TZID=America/Chicago:20260307T160000
DTEND;TZID=America/Chicago:20260307T180000
DTSTAMP:20260424T064714
CREATED:20251212T054852Z
LAST-MODIFIED:20260306T152738Z
UID:10003326-1772899200-1772906400@stayinmcallen.com
SUMMARY:Member Reception - Voces del Arte Popular: IMAS Mexican Folk Art Collection
DESCRIPTION:
URL:https://stayinmcallen.com/events/member-reception-voces-del-at-popular-imas-mexican-folk-art-collection/
LOCATION:IMAS\, 101 W Nolana Ave\, McAllen\, TX\, United States
CATEGORIES:IMAS - International Museum of Art & Science,Member Events
ATTACH;FMTTYPE=image/webp:https://stayinmcallen.com/wp-content/uploads/2025/12/MJAS-2025-Reception-155-6TTaNC.webp
GEO:26.238021;-98.212333
X-APPLE-STRUCTURED-LOCATION;VALUE=URI;X-ADDRESS=IMAS 101 W Nolana Ave McAllen TX United States;X-APPLE-RADIUS=500;X-TITLE=101 W Nolana Ave:geo:-98.212333,26.238021
END:VEVENT
BEGIN:VEVENT
DTSTART;TZID=America/Chicago:20260307T160000
DTEND;TZID=America/Chicago:20260307T180000
DTSTAMP:20260424T064714
CREATED:20260114T000428Z
LAST-MODIFIED:20260114T000428Z
UID:10003477-1772899200-1772906400@stayinmcallen.com
SUMMARY:Member Reception - Voces del Arte Popular: IMAS Mexican Folk Art Collection
DESCRIPTION:
URL:https://stayinmcallen.com/events/member-reception-voces-del-arte-popular-imas-mexican-folk-art-collection/
LOCATION:IMAS\, 101 W Nolana Ave\, McAllen\, TX\, United States
CATEGORIES:IMAS - International Museum of Art & Science,Member Events
ATTACH;FMTTYPE=image/webp:https://stayinmcallen.com/wp-content/uploads/2025/12/MJAS-2025-Reception-155-6TTaNC.webp
GEO:26.238021;-98.212333
X-APPLE-STRUCTURED-LOCATION;VALUE=URI;X-ADDRESS=IMAS 101 W Nolana Ave McAllen TX United States;X-APPLE-RADIUS=500;X-TITLE=101 W Nolana Ave:geo:-98.212333,26.238021
END:VEVENT
BEGIN:VEVENT
DTSTART;TZID=America/Chicago:20260307T160000
DTEND;TZID=America/Chicago:20260307T190000
DTSTAMP:20260424T064715
CREATED:20260223T081656Z
LAST-MODIFIED:20260303T164622Z
UID:10003609-1772899200-1772910000@stayinmcallen.com
SUMMARY:UTRGV Men's Tennis vs Holy Cross
DESCRIPTION:UTRGV Men’s Tennis vs Holy Cross
URL:https://stayinmcallen.com/events/utrgv-mens-tennis-vs-holy-cross/
LOCATION:Emmitsburg\, Md.
CATEGORIES:UTRGV Athletics
END:VEVENT
BEGIN:VEVENT
DTSTART;VALUE=DATE:20260307
DTEND;VALUE=DATE:20260309
DTSTAMP:20260424T064715
CREATED:20250809T043620Z
LAST-MODIFIED:20260224T113507Z
UID:10002897-1772906400-1772996399@stayinmcallen.com
SUMMARY:UTRGV Men's Basketball vs First Round
DESCRIPTION:UTRGV Men’s Basketball vs First Round\nStreaming Video: https://www.southland.org/espn\nStreaming Audio: https://www.southland.org/watch
URL:https://stayinmcallen.com/events/utrgv-mens-basketball-vs-first-round-3/
LOCATION:Lake Charles\, La.\, Townsley Law Arena
CATEGORIES:UTRGV Athletics
END:VEVENT
BEGIN:VEVENT
DTSTART;TZID=America/Chicago:20260307T183000
DTEND;TZID=America/Chicago:20260307T213000
DTSTAMP:20260424T064715
CREATED:20250830T060625Z
LAST-MODIFIED:20260303T164627Z
UID:10003053-1772908200-1772919000@stayinmcallen.com
SUMMARY:UTRGV Baseball vs New Orleans - Catch ‘Em All Night
DESCRIPTION:UTRGV Baseball vs New Orleans – Catch ‘Em All Night\nStreaming Video: https://www.espn.com/watch/player/_/id/3bdbac12-c018-4850-8369-69409a48751c\nStreaming Audio: https://www.southland.org/watch\nTickets: http://utrgvtickets.com/
URL:https://stayinmcallen.com/events/utrgv-baseball-vs-new-orleans-3/
LOCATION:Edinburg\, Texas\, UTRGV Baseball Stadium
CATEGORIES:UTRGV Athletics
END:VEVENT
BEGIN:VEVENT
DTSTART;TZID=America/Chicago:20260307T200000
DTEND;TZID=America/Chicago:20260307T230000
DTSTAMP:20260424T064715
CREATED:20260206T184628Z
LAST-MODIFIED:20260206T184632Z
UID:10003567-1772913600-1772924400@stayinmcallen.com
SUMMARY:Los Angeles Azules - Cumbia Sin Fronteras US Tour
DESCRIPTION:Tickets: https://www.ticketmaster.com/los-angeles-azules-cumbia-sin-fronteras-hidalgo-texas-03-07-2026/event/3A00634E94D967D7
URL:https://stayinmcallen.com/events/los-angeles-azules-cumbia-sin-fronteras-us-tour/
LOCATION:Payne Arena\, 2600 N 10th St\, Hidalgo\, TX\, 78557\, United States
ATTACH;FMTTYPE=image/webp:https://stayinmcallen.com/wp-content/uploads/2026/02/Los_Angeles_Azules-scaled.webp
END:VEVENT
END:VCALENDAR