BEGIN:VCALENDAR
VERSION:2.0
PRODID:-//Stayinmcallen - ECPv6.15.20//NONSGML v1.0//EN
CALSCALE:GREGORIAN
METHOD:PUBLISH
X-ORIGINAL-URL:https://stayinmcallen.com
X-WR-CALDESC:Events for Stayinmcallen
REFRESH-INTERVAL;VALUE=DURATION:PT1H
X-Robots-Tag:noindex
X-PUBLISHED-TTL:PT1H
BEGIN:VTIMEZONE
TZID:America/Chicago
BEGIN:DAYLIGHT
TZOFFSETFROM:-0600
TZOFFSETTO:-0500
TZNAME:CDT
DTSTART:20250309T080000
END:DAYLIGHT
BEGIN:STANDARD
TZOFFSETFROM:-0500
TZOFFSETTO:-0600
TZNAME:CST
DTSTART:20251102T070000
END:STANDARD
BEGIN:DAYLIGHT
TZOFFSETFROM:-0600
TZOFFSETTO:-0500
TZNAME:CDT
DTSTART:20260308T080000
END:DAYLIGHT
BEGIN:STANDARD
TZOFFSETFROM:-0500
TZOFFSETTO:-0600
TZNAME:CST
DTSTART:20261101T070000
END:STANDARD
BEGIN:DAYLIGHT
TZOFFSETFROM:-0600
TZOFFSETTO:-0500
TZNAME:CDT
DTSTART:20270314T080000
END:DAYLIGHT
BEGIN:STANDARD
TZOFFSETFROM:-0500
TZOFFSETTO:-0600
TZNAME:CST
DTSTART:20271107T070000
END:STANDARD
END:VTIMEZONE
BEGIN:VEVENT
DTSTART;TZID=America/Chicago:20260505T143000
DTEND;TZID=America/Chicago:20260505T143000
DTSTAMP:20260425T125013
CREATED:20250810T235107Z
LAST-MODIFIED:20260424T103333Z
UID:10002931-1777991400-1777991400@stayinmcallen.com
SUMMARY:Clue
DESCRIPTION:Clue in McAllen at the McAllen Performing Arts Center\nA mansion. A murder. A mystery.\nMurder and blackmail are on the menu when six mysterious guests assemble at Boddy Manor for a night they’ll never forget! Was it Mrs. Peacock in the study with the knife? Or was it Colonel Mustard in the library with the wrench? Based on the fan-favorite 1985 Paramount Pictures movie and inspired by the classic Hasbro board game\, Clue is the ultimate whodunit that will leave you dying of laughter and keep you guessing until the final twist.\n©2026 Hasbro. All rights reserved.\nRuntime: 80 minutes\, no intermission\nAge recommendation: Recommended for ages 12 and older\n \nBuy Now
URL:https://stayinmcallen.com/events/clue-live-on-stage/
LOCATION:McAllen Performing Arts Center\, 99 Center Ln\, McAllen\, TX\, United States
CATEGORIES:Performance,Performing Arts Center
ATTACH;FMTTYPE=image/png:https://stayinmcallen.com/wp-content/uploads/2026/04/sunset-dec-13-Facebook-Profile-Picture-1-FX1t49.webp
GEO:26.19785;-98.277591
X-APPLE-STRUCTURED-LOCATION;VALUE=URI;X-ADDRESS=McAllen Performing Arts Center 99 Center Ln McAllen TX United States;X-APPLE-RADIUS=500;X-TITLE=99 Center Ln:geo:-98.277591,26.19785
END:VEVENT
BEGIN:VEVENT
DTSTART;TZID=America/Chicago:20260505T180000
DTEND;TZID=America/Chicago:20260505T210000
DTSTAMP:20260425T125013
CREATED:20251105T202151Z
LAST-MODIFIED:20260424T213357Z
UID:10003250-1778004000-1778014800@stayinmcallen.com
SUMMARY:UTRGV Baseball at Abilene Christian
DESCRIPTION:UTRGV Baseball at Abilene Christian\nStreaming Video: https://plus.espn.com/\nStreaming Audio: https://www.wacinternational.tv/
URL:https://stayinmcallen.com/events/utrgv-baseball-at-abilene-christian-4/
LOCATION:Abilene\, Texas\, Crutcher Scott Field at Bullock Brothers Ballpark
CATEGORIES:UTRGV Athletics
END:VEVENT
END:VCALENDAR