BEGIN:VCALENDAR
VERSION:2.0
PRODID:-//Stayinmcallen - ECPv6.15.20//NONSGML v1.0//EN
CALSCALE:GREGORIAN
METHOD:PUBLISH
X-ORIGINAL-URL:https://stayinmcallen.com
X-WR-CALDESC:Events for Stayinmcallen
REFRESH-INTERVAL;VALUE=DURATION:PT1H
X-Robots-Tag:noindex
X-PUBLISHED-TTL:PT1H
BEGIN:VTIMEZONE
TZID:America/Chicago
BEGIN:DAYLIGHT
TZOFFSETFROM:-0600
TZOFFSETTO:-0500
TZNAME:CDT
DTSTART:20230312T080000
END:DAYLIGHT
BEGIN:STANDARD
TZOFFSETFROM:-0500
TZOFFSETTO:-0600
TZNAME:CST
DTSTART:20231105T070000
END:STANDARD
BEGIN:DAYLIGHT
TZOFFSETFROM:-0600
TZOFFSETTO:-0500
TZNAME:CDT
DTSTART:20240310T080000
END:DAYLIGHT
BEGIN:STANDARD
TZOFFSETFROM:-0500
TZOFFSETTO:-0600
TZNAME:CST
DTSTART:20241103T070000
END:STANDARD
BEGIN:DAYLIGHT
TZOFFSETFROM:-0600
TZOFFSETTO:-0500
TZNAME:CDT
DTSTART:20250309T080000
END:DAYLIGHT
BEGIN:STANDARD
TZOFFSETFROM:-0500
TZOFFSETTO:-0600
TZNAME:CST
DTSTART:20251102T070000
END:STANDARD
END:VTIMEZONE
BEGIN:VEVENT
DTSTART;TZID=America/Chicago:20241228T193000
DTEND;TZID=America/Chicago:20241228T230000
DTSTAMP:20260424T180041
CREATED:20241219T064739Z
LAST-MODIFIED:20241228T074519Z
UID:10001650-1735414200-1735426800@stayinmcallen.com
SUMMARY:Joey Bulnes
DESCRIPTION:Local talent Joey Bulnes playing a wide variety of 80s\, 90s\, 00s\, and today’s music. Enjoy an acoustic set full of your favorite country\, pop\, rock\, and hip hop covers; plus original singles available on streaming platforms.\nShow starts at 7:30pm
URL:https://stayinmcallen.com/events/joey-bulnes-2/
LOCATION:Schneider’s German Gasthaus & Beergarden\, 1 N Ware Rd\, McAllen\, TX\, United States
CATEGORIES:Food and Drink Events,Concerts,Acoustic Music
ATTACH;FMTTYPE=image/jpeg:https://stayinmcallen.com/wp-content/uploads/2024/12/schneiders-joey-bulnes-scaled-bWZdvK.tmp_.jpg
GEO:26.208434;-98.261431
X-APPLE-STRUCTURED-LOCATION;VALUE=URI;X-ADDRESS=Schneider’s German Gasthaus & Beergarden 1 N Ware Rd McAllen TX United States;X-APPLE-RADIUS=500;X-TITLE=1 N Ware Rd:geo:-98.261431,26.208434
END:VEVENT
BEGIN:VEVENT
DTSTART;TZID=America/Chicago:20241227T193000
DTEND;TZID=America/Chicago:20241227T233000
DTSTAMP:20260424T180041
CREATED:20241219T064723Z
LAST-MODIFIED:20241227T073022Z
UID:10001648-1735327800-1735342200@stayinmcallen.com
SUMMARY:Fergus "The Ferg" Dowling
DESCRIPTION:End your week with us and enjoy live music with The Ferg\, delicious food and a cold beverage. Prost!\nOpen 5pm-Midnight\nMusic starts at 7:30pm
URL:https://stayinmcallen.com/events/fergus-the-ferg-dowling-3/
LOCATION:Schneider’s German Gasthaus & Beergarden\, 1 N Ware Rd\, McAllen\, TX\, United States
CATEGORIES:Live Music,Acoustic Music
ATTACH;FMTTYPE=image/jpeg:https://stayinmcallen.com/wp-content/uploads/2024/12/schneiders-fergus-friday-SPI6z2.tmp_.jpg
GEO:26.208434;-98.261431
X-APPLE-STRUCTURED-LOCATION;VALUE=URI;X-ADDRESS=Schneider’s German Gasthaus & Beergarden 1 N Ware Rd McAllen TX United States;X-APPLE-RADIUS=500;X-TITLE=1 N Ware Rd:geo:-98.261431,26.208434
END:VEVENT
BEGIN:VEVENT
DTSTART;TZID=America/Chicago:20241221T193000
DTEND;TZID=America/Chicago:20241221T230000
DTSTAMP:20260424T180041
CREATED:20241219T064617Z
LAST-MODIFIED:20241221T064522Z
UID:10001644-1734809400-1734822000@stayinmcallen.com
SUMMARY:Joey Bulnes
DESCRIPTION:Local talent Joey Bulnes playing a wide variety of 80s\, 90s\, 00s\, and today’s music. Enjoy an acoustic set full of your favorite country\, pop\, rock\, and hip hop covers; plus original singles available on streaming platforms.\nShow starts at 7:30pm
URL:https://stayinmcallen.com/events/joey-bulnes/
LOCATION:Schneider’s German Gasthaus & Beergarden\, 1 N Ware Rd\, McAllen\, TX\, United States
CATEGORIES:Food and Drink Events,Concerts,Acoustic Music
ATTACH;FMTTYPE=image/jpeg:https://stayinmcallen.com/wp-content/uploads/2024/12/schneiders-joey-bulnes-scaled-bWZdvK.tmp_.jpg
GEO:26.208434;-98.261431
X-APPLE-STRUCTURED-LOCATION;VALUE=URI;X-ADDRESS=Schneider’s German Gasthaus & Beergarden 1 N Ware Rd McAllen TX United States;X-APPLE-RADIUS=500;X-TITLE=1 N Ware Rd:geo:-98.261431,26.208434
END:VEVENT
BEGIN:VEVENT
DTSTART;TZID=America/Chicago:20241220T193000
DTEND;TZID=America/Chicago:20241220T233000
DTSTAMP:20260424T180041
CREATED:20241219T064549Z
LAST-MODIFIED:20241219T064549Z
UID:10001635-1734723000-1734737400@stayinmcallen.com
SUMMARY:Fergus "The Ferg" Dowling
DESCRIPTION:End your week with us and enjoy live music with The Ferg\, delicious food and a cold beverage. Prost!\nOpen 5pm-Midnight\nMusic starts at 7:30pm
URL:https://stayinmcallen.com/events/fergus-the-ferg-dowling-2/
LOCATION:Schneider’s German Gasthaus & Beergarden\, 1 N Ware Rd\, McAllen\, TX\, United States
CATEGORIES:Live Music,Acoustic Music
ATTACH;FMTTYPE=image/jpeg:https://stayinmcallen.com/wp-content/uploads/2024/12/schneiders-fergus-friday-SPI6z2.tmp_.jpg
GEO:26.208434;-98.261431
X-APPLE-STRUCTURED-LOCATION;VALUE=URI;X-ADDRESS=Schneider’s German Gasthaus & Beergarden 1 N Ware Rd McAllen TX United States;X-APPLE-RADIUS=500;X-TITLE=1 N Ware Rd:geo:-98.261431,26.208434
END:VEVENT
BEGIN:VEVENT
DTSTART;TZID=America/Chicago:20241220T193000
DTEND;TZID=America/Chicago:20241220T233000
DTSTAMP:20260424T180041
CREATED:20241219T064546Z
LAST-MODIFIED:20241220T064532Z
UID:10001640-1734723000-1734737400@stayinmcallen.com
SUMMARY:Fergus "The Ferg" Dowling
DESCRIPTION:End your week with us and enjoy live music with The Ferg\, delicious food and a cold beverage. Prost!\nOpen 5pm-Midnight\nMusic starts at 7:30pm
URL:https://stayinmcallen.com/events/fergus-the-ferg-dowling/
LOCATION:Schneider’s German Gasthaus & Beergarden\, 1 N Ware Rd\, McAllen\, TX\, United States
CATEGORIES:Live Music,Acoustic Music
ATTACH;FMTTYPE=image/jpeg:https://stayinmcallen.com/wp-content/uploads/2024/12/schneiders-fergus-friday-SPI6z2.tmp_.jpg
GEO:26.208434;-98.261431
X-APPLE-STRUCTURED-LOCATION;VALUE=URI;X-ADDRESS=Schneider’s German Gasthaus & Beergarden 1 N Ware Rd McAllen TX United States;X-APPLE-RADIUS=500;X-TITLE=1 N Ware Rd:geo:-98.261431,26.208434
END:VEVENT
BEGIN:VEVENT
DTSTART;TZID=America/Chicago:20240924T200000
DTEND;TZID=America/Chicago:20240924T220000
DTSTAMP:20260424T180041
CREATED:20240901T230554Z
LAST-MODIFIED:20240925T023459Z
UID:10001153-1727208000-1727215200@stayinmcallen.com
SUMMARY:Live music & dinner specials at Santo Pecado!
DESCRIPTION:Enjoy tacos and drink specials EVERY Tuesday\, plus music by local musician Sonáli !!
URL:https://stayinmcallen.com/events/live-music-dinner-specials-at-santo-pecado-9/
LOCATION:Santo Pecado\, 200 Auburn Ave\, McAllen\, TX\, United States
CATEGORIES:Live Music,Performing Arts,Food and Drink Events,Explore McAllen,Nightlife,Acoustic Music
ATTACH;FMTTYPE=image/jpeg:https://stayinmcallen.com/wp-content/uploads/2024/09/NEW-TUESDAY-NIGHTS-TACOS-MARGS-TUNES-5-PALOMAS-5-MARGARITAS-30-OFF-TACOS-cgSNHs.tmp_.jpg
GEO:26.272815;-98.208163
X-APPLE-STRUCTURED-LOCATION;VALUE=URI;X-ADDRESS=Santo Pecado 200 Auburn Ave McAllen TX United States;X-APPLE-RADIUS=500;X-TITLE=200 Auburn Ave:geo:-98.208163,26.272815
END:VEVENT
BEGIN:VEVENT
DTSTART;TZID=America/Chicago:20240917T200000
DTEND;TZID=America/Chicago:20240917T220000
DTSTAMP:20260424T180041
CREATED:20240901T230503Z
LAST-MODIFIED:20240918T020459Z
UID:10001147-1726603200-1726610400@stayinmcallen.com
SUMMARY:Live music & dinner specials at Santo Pecado!
DESCRIPTION:Enjoy tacos and drink specials EVERY Tuesday\, plus music by local musician Sonáli !!
URL:https://stayinmcallen.com/events/live-music-dinner-specials-at-santo-pecado-8/
LOCATION:Santo Pecado\, 200 Auburn Ave\, McAllen\, TX\, United States
CATEGORIES:Live Music,Performing Arts,Food and Drink Events,Explore McAllen,Nightlife,Acoustic Music
ATTACH;FMTTYPE=image/jpeg:https://stayinmcallen.com/wp-content/uploads/2024/09/NEW-TUESDAY-NIGHTS-TACOS-MARGS-TUNES-5-PALOMAS-5-MARGARITAS-30-OFF-TACOS-cgSNHs.tmp_.jpg
GEO:26.272815;-98.208163
X-APPLE-STRUCTURED-LOCATION;VALUE=URI;X-ADDRESS=Santo Pecado 200 Auburn Ave McAllen TX United States;X-APPLE-RADIUS=500;X-TITLE=200 Auburn Ave:geo:-98.208163,26.272815
END:VEVENT
BEGIN:VEVENT
DTSTART;TZID=America/Chicago:20240910T200000
DTEND;TZID=America/Chicago:20240910T220000
DTSTAMP:20260424T180041
CREATED:20240901T230429Z
LAST-MODIFIED:20240901T230429Z
UID:10001133-1725998400-1726005600@stayinmcallen.com
SUMMARY:Live music & dinner specials at Santo Pecado!
DESCRIPTION:Enjoy tacos and drink specials EVERY Tuesday\, plus music by local musician Sonáli !!
URL:https://stayinmcallen.com/events/live-music-dinner-specials-at-santo-pecado-7/
LOCATION:Santo Pecado\, 200 Auburn Ave\, McAllen\, TX\, United States
CATEGORIES:Live Music,Performing Arts,Food and Drink Events,Explore McAllen,Nightlife,Acoustic Music
ATTACH;FMTTYPE=image/png:https://stayinmcallen.com/wp-content/uploads/2024/08/NEW-TUESDAY-NIGHTS-TACOS-MARGS-TUNES-5-PALOMAS-5-MARGARITAS-30-OFF-TACOS-hKgE6S.tmp_.png
GEO:26.272815;-98.208163
X-APPLE-STRUCTURED-LOCATION;VALUE=URI;X-ADDRESS=Santo Pecado 200 Auburn Ave McAllen TX United States;X-APPLE-RADIUS=500;X-TITLE=200 Auburn Ave:geo:-98.208163,26.272815
END:VEVENT
BEGIN:VEVENT
DTSTART;TZID=America/Chicago:20240910T200000
DTEND;TZID=America/Chicago:20240910T220000
DTSTAMP:20260424T180041
CREATED:20240901T230428Z
LAST-MODIFIED:20240911T010352Z
UID:10001141-1725998400-1726005600@stayinmcallen.com
SUMMARY:Live music & dinner specials at Santo Pecado!
DESCRIPTION:Enjoy tacos and drink specials EVERY Tuesday\, plus music by local musician Sonáli !!
URL:https://stayinmcallen.com/events/live-music-dinner-specials-at-santo-pecado-6/
LOCATION:Santo Pecado\, 200 Auburn Ave\, McAllen\, TX\, United States
CATEGORIES:Live Music,Performing Arts,Food and Drink Events,Explore McAllen,Nightlife,Acoustic Music
ATTACH;FMTTYPE=image/jpeg:https://stayinmcallen.com/wp-content/uploads/2024/09/NEW-TUESDAY-NIGHTS-TACOS-MARGS-TUNES-5-PALOMAS-5-MARGARITAS-30-OFF-TACOS-cgSNHs.tmp_.jpg
GEO:26.272815;-98.208163
X-APPLE-STRUCTURED-LOCATION;VALUE=URI;X-ADDRESS=Santo Pecado 200 Auburn Ave McAllen TX United States;X-APPLE-RADIUS=500;X-TITLE=200 Auburn Ave:geo:-98.208163,26.272815
END:VEVENT
BEGIN:VEVENT
DTSTART;TZID=America/Chicago:20240903T200000
DTEND;TZID=America/Chicago:20240903T220000
DTSTAMP:20260424T180041
CREATED:20240901T230353Z
LAST-MODIFIED:20240901T230353Z
UID:10001136-1725393600-1725400800@stayinmcallen.com
SUMMARY:Live music & dinner specials at Santo Pecado!
DESCRIPTION:Enjoy tacos and drink specials EVERY Tuesday\, plus music by local musician Sonáli !!
URL:https://stayinmcallen.com/events/live-music-dinner-specials-at-santo-pecado-5/
LOCATION:Santo Pecado\, 200 Auburn Ave\, McAllen\, TX\, United States
CATEGORIES:Live Music,Performing Arts,Food and Drink Events,Explore McAllen,Nightlife,Acoustic Music
ATTACH;FMTTYPE=image/png:https://stayinmcallen.com/wp-content/uploads/2024/08/NEW-TUESDAY-NIGHTS-TACOS-MARGS-TUNES-5-PALOMAS-5-MARGARITAS-30-OFF-TACOS-hKgE6S.tmp_.png
GEO:26.272815;-98.208163
X-APPLE-STRUCTURED-LOCATION;VALUE=URI;X-ADDRESS=Santo Pecado 200 Auburn Ave McAllen TX United States;X-APPLE-RADIUS=500;X-TITLE=200 Auburn Ave:geo:-98.208163,26.272815
END:VEVENT
BEGIN:VEVENT
DTSTART;TZID=America/Chicago:20240903T200000
DTEND;TZID=America/Chicago:20240903T220000
DTSTAMP:20260424T180041
CREATED:20240901T230351Z
LAST-MODIFIED:20240903T231852Z
UID:10001128-1725393600-1725400800@stayinmcallen.com
SUMMARY:Live music & dinner specials at Santo Pecado!
DESCRIPTION:Enjoy tacos and drink specials EVERY Tuesday\, plus music by local musician Sonáli !!
URL:https://stayinmcallen.com/events/live-music-dinner-specials-at-santo-pecado-4/
LOCATION:Santo Pecado\, 200 Auburn Ave\, McAllen\, TX\, United States
CATEGORIES:Live Music,Performing Arts,Food and Drink Events,Explore McAllen,Nightlife,Acoustic Music
ATTACH;FMTTYPE=image/png:https://stayinmcallen.com/wp-content/uploads/2024/08/NEW-TUESDAY-NIGHTS-TACOS-MARGS-TUNES-5-PALOMAS-5-MARGARITAS-30-OFF-TACOS-hKgE6S.tmp_.png
GEO:26.272815;-98.208163
X-APPLE-STRUCTURED-LOCATION;VALUE=URI;X-ADDRESS=Santo Pecado 200 Auburn Ave McAllen TX United States;X-APPLE-RADIUS=500;X-TITLE=200 Auburn Ave:geo:-98.208163,26.272815
END:VEVENT
BEGIN:VEVENT
DTSTART;TZID=America/Chicago:20240827T200000
DTEND;TZID=America/Chicago:20240827T220000
DTSTAMP:20260424T180041
CREATED:20240819T215014Z
LAST-MODIFIED:20240827T223352Z
UID:10001104-1724788800-1724796000@stayinmcallen.com
SUMMARY:Live music & dinner specials at Santo Pecado!
DESCRIPTION:Enjoy tacos and drink specials EVERY Tuesday\, plus music by local musician Sonáli !!
URL:https://stayinmcallen.com/events/live-music-dinner-specials-at-santo-pecado-3/
LOCATION:Santo Pecado\, 200 Auburn Ave\, McAllen\, TX\, United States
CATEGORIES:Live Music,Performing Arts,Food and Drink Events,Explore McAllen,Nightlife,Acoustic Music
ATTACH;FMTTYPE=image/png:https://stayinmcallen.com/wp-content/uploads/2024/08/NEW-TUESDAY-NIGHTS-TACOS-MARGS-TUNES-5-PALOMAS-5-MARGARITAS-30-OFF-TACOS-hKgE6S.tmp_.png
GEO:26.272815;-98.208163
X-APPLE-STRUCTURED-LOCATION;VALUE=URI;X-ADDRESS=Santo Pecado 200 Auburn Ave McAllen TX United States;X-APPLE-RADIUS=500;X-TITLE=200 Auburn Ave:geo:-98.208163,26.272815
END:VEVENT
BEGIN:VEVENT
DTSTART;TZID=America/Chicago:20240820T200000
DTEND;TZID=America/Chicago:20240820T220000
DTSTAMP:20260424T180041
CREATED:20240819T214902Z
LAST-MODIFIED:20240819T214902Z
UID:10001100-1724184000-1724191200@stayinmcallen.com
SUMMARY:Live music & dinner specials at Santo Pecado!
DESCRIPTION:Enjoy tacos and drink specials EVERY Tuesday\, plus music by local musician Sonáli !!
URL:https://stayinmcallen.com/events/live-music-dinner-specials-at-santo-pecado-2/
LOCATION:Santo Pecado\, 200 Auburn Ave\, McAllen\, TX\, United States
CATEGORIES:Live Music,Performing Arts,Food and Drink Events,Explore McAllen,Nightlife,Acoustic Music
ATTACH;FMTTYPE=image/png:https://stayinmcallen.com/wp-content/uploads/2024/08/NEW-TUESDAY-NIGHTS-TACOS-MARGS-TUNES-5-PALOMAS-5-MARGARITAS-30-OFF-TACOS-hKgE6S.tmp_.png
GEO:26.272815;-98.208163
X-APPLE-STRUCTURED-LOCATION;VALUE=URI;X-ADDRESS=Santo Pecado 200 Auburn Ave McAllen TX United States;X-APPLE-RADIUS=500;X-TITLE=200 Auburn Ave:geo:-98.208163,26.272815
END:VEVENT
BEGIN:VEVENT
DTSTART;TZID=America/Chicago:20240820T200000
DTEND;TZID=America/Chicago:20240820T220000
DTSTAMP:20260424T180041
CREATED:20240819T214900Z
LAST-MODIFIED:20240820T214855Z
UID:10001095-1724184000-1724191200@stayinmcallen.com
SUMMARY:Live music & dinner specials at Santo Pecado!
DESCRIPTION:Enjoy tacos and drink specials EVERY Tuesday\, plus music by local musician Sonáli !!
URL:https://stayinmcallen.com/events/live-music-dinner-specials-at-santo-pecado/
LOCATION:Santo Pecado\, 200 Auburn Ave\, McAllen\, TX\, United States
CATEGORIES:Live Music,Performing Arts,Food and Drink Events,Explore McAllen,Nightlife,Acoustic Music
ATTACH;FMTTYPE=image/png:https://stayinmcallen.com/wp-content/uploads/2024/08/NEW-TUESDAY-NIGHTS-TACOS-MARGS-TUNES-5-PALOMAS-5-MARGARITAS-30-OFF-TACOS-hKgE6S.tmp_.png
GEO:26.272815;-98.208163
X-APPLE-STRUCTURED-LOCATION;VALUE=URI;X-ADDRESS=Santo Pecado 200 Auburn Ave McAllen TX United States;X-APPLE-RADIUS=500;X-TITLE=200 Auburn Ave:geo:-98.208163,26.272815
END:VEVENT
END:VCALENDAR