BEGIN:VCALENDAR
VERSION:2.0
PRODID:-//Stayinmcallen - ECPv6.15.20//NONSGML v1.0//EN
CALSCALE:GREGORIAN
METHOD:PUBLISH
X-WR-CALNAME:Stayinmcallen
X-ORIGINAL-URL:https://stayinmcallen.com
X-WR-CALDESC:Events for Stayinmcallen
REFRESH-INTERVAL;VALUE=DURATION:PT1H
X-Robots-Tag:noindex
X-PUBLISHED-TTL:PT1H
BEGIN:VTIMEZONE
TZID:America/Chicago
BEGIN:DAYLIGHT
TZOFFSETFROM:-0600
TZOFFSETTO:-0500
TZNAME:CDT
DTSTART:20250309T080000
END:DAYLIGHT
BEGIN:STANDARD
TZOFFSETFROM:-0500
TZOFFSETTO:-0600
TZNAME:CST
DTSTART:20251102T070000
END:STANDARD
BEGIN:DAYLIGHT
TZOFFSETFROM:-0600
TZOFFSETTO:-0500
TZNAME:CDT
DTSTART:20260308T080000
END:DAYLIGHT
BEGIN:STANDARD
TZOFFSETFROM:-0500
TZOFFSETTO:-0600
TZNAME:CST
DTSTART:20261101T070000
END:STANDARD
BEGIN:DAYLIGHT
TZOFFSETFROM:-0600
TZOFFSETTO:-0500
TZNAME:CDT
DTSTART:20270314T080000
END:DAYLIGHT
BEGIN:STANDARD
TZOFFSETFROM:-0500
TZOFFSETTO:-0600
TZNAME:CST
DTSTART:20271107T070000
END:STANDARD
END:VTIMEZONE
BEGIN:VEVENT
DTSTART;TZID=America/Chicago:20260228T190000
DTEND;TZID=America/Chicago:20260228T230000
DTSTAMP:20260424T162108
CREATED:20251009T144759Z
LAST-MODIFIED:20251009T144759Z
UID:10003159-1772305200-1772319600@stayinmcallen.com
SUMMARY:Enjambre
DESCRIPTION:ENJAMBRE plays McAllen TX – Feb 28\, 2026. This is a *new date* as they postponed their Spring 2025 tour. Tickets are on sale now via eventbrite.com.
URL:https://stayinmcallen.com/events/enjambre/
LOCATION:Cine El Rey Theatre\, 311 S 17th St\, McAllen\, TX\, United States
CATEGORIES:Concert,Acoustic Music
ATTACH;FMTTYPE=image/webp:https://stayinmcallen.com/wp-content/uploads/2025/10/Enjambre-1920x1280.jpg.webp
GEO:26.201796;-98.23815
X-APPLE-STRUCTURED-LOCATION;VALUE=URI;X-ADDRESS=Cine El Rey Theatre 311 S 17th St McAllen TX United States;X-APPLE-RADIUS=500;X-TITLE=311 S 17th St:geo:-98.23815,26.201796
END:VEVENT
BEGIN:VEVENT
DTSTART;TZID=America/Chicago:20260228T200000
DTEND;TZID=America/Chicago:20260228T230000
DTSTAMP:20260424T162108
CREATED:20251009T143302Z
LAST-MODIFIED:20251009T143843Z
UID:10003157-1772308800-1772319600@stayinmcallen.com
SUMMARY:Banda MS de Sergio Lizarraga
DESCRIPTION:TICKETS ALSO AVAILABLE AT: \n\nBert Ogden Arena Box Office beginning April 11th\n\nAll dates\, times\, acts and ticket prices are subject to change without notice. Price does not include service fees. Final prices are reflected on AXS.com at time of purchase. Opening acts may change without notice\, but is not a condition of sales/refund.
URL:https://stayinmcallen.com/events/banda-ms-de-sergio-lizarraga/
LOCATION:Bert Ogden Arena\, 4900 S I-69C\, Edinburg\, TX\, 78539\, United States
CATEGORIES:Concert,Acoustic Music
ATTACH;FMTTYPE=image/webp:https://stayinmcallen.com/wp-content/uploads/2025/10/2T3A7456-2000-58338d06f9644bcd852262f56e9b0498.webp
END:VEVENT
BEGIN:VEVENT
DTSTART;TZID=America/Chicago:20260327T200000
DTEND;TZID=America/Chicago:20260327T230000
DTSTAMP:20260424T162108
CREATED:20251009T143705Z
LAST-MODIFIED:20251009T143705Z
UID:10003158-1774641600-1774652400@stayinmcallen.com
SUMMARY:Ricardo Arjona - Lo Que El Seco No Dijo
DESCRIPTION:General On-Sale Tickets – Wednesday Sep 24th 10:00 AM \nPurchase Tickets Here \n\nAXS Premium \nPurchase Tickets Here \n\nMUNDO ARJONA VIP LOUNGE \nPurchase Tickets Here \nPackage includes: \n\n⁠One premium reserved ticket* (not included in package price above)\nAccess to the pre-show VIP lounge including:\n\nAssortment of appetizers\nOne drink ticket for beer\, wine\, and soft drinks**\nThemed decor and party music playing your favorite Arjona “Seco” album songs\n\n\nExclusive VIP merchandise kit\n⁠Photo opportunity in front of the VIP backdrop to celebrate your evening***\n⁠Pre-show tour merchandise shopping opportunity\nOn-site early access\, VIP host and check-in\n⁠90 days “Mundo Arjona” VIP fan membership\n\n*Locations may vary by venue\, see specific\n***No Artist participation. \n\nMUNDO ARJONA VIP ACCESS PACKAGE \nPurchase Tickets Here \nPackage includes: \n\n⁠One premium reserved ticket*\n⁠Exclusive VIP merchandise kit\n⁠Exclusive VIP merchandise kit\nPhoto opportunity in front of the VIP backdrop to celebrate your evening***\nPre-show tour merchandise shopping opportunity\nOn-site early access\, VIP host and check-in\n90 days “Mundo Arjona” VIP fan membership\n\n*Locations may vary by venue\, see specific\n***No Artist participation.
URL:https://stayinmcallen.com/events/ricardo-arjona-lo-que-el-seco-no-dijo/
LOCATION:Bert Ogden Arena\, 4900 S I-69C\, Edinburg\, TX\, 78539\, United States
CATEGORIES:Concert,Acoustic Music
ATTACH;FMTTYPE=image/webp:https://stayinmcallen.com/wp-content/uploads/2025/10/Ricardo-Arjona-se-consagra-en-Miami-con-su-Blanco-y-Negro-Tour.webp
END:VEVENT
END:VCALENDAR