BEGIN:VCALENDAR
VERSION:2.0
PRODID:-//Stayinmcallen - ECPv6.15.20//NONSGML v1.0//EN
CALSCALE:GREGORIAN
METHOD:PUBLISH
X-ORIGINAL-URL:https://stayinmcallen.com
X-WR-CALDESC:Events for Stayinmcallen
REFRESH-INTERVAL;VALUE=DURATION:PT1H
X-Robots-Tag:noindex
X-PUBLISHED-TTL:PT1H
BEGIN:VTIMEZONE
TZID:America/Chicago
BEGIN:DAYLIGHT
TZOFFSETFROM:-0600
TZOFFSETTO:-0500
TZNAME:CDT
DTSTART:20230312T080000
END:DAYLIGHT
BEGIN:STANDARD
TZOFFSETFROM:-0500
TZOFFSETTO:-0600
TZNAME:CST
DTSTART:20231105T070000
END:STANDARD
BEGIN:DAYLIGHT
TZOFFSETFROM:-0600
TZOFFSETTO:-0500
TZNAME:CDT
DTSTART:20240310T080000
END:DAYLIGHT
BEGIN:STANDARD
TZOFFSETFROM:-0500
TZOFFSETTO:-0600
TZNAME:CST
DTSTART:20241103T070000
END:STANDARD
BEGIN:DAYLIGHT
TZOFFSETFROM:-0600
TZOFFSETTO:-0500
TZNAME:CDT
DTSTART:20250309T080000
END:DAYLIGHT
BEGIN:STANDARD
TZOFFSETFROM:-0500
TZOFFSETTO:-0600
TZNAME:CST
DTSTART:20251102T070000
END:STANDARD
END:VTIMEZONE
BEGIN:VEVENT
DTSTART;TZID=America/Chicago:20240308T120000
DTEND;TZID=America/Chicago:20240308T183000
DTSTAMP:20260421T100216
CREATED:20240308T085850Z
LAST-MODIFIED:20240308T090259Z
UID:10000464-1709899200-1709922600@stayinmcallen.com
SUMMARY:Plein-Aire NaturArt Adventure Challenge
DESCRIPTION:Plein-Aire NaturArt Adventure Challenge\n \nPlein Aire painting is a rich and immersive artistic practice that goes beyond capturing a visual scene. It’s about experiencing the environment\, connecting with nature\, and expressing a moment in time through the artist’s unique perspective.\nHomeschool Groups Session\nHinovations Art Gallery invites Homeschools students in Grades 1st to 5th\, to join us for our First Plein Aire NaturArt Adventure Challenge. The Event will take place at Hinovations Art Gallery located at 1009 Laurel Ave in McAllen\, on Friday\, March 8 from 12:00pm to 2:30pm. We will be making Peanut Butter Bird Feeders and engaging in Plein Aire Drawing and Painting. These activities will take about 30 to 40 minutes\, please note that this is not a Drop-off activity.\nAfter School Groups\nHinovations Art Gallery invites participants ages 5 to 12 and adults to join us for our First Plein Aire NaturArt Adventure Challenge. The Event will take place at Hinovations Art Gallery located at 1009 Laurel Ave in McAllen\, on Friday\, March 8 from 4:00pm to 6:30pm. We will be making Peanut Butter Bird Feeders and engaging in Plein Aire Drawing and Painting. These activities will take about 30 to 40 minutes\, please note that this is not a Drop-off activity.\nParticipants will be Guided by Professional Artists as they create their Nature Composition.\nThere is a $10 admission fee to cover the cost of supplies. Call 956 309 8352 or Text for more information or to request link to RSVP.\nPlease be advised that we will be handling peanut butter. We welcome additional recycled paper tubes to add to our recycled bin. Don’t forget to bring your binoculars and bird guide books for some bird watching.\nWe are excited to collaborate with Texas A&M Forest Service. More Texas-Wide\, Nature Challenge activitis can be found on their website and families can collect Badges for completing the activities.\nCopy and paste the following Link to collect a Badge for this Activity.\nhttps://naturechallenge.earth/…/plein-aire-naturart…
URL:https://stayinmcallen.com/events/plein-aire-naturart-adventure-challenge/
LOCATION:Hinovations Art Gallery\, 1009 Laurel Ave\, McAllen\, Texas\, 78501
CATEGORIES:Art Exhibits,Explore McAllen,Children's Activities
ATTACH;FMTTYPE=image/jpeg:https://stayinmcallen.com/wp-content/uploads/2024/03/NaturArt-Challenge-March-8-Yl5ylk.tmp_.jpg
ORGANIZER;CN="Raquel Hinojosa":MAILTO:hinovationsartgallery@gmail.com
END:VEVENT
BEGIN:VEVENT
DTSTART;TZID=America/Chicago:20240321T180000
DTEND;TZID=America/Chicago:20240321T200000
DTSTAMP:20260421T100216
CREATED:20240315T091640Z
LAST-MODIFIED:20240315T092310Z
UID:10000474-1711044000-1711051200@stayinmcallen.com
SUMMARY:Rainbow Roots
DESCRIPTION:Join us for an evening of pottery painting and planting for National Flower Day. Free entry and pots and seeds.
URL:https://stayinmcallen.com/events/rainbow-roots/
LOCATION:Casa Orgullo\, 300 S 2nd St #101\, McAllen\, 78501
CATEGORIES:Family Fun,Explore McAllen,Educational Activities,Children's Activities,Social Meetups
ATTACH;FMTTYPE=image/png:https://stayinmcallen.com/wp-content/uploads/2024/03/Capture-1-PfTh84.tmp_.png
END:VEVENT
BEGIN:VEVENT
DTSTART;TZID=America/Chicago:20240323T120000
DTEND;TZID=America/Chicago:20240323T150000
DTSTAMP:20260421T100216
CREATED:20240301T084426Z
LAST-MODIFIED:20240322T093520Z
UID:10000463-1711195200-1711206000@stayinmcallen.com
SUMMARY:2024 World Languages Festival Market
DESCRIPTION:???? Dive into a world of cultural wonders at the 2024 World Languages Festival Market! ????✨\nExperience an unforgettable celebration of international diversity on Saturday\, March 23rd from 12pm to 3pm at the McAllen Public Library! ???? Explore vibrant exhibits\, enjoy captivating music\, get crafty with hands-on activities\, and indulge in delicious global cuisine. The festival is FREE to attend\, and fun for the whole family!\n???????? Plus\, there’s still an opportunity for local vendors to join the fun!\nWhether you’re a retail enthusiast\, a passionate non-profit\, or a culinary wizard\, this is your chance to shine. ✨ Don’t miss out on this cultural extravaganza – apply now to become a vendor at www.mcallenlibrary.net/events/wlfmarket.\n????McAllen Public Library – Main Library\n4001 N. 23rd St.
URL:https://stayinmcallen.com/events/2024-world-languages-festival-market/
LOCATION:McAllen Public Library\, 4001 N 23rd St\, McAllen\, TX\, 78504\, United States
CATEGORIES:Family Fun,City Events,Art Exhibits,Food and Drink Events,Explore McAllen,Educational Activities,Children's Activities
ATTACH;FMTTYPE=image/png:https://stayinmcallen.com/wp-content/uploads/2024/03/IMG_3722-7Fo0sG.tmp_.png
ORGANIZER;CN="McAllen Public Library":MAILTO:ask@mcallen.libanswers.com
END:VEVENT
BEGIN:VEVENT
DTSTART;TZID=America/Chicago:20240323T170000
DTEND;TZID=America/Chicago:20240323T190000
DTSTAMP:20260421T100216
CREATED:20240315T091657Z
LAST-MODIFIED:20240322T093524Z
UID:10000475-1711213200-1711220400@stayinmcallen.com
SUMMARY:Rodeo In Spring
DESCRIPTION:Join us for our Rodeo In Spring 2024 school event!\nEnjoy carnival-style games hosted by our teachers\, a live performance by Ram Danesse\, and exciting activities for everyone! Don’t miss out on this free event open to the community!Are you interested in being a vendor?\nPlease fill out this Google form below for local vendors and businesses interested in participating!\nhttps://forms.gle/DBf6cAtpX3encaey5
URL:https://stayinmcallen.com/events/rodeo-in-spring/
LOCATION:Horizon Montessori I\, 320 N. Main St.\, Mcallen\, 78501
CATEGORIES:City Events,Explore McAllen,Children's Activities
ATTACH;FMTTYPE=image/jpeg:https://stayinmcallen.com/wp-content/uploads/2024/03/Yellow-Brown-Orange-Playful-Western-Birthday-Party-Invitation-Your-Story-scaled-SLxqre.tmp_.jpg
ORGANIZER;CN="@HM1":MAILTO:ysela.perez@hmps.net
END:VEVENT
END:VCALENDAR