BEGIN:VCALENDAR
VERSION:2.0
PRODID:-//Stayinmcallen - ECPv6.15.20//NONSGML v1.0//EN
CALSCALE:GREGORIAN
METHOD:PUBLISH
X-ORIGINAL-URL:https://stayinmcallen.com
X-WR-CALDESC:Events for Stayinmcallen
REFRESH-INTERVAL;VALUE=DURATION:PT1H
X-Robots-Tag:noindex
X-PUBLISHED-TTL:PT1H
BEGIN:VTIMEZONE
TZID:America/Chicago
BEGIN:DAYLIGHT
TZOFFSETFROM:-0600
TZOFFSETTO:-0500
TZNAME:CDT
DTSTART:20240310T080000
END:DAYLIGHT
BEGIN:STANDARD
TZOFFSETFROM:-0500
TZOFFSETTO:-0600
TZNAME:CST
DTSTART:20241103T070000
END:STANDARD
BEGIN:DAYLIGHT
TZOFFSETFROM:-0600
TZOFFSETTO:-0500
TZNAME:CDT
DTSTART:20250309T080000
END:DAYLIGHT
BEGIN:STANDARD
TZOFFSETFROM:-0500
TZOFFSETTO:-0600
TZNAME:CST
DTSTART:20251102T070000
END:STANDARD
BEGIN:DAYLIGHT
TZOFFSETFROM:-0600
TZOFFSETTO:-0500
TZNAME:CDT
DTSTART:20260308T080000
END:DAYLIGHT
BEGIN:STANDARD
TZOFFSETFROM:-0500
TZOFFSETTO:-0600
TZNAME:CST
DTSTART:20261101T070000
END:STANDARD
END:VTIMEZONE
BEGIN:VEVENT
DTSTART;TZID=America/Chicago:20250816T100000
DTEND;TZID=America/Chicago:20250816T170000
DTSTAMP:20260420T033718
CREATED:20250809T124942Z
LAST-MODIFIED:20250816T141854Z
UID:10002917-1755338400-1755363600@stayinmcallen.com
SUMMARY:IMAS Back to School Bash
DESCRIPTION:IMAS Back to School Bash📅 Saturday\, August 16\, 2025 | 🕙 10 AM – 5 PM📍 International Museum of Art & Science (IMAS) | 1900 W. Nolana Ave.\, McAllen\, TX\nKick off the school year with free admission to the International Museum of Art & Science’s annual Back to School Bash! Families can enjoy a fun-filled day of hands-on art & science activities\, free school supplies (while they last)\, live storytimes\, and community resource booths. Explore the latest exhibits\, make your own pencil pouch or patch\, and grab a bite from local food vendors on site.\n🎒 Free school supplies🎨 Family crafts & museum exhibits📚 Storytime with local author Patty Raymond🍔 Food trucks & community booths🔗 More info: www.theimasonline.org📞 (956) 681-2800
URL:https://stayinmcallen.com/events/imas-back-to-school-bash/
LOCATION:International Museum of Art & Science\, 998 Nolana Ave\, McAllen\, TX\, United States
CATEGORIES:Children's Activities
ATTACH;FMTTYPE=image/webp:https://stayinmcallen.com/wp-content/uploads/2025/08/Back-to-School-Bash-2024_1-1-Hvva0X.webp
ORGANIZER;CN="International Museum of Art &amp%3Bamp%3B Science":MAILTO:info@theimasonline.com
GEO:26.239329;-98.223922
X-APPLE-STRUCTURED-LOCATION;VALUE=URI;X-ADDRESS=International Museum of Art & Science 998 Nolana Ave McAllen TX United States;X-APPLE-RADIUS=500;X-TITLE=998 Nolana Ave:geo:-98.223922,26.239329
END:VEVENT
END:VCALENDAR