BEGIN:VCALENDAR
VERSION:2.0
PRODID:-//Stayinmcallen - ECPv6.15.20//NONSGML v1.0//EN
CALSCALE:GREGORIAN
METHOD:PUBLISH
X-ORIGINAL-URL:https://stayinmcallen.com
X-WR-CALDESC:Events for Stayinmcallen
REFRESH-INTERVAL;VALUE=DURATION:PT1H
X-Robots-Tag:noindex
X-PUBLISHED-TTL:PT1H
BEGIN:VTIMEZONE
TZID:America/Chicago
BEGIN:DAYLIGHT
TZOFFSETFROM:-0600
TZOFFSETTO:-0500
TZNAME:CDT
DTSTART:20230312T080000
END:DAYLIGHT
BEGIN:STANDARD
TZOFFSETFROM:-0500
TZOFFSETTO:-0600
TZNAME:CST
DTSTART:20231105T070000
END:STANDARD
BEGIN:DAYLIGHT
TZOFFSETFROM:-0600
TZOFFSETTO:-0500
TZNAME:CDT
DTSTART:20240310T080000
END:DAYLIGHT
BEGIN:STANDARD
TZOFFSETFROM:-0500
TZOFFSETTO:-0600
TZNAME:CST
DTSTART:20241103T070000
END:STANDARD
BEGIN:DAYLIGHT
TZOFFSETFROM:-0600
TZOFFSETTO:-0500
TZNAME:CDT
DTSTART:20250309T080000
END:DAYLIGHT
BEGIN:STANDARD
TZOFFSETFROM:-0500
TZOFFSETTO:-0600
TZNAME:CST
DTSTART:20251102T070000
END:STANDARD
END:VTIMEZONE
BEGIN:VEVENT
DTSTART;TZID=America/Chicago:20240127T120000
DTEND;TZID=America/Chicago:20240127T200000
DTSTAMP:20260421T173545
CREATED:20240112T071430Z
LAST-MODIFIED:20240126T073555Z
UID:10000426-1706356800-1706385600@stayinmcallen.com
SUMMARY:Ultra Gaming Expo
DESCRIPTION:ULTRA GAMING EXPO is a gaming-focused fan convention featuring Esports Tournaments\, Card Games\, Board Games\, Table Top Games\, a Retro Arcade\, Casual Gaming plus Cosplay\, Vendors\, Special Guests and more! Saturday\, January 27\, 2024 at the McAllen Convention Center.
URL:https://stayinmcallen.com/events/ultra-gaming-expo/
LOCATION:McAllen Convention Center\, 98 Center Ln\, McAllen\, TX\, United States
CATEGORIES:Live Music,Family Fun,Performing Arts,Conventions and Exhibitions,Art Exhibits,Food and Drink Events,Explore McAllen,Educational Activities,Meet and Greets,Seminars,Children's Activities,Photo Opportunities,Social Meetups,Concerts
ATTACH;FMTTYPE=image/jpeg:https://stayinmcallen.com/wp-content/uploads/2024/01/2024-ultra-gaming-expo-ruNIJ0.tmp_.jpg
GEO:26.19785;-98.277591
X-APPLE-STRUCTURED-LOCATION;VALUE=URI;X-ADDRESS=McAllen Convention Center 98 Center Ln McAllen TX United States;X-APPLE-RADIUS=500;X-TITLE=98 Center Ln:geo:-98.277591,26.19785
END:VEVENT
END:VCALENDAR