BEGIN:VCALENDAR
VERSION:2.0
PRODID:-//Stayinmcallen - ECPv6.15.20//NONSGML v1.0//EN
CALSCALE:GREGORIAN
METHOD:PUBLISH
X-ORIGINAL-URL:https://stayinmcallen.com
X-WR-CALDESC:Events for Stayinmcallen
REFRESH-INTERVAL;VALUE=DURATION:PT1H
X-Robots-Tag:noindex
X-PUBLISHED-TTL:PT1H
BEGIN:VTIMEZONE
TZID:America/Chicago
BEGIN:DAYLIGHT
TZOFFSETFROM:-0600
TZOFFSETTO:-0500
TZNAME:CDT
DTSTART:20230312T080000
END:DAYLIGHT
BEGIN:STANDARD
TZOFFSETFROM:-0500
TZOFFSETTO:-0600
TZNAME:CST
DTSTART:20231105T070000
END:STANDARD
BEGIN:DAYLIGHT
TZOFFSETFROM:-0600
TZOFFSETTO:-0500
TZNAME:CDT
DTSTART:20240310T080000
END:DAYLIGHT
BEGIN:STANDARD
TZOFFSETFROM:-0500
TZOFFSETTO:-0600
TZNAME:CST
DTSTART:20241103T070000
END:STANDARD
BEGIN:DAYLIGHT
TZOFFSETFROM:-0600
TZOFFSETTO:-0500
TZNAME:CDT
DTSTART:20250309T080000
END:DAYLIGHT
BEGIN:STANDARD
TZOFFSETFROM:-0500
TZOFFSETTO:-0600
TZNAME:CST
DTSTART:20251102T070000
END:STANDARD
END:VTIMEZONE
BEGIN:VEVENT
DTSTART;TZID=America/Chicago:20240515T190000
DTEND;TZID=America/Chicago:20240515T210000
DTSTAMP:20260421T100517
CREATED:20240509T121516Z
LAST-MODIFIED:20240515T134710Z
UID:10000524-1715799600-1715806800@stayinmcallen.com
SUMMARY:Atlas of Your Stars: Astrology Workshop Event
DESCRIPTION:Join us for an illuminating workshop where @golden_mirror_fortunes will help us explore how the stars align. ????From understanding your unique cosmic blueprint to discovering the celestial influences shaping your journey\, this interactive session promises insight\, empowerment\, and a deeper connection to yourself. ????Open to all identities and levels of astrological knowledge.✨
URL:https://stayinmcallen.com/events/atlas-of-your-stars-astrology-workshop-event/
LOCATION:Casa Orgullo\, 300 S 2nd St #101\, McAllen\, 78501
CATEGORIES:Family Fun,Explore McAllen,Educational Activities,Children's Activities,Social Meetups
ATTACH;FMTTYPE=image/png:https://stayinmcallen.com/wp-content/uploads/2024/05/capture-4-ZGR4vI.tmp_.png
END:VEVENT
END:VCALENDAR