BEGIN:VCALENDAR
VERSION:2.0
PRODID:-//Stayinmcallen - ECPv6.15.20//NONSGML v1.0//EN
CALSCALE:GREGORIAN
METHOD:PUBLISH
X-ORIGINAL-URL:https://stayinmcallen.com
X-WR-CALDESC:Events for Stayinmcallen
REFRESH-INTERVAL;VALUE=DURATION:PT1H
X-Robots-Tag:noindex
X-PUBLISHED-TTL:PT1H
BEGIN:VTIMEZONE
TZID:America/Chicago
BEGIN:DAYLIGHT
TZOFFSETFROM:-0600
TZOFFSETTO:-0500
TZNAME:CDT
DTSTART:20230312T080000
END:DAYLIGHT
BEGIN:STANDARD
TZOFFSETFROM:-0500
TZOFFSETTO:-0600
TZNAME:CST
DTSTART:20231105T070000
END:STANDARD
BEGIN:DAYLIGHT
TZOFFSETFROM:-0600
TZOFFSETTO:-0500
TZNAME:CDT
DTSTART:20240310T080000
END:DAYLIGHT
BEGIN:STANDARD
TZOFFSETFROM:-0500
TZOFFSETTO:-0600
TZNAME:CST
DTSTART:20241103T070000
END:STANDARD
BEGIN:DAYLIGHT
TZOFFSETFROM:-0600
TZOFFSETTO:-0500
TZNAME:CDT
DTSTART:20250309T080000
END:DAYLIGHT
BEGIN:STANDARD
TZOFFSETFROM:-0500
TZOFFSETTO:-0600
TZNAME:CST
DTSTART:20251102T070000
END:STANDARD
END:VTIMEZONE
BEGIN:VEVENT
DTSTART;TZID=America/Chicago:20240523T190000
DTEND;TZID=America/Chicago:20240523T210000
DTSTAMP:20260421T125458
CREATED:20240510T122937Z
LAST-MODIFIED:20240523T145849Z
UID:10000546-1716490800-1716498000@stayinmcallen.com
SUMMARY:Gaymer's Night Hangout
DESCRIPTION:🎮Get ready for a night of gaming and community for our Gaymer’s Night Hangout! 🕹 We will have Mario Kart & Smash Bros Ultimate on the Switch and Tekken & Mortal Kombat 1 on the PS5. Let’s level up friendships and have a blast together. 👾 Spread the word among friends & allies as we see you there 🌈
URL:https://stayinmcallen.com/events/gaymers-night-hangout/
LOCATION:Casa Orgullo\, 300 S 2nd St #101\, McAllen\, 78501
CATEGORIES:Family Fun,City Events,Explore McAllen,Children's Activities,Social Meetups
ATTACH;FMTTYPE=image/png:https://stayinmcallen.com/wp-content/uploads/2024/05/capture-5-bQwpA9.tmp_.png
END:VEVENT
END:VCALENDAR