BEGIN:VCALENDAR
VERSION:2.0
PRODID:-//Stayinmcallen - ECPv6.15.20//NONSGML v1.0//EN
CALSCALE:GREGORIAN
METHOD:PUBLISH
X-ORIGINAL-URL:https://stayinmcallen.com
X-WR-CALDESC:Events for Stayinmcallen
REFRESH-INTERVAL;VALUE=DURATION:PT1H
X-Robots-Tag:noindex
X-PUBLISHED-TTL:PT1H
BEGIN:VTIMEZONE
TZID:America/Chicago
BEGIN:DAYLIGHT
TZOFFSETFROM:-0600
TZOFFSETTO:-0500
TZNAME:CDT
DTSTART:20230312T080000
END:DAYLIGHT
BEGIN:STANDARD
TZOFFSETFROM:-0500
TZOFFSETTO:-0600
TZNAME:CST
DTSTART:20231105T070000
END:STANDARD
BEGIN:DAYLIGHT
TZOFFSETFROM:-0600
TZOFFSETTO:-0500
TZNAME:CDT
DTSTART:20240310T080000
END:DAYLIGHT
BEGIN:STANDARD
TZOFFSETFROM:-0500
TZOFFSETTO:-0600
TZNAME:CST
DTSTART:20241103T070000
END:STANDARD
BEGIN:DAYLIGHT
TZOFFSETFROM:-0600
TZOFFSETTO:-0500
TZNAME:CDT
DTSTART:20250309T080000
END:DAYLIGHT
BEGIN:STANDARD
TZOFFSETFROM:-0500
TZOFFSETTO:-0600
TZNAME:CST
DTSTART:20251102T070000
END:STANDARD
END:VTIMEZONE
BEGIN:VEVENT
DTSTART;TZID=America/Chicago:20240530T190000
DTEND;TZID=America/Chicago:20240530T210000
DTSTAMP:20260421T051459
CREATED:20240510T122950Z
LAST-MODIFIED:20240530T153055Z
UID:10000548-1717095600-1717102800@stayinmcallen.com
SUMMARY:Board Game Night
DESCRIPTION:🎲 Join us for an evening of fun and community at our Board Game Night! Everyone is welcome to roll the dice and make friends for a night of camaraderie and laughter. 🃏Participants can bring own games as well. 🎯
URL:https://stayinmcallen.com/events/board-game-night/
LOCATION:Casa Orgullo\, 300 S 2nd St #101\, McAllen\, 78501
CATEGORIES:Family Fun,City Events,Explore McAllen,Children's Activities,Social Meetups
ATTACH;FMTTYPE=image/png:https://stayinmcallen.com/wp-content/uploads/2024/05/capture-6-1iKyP2.tmp_.png
END:VEVENT
BEGIN:VEVENT
DTSTART;TZID=America/Chicago:20240601T110000
DTEND;TZID=America/Chicago:20240601T130000
DTSTAMP:20260421T051459
CREATED:20240601T152849Z
LAST-MODIFIED:20240601T152849Z
UID:10000583-1717239600-1717246800@stayinmcallen.com
SUMMARY:Summer Kick-Off Party
DESCRIPTION:McAllen Public Library is excited to announce the Summer Reading Challenge Kickoff Party\, taking place at Main Library from 11 AM to 1 PM on Saturday\, June 1st. Families are invited to join the fun-filled event\, featuring a variety of activities for all children and teens.\nAttendees can look forward to free popcorn\, raffles for kids and teens\, giveaways\, and engaging activities provided by our community partners. There will also be face painting\, crafts\, games\, and a special appearance by popular characters Bluey and Bingo.\nFor details about the Summer Reading Challenge\, please visit our website at www.mcallenlibrary.net.
URL:https://stayinmcallen.com/events/summer-kick-off-party/
LOCATION:McAllen Public Library\, 4001 N 23rd St\, McAllen\, TX\, 78504\, United States
CATEGORIES:Family Fun,City Events,Explore McAllen,Children's Activities
ATTACH;FMTTYPE=image/jpeg:https://stayinmcallen.com/wp-content/uploads/2024/06/JUN3_SummerKickoff-scaled-cailN3.tmp_.jpg
ORGANIZER;CN="McAllen Public Library":MAILTO:ask@mcallen.libanswers.com
END:VEVENT
BEGIN:VEVENT
DTSTART;TZID=America/Chicago:20240601T110000
DTEND;TZID=America/Chicago:20240601T130000
DTSTAMP:20260421T051459
CREATED:20240601T152849Z
LAST-MODIFIED:20240601T152849Z
UID:10000589-1717239600-1717246800@stayinmcallen.com
SUMMARY:Summer Kick-Off Party
DESCRIPTION:McAllen Public Library is excited to announce the Summer Reading Challenge Kickoff Party\, taking place at Main Library from 11 AM to 1 PM on Saturday\, June 1st. Families are invited to join the fun-filled event\, featuring a variety of activities for all children and teens.\nAttendees can look forward to free popcorn\, raffles for kids and teens\, giveaways\, and engaging activities provided by our community partners. There will also be face painting\, crafts\, games\, and a special appearance by popular characters Bluey and Bingo.\nFor details about the Summer Reading Challenge\, please visit our website at www.mcallenlibrary.net.
URL:https://stayinmcallen.com/events/summer-kick-off-party-2/
LOCATION:McAllen Public Library\, 4001 N 23rd St\, McAllen\, TX\, 78504\, United States
CATEGORIES:Family Fun,City Events,Explore McAllen,Children's Activities
ATTACH;FMTTYPE=image/jpeg:https://stayinmcallen.com/wp-content/uploads/2024/06/JUN3_SummerKickoff-scaled-nEIzvJ.tmp_.jpg
ORGANIZER;CN="McAllen Public Library":MAILTO:ask@mcallen.libanswers.com
END:VEVENT
END:VCALENDAR