BEGIN:VCALENDAR
VERSION:2.0
PRODID:-//Stayinmcallen - ECPv6.15.20//NONSGML v1.0//EN
CALSCALE:GREGORIAN
METHOD:PUBLISH
X-ORIGINAL-URL:https://stayinmcallen.com
X-WR-CALDESC:Events for Stayinmcallen
REFRESH-INTERVAL;VALUE=DURATION:PT1H
X-Robots-Tag:noindex
X-PUBLISHED-TTL:PT1H
BEGIN:VTIMEZONE
TZID:America/Chicago
BEGIN:DAYLIGHT
TZOFFSETFROM:-0600
TZOFFSETTO:-0500
TZNAME:CDT
DTSTART:20230312T080000
END:DAYLIGHT
BEGIN:STANDARD
TZOFFSETFROM:-0500
TZOFFSETTO:-0600
TZNAME:CST
DTSTART:20231105T070000
END:STANDARD
BEGIN:DAYLIGHT
TZOFFSETFROM:-0600
TZOFFSETTO:-0500
TZNAME:CDT
DTSTART:20240310T080000
END:DAYLIGHT
BEGIN:STANDARD
TZOFFSETFROM:-0500
TZOFFSETTO:-0600
TZNAME:CST
DTSTART:20241103T070000
END:STANDARD
BEGIN:DAYLIGHT
TZOFFSETFROM:-0600
TZOFFSETTO:-0500
TZNAME:CDT
DTSTART:20250309T080000
END:DAYLIGHT
BEGIN:STANDARD
TZOFFSETFROM:-0500
TZOFFSETTO:-0600
TZNAME:CST
DTSTART:20251102T070000
END:STANDARD
BEGIN:DAYLIGHT
TZOFFSETFROM:-0600
TZOFFSETTO:-0500
TZNAME:CDT
DTSTART:20260308T080000
END:DAYLIGHT
BEGIN:STANDARD
TZOFFSETFROM:-0500
TZOFFSETTO:-0600
TZNAME:CST
DTSTART:20261101T070000
END:STANDARD
END:VTIMEZONE
BEGIN:VEVENT
DTSTART;TZID=America/Chicago:20250214T100000
DTEND;TZID=America/Chicago:20250214T120000
DTSTAMP:20260425T161049
CREATED:20250206T224731Z
LAST-MODIFIED:20250213T233215Z
UID:10001980-1739527200-1739534400@stayinmcallen.com
SUMMARY:Fundraiser at Kendra Scott for IMAS
DESCRIPTION:Fundraiser at Kendra Scott for IMASFriday\, February 14\, 2025\n10:00 a.m. – 12:00 p.m.\nJoin us on Friday\, February 14\, from 10 AM to 12 PM at Kendra Scott in Mcallen\, at La Plaza Mall\, and support IMAS while you shop! A portion of all sales during these hours will benefit the International Museum of Art & Science.\nGet DirectionsOnline ShoppingCan’t make it in person?Shop online from Feb. 14\, 2025 (12 AM) to Feb. 15 (11:59 PM) and use the code:GIVEBACK-IOGVP at checkout to have a portion of your purchase support IMAS!\nShop Now
URL:https://stayinmcallen.com/events/fundraiser-at-kendra-scott-for-imas/
LOCATION:IMAS\, 101 W Nolana Ave\, McAllen\, TX\, United States
CATEGORIES:Special Event,Fundraiser,IMAS - International Museum of Art & Science
ATTACH;FMTTYPE=image/png:https://stayinmcallen.com/wp-content/uploads/2025/02/Kendra-Scott-Logo-CFmzkJ.tmp_.png
GEO:26.238021;-98.212333
X-APPLE-STRUCTURED-LOCATION;VALUE=URI;X-ADDRESS=IMAS 101 W Nolana Ave McAllen TX United States;X-APPLE-RADIUS=500;X-TITLE=101 W Nolana Ave:geo:-98.212333,26.238021
END:VEVENT
BEGIN:VEVENT
DTSTART;TZID=America/Chicago:20240914T180000
DTEND;TZID=America/Chicago:20240914T230000
DTSTAMP:20260425T161049
CREATED:20240510T123126Z
LAST-MODIFIED:20240829T004854Z
UID:10000563-1726336800-1726354800@stayinmcallen.com
SUMMARY:45th Annual Collage Gala
DESCRIPTION:SAVE THE DATE\nThe International Museum of Art & Science\nPRESENTS \nat the\nThe International Museum of Art & Science\nSaturday\, September 14\, 2024\n6:00-11:00 PM\nBlack Tie | Live Entertainment | Dinner & Open Bar | Valet Parking\n6:00 PM – Cocktail Hour\n7:30 PM – Dinner\n10PM – After Party\nThank you for all the support!\nFor sponsorship details or to donate to the live or silent auction\, contact our Development staff.\nAnastasia Perez\, Director of Development & Marketing\, ap****@***********ne.com\, (956)681-2815\nJacqueline Martinez\, Development Assistant\, jm*******@***********ne.com\, (956)681-2805
URL:https://stayinmcallen.com/events/45th-annual-collage-gala/
LOCATION:IMAS\, 101 W Nolana Ave\, McAllen\, TX\, United States
CATEGORIES:Special Event,Fundraiser,IMAS - International Museum of Art & Science
ATTACH;FMTTYPE=image/jpeg:https://stayinmcallen.com/wp-content/uploads/2024/08/Collage-2018_Venue-hfVUhf.tmp_.jpg
GEO:26.238021;-98.212333
X-APPLE-STRUCTURED-LOCATION;VALUE=URI;X-ADDRESS=IMAS 101 W Nolana Ave McAllen TX United States;X-APPLE-RADIUS=500;X-TITLE=101 W Nolana Ave:geo:-98.212333,26.238021
END:VEVENT
END:VCALENDAR