BEGIN:VCALENDAR
VERSION:2.0
PRODID:-//Stayinmcallen - ECPv6.15.20//NONSGML v1.0//EN
CALSCALE:GREGORIAN
METHOD:PUBLISH
X-ORIGINAL-URL:https://stayinmcallen.com
X-WR-CALDESC:Events for Stayinmcallen
REFRESH-INTERVAL;VALUE=DURATION:PT1H
X-Robots-Tag:noindex
X-PUBLISHED-TTL:PT1H
BEGIN:VTIMEZONE
TZID:America/Chicago
BEGIN:DAYLIGHT
TZOFFSETFROM:-0600
TZOFFSETTO:-0500
TZNAME:CDT
DTSTART:20230312T080000
END:DAYLIGHT
BEGIN:STANDARD
TZOFFSETFROM:-0500
TZOFFSETTO:-0600
TZNAME:CST
DTSTART:20231105T070000
END:STANDARD
BEGIN:DAYLIGHT
TZOFFSETFROM:-0600
TZOFFSETTO:-0500
TZNAME:CDT
DTSTART:20240310T080000
END:DAYLIGHT
BEGIN:STANDARD
TZOFFSETFROM:-0500
TZOFFSETTO:-0600
TZNAME:CST
DTSTART:20241103T070000
END:STANDARD
BEGIN:DAYLIGHT
TZOFFSETFROM:-0600
TZOFFSETTO:-0500
TZNAME:CDT
DTSTART:20250309T080000
END:DAYLIGHT
BEGIN:STANDARD
TZOFFSETFROM:-0500
TZOFFSETTO:-0600
TZNAME:CST
DTSTART:20251102T070000
END:STANDARD
BEGIN:DAYLIGHT
TZOFFSETFROM:-0600
TZOFFSETTO:-0500
TZNAME:CDT
DTSTART:20260308T080000
END:DAYLIGHT
BEGIN:STANDARD
TZOFFSETFROM:-0500
TZOFFSETTO:-0600
TZNAME:CST
DTSTART:20261101T070000
END:STANDARD
BEGIN:DAYLIGHT
TZOFFSETFROM:-0600
TZOFFSETTO:-0500
TZNAME:CDT
DTSTART:20270314T080000
END:DAYLIGHT
BEGIN:STANDARD
TZOFFSETFROM:-0500
TZOFFSETTO:-0600
TZNAME:CST
DTSTART:20271107T070000
END:STANDARD
END:VTIMEZONE
BEGIN:VEVENT
DTSTART;TZID=America/Chicago:20260411T180000
DTEND;TZID=America/Chicago:20260411T230000
DTSTAMP:20260425T145639
CREATED:20260114T000450Z
LAST-MODIFIED:20260114T000450Z
UID:10003481-1775930400-1775948400@stayinmcallen.com
SUMMARY:18th Annual Night at the Brew-seum
DESCRIPTION:Save the date for the\n 18th Annual Night at the Brew-seum\nSaturday\, April 18\nat the IMAS\n1900 W. Nolana Ave\, McAllen\, TX 78504\nSponsorship\, vendors\, breweries\, wineries\, and other beverage providers\, email cm*****@***********ne.com for more information and early commitment for participation in this annual fundraiser for the IMAS.
URL:https://stayinmcallen.com/events/18th-annual-night-at-the-brew-seum-2/
LOCATION:IMAS\, 101 W Nolana Ave\, McAllen\, TX\, United States
CATEGORIES:Special Event,Fundraiser,IMAS - International Museum of Art & Science,Adult Program
ATTACH;FMTTYPE=image/webp:https://stayinmcallen.com/wp-content/uploads/2025/04/2025-committee-brew-bubbles-scaled-l6oNAy.tmp_.webp
GEO:26.238021;-98.212333
X-APPLE-STRUCTURED-LOCATION;VALUE=URI;X-ADDRESS=IMAS 101 W Nolana Ave McAllen TX United States;X-APPLE-RADIUS=500;X-TITLE=101 W Nolana Ave:geo:-98.212333,26.238021
END:VEVENT
BEGIN:VEVENT
DTSTART;TZID=America/Chicago:20260411T180000
DTEND;TZID=America/Chicago:20260411T230000
DTSTAMP:20260425T145639
CREATED:20250410T133552Z
LAST-MODIFIED:20260411T172308Z
UID:10002337-1775930400-1775948400@stayinmcallen.com
SUMMARY:18th Annual Night at the Brew-seum
DESCRIPTION:Save the date for the\n 18th Annual Night at the Brew-seum\nSaturday\, April 11\nat the IMAS\n1900 W. Nolana Ave\, McAllen\, TX 78504\nSponsorship\, vendors\, breweries\, wineries\, and other beverage providers\, email cm*****@***********ne.com for more information and early commitment for participation in this annual fundraiser for the IMAS.
URL:https://stayinmcallen.com/events/18th-annual-night-at-the-brew-seum/
LOCATION:IMAS\, 101 W Nolana Ave\, McAllen\, TX\, United States
CATEGORIES:Special Event,Fundraiser,IMAS - International Museum of Art & Science,Adult Program
ATTACH;FMTTYPE=image/webp:https://stayinmcallen.com/wp-content/uploads/2025/04/2025-committee-brew-bubbles-scaled-l6oNAy.tmp_.webp
GEO:26.238021;-98.212333
X-APPLE-STRUCTURED-LOCATION;VALUE=URI;X-ADDRESS=IMAS 101 W Nolana Ave McAllen TX United States;X-APPLE-RADIUS=500;X-TITLE=101 W Nolana Ave:geo:-98.212333,26.238021
END:VEVENT
BEGIN:VEVENT
DTSTART;TZID=America/Chicago:20250906T180000
DTEND;TZID=America/Chicago:20250906T230000
DTSTAMP:20260425T145639
CREATED:20250410T133531Z
LAST-MODIFIED:20250907T013346Z
UID:10002334-1757181600-1757199600@stayinmcallen.com
SUMMARY:46th Annual Collage Gala
DESCRIPTION:Save the Date for the\n46th Annual Collage Gala\nSaturday\, September 6\, 2025\nat the International Museum of Art & Science\nBlack Tie | Dinner & Open Bar | Valet Parking\n6:00 PM – Cocktail Hour\n7:30 PM – Dinner\n10 PM – After Party\nSponsorship available now\nTickets and tables available July 1\nFor sponsorship details or to donate to the live or silent auction\, contact our Development staff.\nAnastasia Perez\, Director of Development & Marketing\, ap****@***********ne.com\, (956)681-2815\nCelina Michel\, Membership & Events Coordinator\, cm*****@***********ne.com\, (956)681-2817\nJacqueline Martinez\, Development Assistant\, jm*******@***********ne.com\, (956)681-2805
URL:https://stayinmcallen.com/events/46th-annual-collage-gala/
LOCATION:IMAS\, 101 W Nolana Ave\, McAllen\, TX\, United States
CATEGORIES:Special Event,Fundraiser,IMAS - International Museum of Art & Science,Adult Program
ATTACH;FMTTYPE=image/webp:https://stayinmcallen.com/wp-content/uploads/2025/04/0113-scaled-uYYFIK.tmp_.webp
GEO:26.238021;-98.212333
X-APPLE-STRUCTURED-LOCATION;VALUE=URI;X-ADDRESS=IMAS 101 W Nolana Ave McAllen TX United States;X-APPLE-RADIUS=500;X-TITLE=101 W Nolana Ave:geo:-98.212333,26.238021
END:VEVENT
BEGIN:VEVENT
DTSTART;TZID=America/Chicago:20250329T113000
DTEND;TZID=America/Chicago:20250329T140000
DTSTAMP:20260425T145639
CREATED:20250124T204620Z
LAST-MODIFIED:20250124T204620Z
UID:10001906-1743247800-1743256800@stayinmcallen.com
SUMMARY:IMAS Guild Style Show
DESCRIPTION:
URL:https://stayinmcallen.com/events/imas-guild-style-show-2/
LOCATION:IMAS\, 101 W Nolana Ave\, McAllen\, TX\, United States
CATEGORIES:Special Event,Fundraiser,IMAS - International Museum of Art & Science
ATTACH;FMTTYPE=image/jpeg:https://stayinmcallen.com/wp-content/uploads/2025/01/Style-Show-Artwork-WNR7w9.tmp_.jpg
GEO:26.238021;-98.212333
X-APPLE-STRUCTURED-LOCATION;VALUE=URI;X-ADDRESS=IMAS 101 W Nolana Ave McAllen TX United States;X-APPLE-RADIUS=500;X-TITLE=101 W Nolana Ave:geo:-98.212333,26.238021
END:VEVENT
BEGIN:VEVENT
DTSTART;TZID=America/Chicago:20250329T113000
DTEND;TZID=America/Chicago:20250329T140000
DTSTAMP:20260425T145639
CREATED:20250124T204614Z
LAST-MODIFIED:20250329T124843Z
UID:10001905-1743247800-1743256800@stayinmcallen.com
SUMMARY:IMAS Guild Style Show
DESCRIPTION:
URL:https://stayinmcallen.com/events/imas-guild-style-show/
LOCATION:IMAS\, 101 W Nolana Ave\, McAllen\, TX\, United States
CATEGORIES:Special Event,Fundraiser,IMAS - International Museum of Art & Science
ATTACH;FMTTYPE=image/jpeg:https://stayinmcallen.com/wp-content/uploads/2025/01/Style-Show-Artwork-WNR7w9.tmp_.jpg
GEO:26.238021;-98.212333
X-APPLE-STRUCTURED-LOCATION;VALUE=URI;X-ADDRESS=IMAS 101 W Nolana Ave McAllen TX United States;X-APPLE-RADIUS=500;X-TITLE=101 W Nolana Ave:geo:-98.212333,26.238021
END:VEVENT
BEGIN:VEVENT
DTSTART;TZID=America/Chicago:20250216T073000
DTEND;TZID=America/Chicago:20250216T110000
DTSTAMP:20260425T145639
CREATED:20250130T214538Z
LAST-MODIFIED:20250130T214538Z
UID:10001913-1739691000-1739703600@stayinmcallen.com
SUMMARY:I Run for Art 5K | IMAS Guild
DESCRIPTION:Join us for the 6th Annual IMAS Guild 5K Art Run/Walk\, supporting the International Museum of Art & Science in the Rio Grande Valley. This vibrant event raises funds for museum exhibitions and educational programs for children and families. Organized by the IMAS Guild\, a passionate group of women united by their love for the arts\, the day promises fun\, fitness\, and philanthropy. Lace up and join the cause!\nREGISTER >> Click here\nLocation\nFireman’s Park – McAllen\n201 N 1st St.\nMcAllen\, TX 78501\nRace Date & TimeSunday\, Feb. 16\, 2025\n7:30 AM – 11:00 AM\nT-Shirt Deadline\nFebruary 2nd\, 2025\nPrice Increases\nWednesday\, January 1\, 2025\nFebruary 1\, 2025
URL:https://stayinmcallen.com/events/i-run-for-art-5k-imas-guild-4/
LOCATION:Firemen’s Park\, 45 N 1st St\, McAllen\, TX\, United States
CATEGORIES:Special Event,Fundraiser,IMAS - International Museum of Art & Science,Youth Program,Adult Program
ATTACH;FMTTYPE=image/jpeg:https://stayinmcallen.com/wp-content/uploads/2023/01/IMG_2123-scaled-TrBH03.tmp_.jpg
GEO:26.201485;-98.219314
X-APPLE-STRUCTURED-LOCATION;VALUE=URI;X-ADDRESS=Firemen’s Park 45 N 1st St McAllen TX United States;X-APPLE-RADIUS=500;X-TITLE=45 N 1st St:geo:-98.219314,26.201485
END:VEVENT
BEGIN:VEVENT
DTSTART;TZID=America/Chicago:20250216T073000
DTEND;TZID=America/Chicago:20250216T110000
DTSTAMP:20260425T145639
CREATED:20250130T214536Z
LAST-MODIFIED:20250216T000211Z
UID:10001912-1739691000-1739703600@stayinmcallen.com
SUMMARY:I Run for Art 5K | IMAS Guild
DESCRIPTION:Join us for the 6th Annual IMAS Guild 5K Art Run/Walk\, supporting the International Museum of Art & Science in the Rio Grande Valley. This vibrant event raises funds for museum exhibitions and educational programs for children and families. Organized by the IMAS Guild\, a passionate group of women united by their love for the arts\, the day promises fun\, fitness\, and philanthropy. Lace up and join the cause!\nREGISTER >> Click here\nLocation\nFireman’s Park – McAllen\n201 N 1st St.\nMcAllen\, TX 78501\nRace Date & TimeSunday\, Feb. 16\, 2025\n7:30 AM – 11:00 AM\nT-Shirt Deadline\nFebruary 2nd\, 2025\nPrice Increases\nWednesday\, January 1\, 2025\nFebruary 1\, 2025
URL:https://stayinmcallen.com/events/i-run-for-art-5k-imas-guild-3/
LOCATION:Firemen’s Park\, 45 N 1st St\, McAllen\, TX\, United States
CATEGORIES:Special Event,Fundraiser,IMAS - International Museum of Art & Science,Youth Program,Adult Program
ATTACH;FMTTYPE=image/jpeg:https://stayinmcallen.com/wp-content/uploads/2023/01/IMG_2123-scaled-TrBH03.tmp_.jpg
GEO:26.201485;-98.219314
X-APPLE-STRUCTURED-LOCATION;VALUE=URI;X-ADDRESS=Firemen’s Park 45 N 1st St McAllen TX United States;X-APPLE-RADIUS=500;X-TITLE=45 N 1st St:geo:-98.219314,26.201485
END:VEVENT
BEGIN:VEVENT
DTSTART;TZID=America/Chicago:20250216T070000
DTEND;TZID=America/Chicago:20250216T100000
DTSTAMP:20260425T145639
CREATED:20241217T140136Z
LAST-MODIFIED:20241217T140136Z
UID:10001630-1739689200-1739700000@stayinmcallen.com
SUMMARY:I Run for Art 5K | IMAS Guild
DESCRIPTION:Join us for the 6th Annual IMAS Guild 5K Art Run/Walk\, supporting the International Museum of Art & Science in the Rio Grande Valley. This vibrant event raises funds for museum exhibitions and educational programs for children and families. Organized by the IMAS Guild\, a passionate group of women united by their love for the arts\, the day promises fun\, fitness\, and philanthropy. Lace up and join the cause!\nREGISTER >> Click here\nLocation\nFireman’s Park – McAllen\n201 N 1st St.\nMcAllen\, TX 78501\nRace Date & Time\nSunday\, Feb. 16\, 2025\n8:00 AM\nT-Shirt Deadline\nFebruary 2nd\, 2025\n \nPrice Increases\nWednesday\, January 1\, 2025\nFebruary 1\, 2025
URL:https://stayinmcallen.com/events/i-run-for-art-5k-imas-guild-2/
LOCATION:Firemen’s Park\, 45 N 1st St\, McAllen\, TX\, United States
CATEGORIES:Special Event,Fundraiser,IMAS - International Museum of Art & Science,Youth Program,Adult Program
ATTACH;FMTTYPE=image/jpeg:https://stayinmcallen.com/wp-content/uploads/2023/01/IMG_2123-scaled-TrBH03.tmp_.jpg
GEO:26.201485;-98.219314
X-APPLE-STRUCTURED-LOCATION;VALUE=URI;X-ADDRESS=Firemen’s Park 45 N 1st St McAllen TX United States;X-APPLE-RADIUS=500;X-TITLE=45 N 1st St:geo:-98.219314,26.201485
END:VEVENT
BEGIN:VEVENT
DTSTART;TZID=America/Chicago:20250216T070000
DTEND;TZID=America/Chicago:20250216T100000
DTSTAMP:20260425T145639
CREATED:20241217T140130Z
LAST-MODIFIED:20250129T214541Z
UID:10001629-1739689200-1739700000@stayinmcallen.com
SUMMARY:I Run for Art 5K | IMAS Guild
DESCRIPTION:Join us for the 6th Annual IMAS Guild 5K Art Run/Walk\, supporting the International Museum of Art & Science in the Rio Grande Valley. This vibrant event raises funds for museum exhibitions and educational programs for children and families. Organized by the IMAS Guild\, a passionate group of women united by their love for the arts\, the day promises fun\, fitness\, and philanthropy. Lace up and join the cause!\nREGISTER >> Click here\nLocation\nFireman’s Park – McAllen\n201 N 1st St.\nMcAllen\, TX 78501\nRace Date & Time\nSunday\, Feb. 16\, 2025\n8:00 AM\nT-Shirt Deadline\nFebruary 2nd\, 2025\n \nPrice Increases\nWednesday\, January 1\, 2025\nFebruary 1\, 2025
URL:https://stayinmcallen.com/events/i-run-for-art-5k-imas-guild/
LOCATION:Firemen’s Park\, 45 N 1st St\, McAllen\, TX\, United States
CATEGORIES:Special Event,Fundraiser,IMAS - International Museum of Art & Science,Youth Program,Adult Program
ATTACH;FMTTYPE=image/jpeg:https://stayinmcallen.com/wp-content/uploads/2023/01/IMG_2123-scaled-TrBH03.tmp_.jpg
GEO:26.201485;-98.219314
X-APPLE-STRUCTURED-LOCATION;VALUE=URI;X-ADDRESS=Firemen’s Park 45 N 1st St McAllen TX United States;X-APPLE-RADIUS=500;X-TITLE=45 N 1st St:geo:-98.219314,26.201485
END:VEVENT
BEGIN:VEVENT
DTSTART;TZID=America/Chicago:20250215T150000
DTEND;TZID=America/Chicago:20250215T170000
DTSTAMP:20260425T145639
CREATED:20250206T224744Z
LAST-MODIFIED:20250206T224744Z
UID:10001979-1739631600-1739638800@stayinmcallen.com
SUMMARY:I Run for Art - 5k Run/Walk Packet Pickup
DESCRIPTION:I Run for Art 5K Run/Walk – Packet Pickup\nFebruary 15\, 2025\n3PM – 5PM\nGet ready to hit the ground running! Pick up your race packet for the I Run for Art 5K Run/Walk ahead of race day. Your packet includes your race bib\, event t-shirt\, and any additional race materials. Skip the lines on race day by grabbing your gear early!\nBring your ID for verification. If picking up for a friend\, make sure to have their confirmation email and a copy of their ID. See you at the starting line!\nLearn More
URL:https://stayinmcallen.com/events/i-run-for-art-5k-run-walk-packet-pickup-2/
LOCATION:IMAS\, 101 W Nolana Ave\, McAllen\, TX\, United States
CATEGORIES:Special Event,Fundraiser,IMAS - International Museum of Art & Science
ATTACH;FMTTYPE=image/jpeg:https://stayinmcallen.com/wp-content/uploads/2025/02/5k-2024-Runners-wwTOA3.tmp_.jpg
GEO:26.238021;-98.212333
X-APPLE-STRUCTURED-LOCATION;VALUE=URI;X-ADDRESS=IMAS 101 W Nolana Ave McAllen TX United States;X-APPLE-RADIUS=500;X-TITLE=101 W Nolana Ave:geo:-98.212333,26.238021
END:VEVENT
BEGIN:VEVENT
DTSTART;TZID=America/Chicago:20250215T150000
DTEND;TZID=America/Chicago:20250215T170000
DTSTAMP:20260425T145639
CREATED:20250206T224742Z
LAST-MODIFIED:20250214T234711Z
UID:10001981-1739631600-1739638800@stayinmcallen.com
SUMMARY:I Run for Art - 5k Run/Walk Packet Pickup
DESCRIPTION:I Run for Art 5K Run/Walk – Packet Pickup\nFebruary 15\, 2025\n3PM – 5PM\nGet ready to hit the ground running! Pick up your race packet for the I Run for Art 5K Run/Walk ahead of race day. Your packet includes your race bib\, event t-shirt\, and any additional race materials. Skip the lines on race day by grabbing your gear early!\nBring your ID for verification. If picking up for a friend\, make sure to have their confirmation email and a copy of their ID. See you at the starting line!\nLearn More
URL:https://stayinmcallen.com/events/i-run-for-art-5k-run-walk-packet-pickup/
LOCATION:IMAS\, 101 W Nolana Ave\, McAllen\, TX\, United States
CATEGORIES:Special Event,Fundraiser,IMAS - International Museum of Art & Science
ATTACH;FMTTYPE=image/jpeg:https://stayinmcallen.com/wp-content/uploads/2025/02/5k-2024-Runners-wwTOA3.tmp_.jpg
GEO:26.238021;-98.212333
X-APPLE-STRUCTURED-LOCATION;VALUE=URI;X-ADDRESS=IMAS 101 W Nolana Ave McAllen TX United States;X-APPLE-RADIUS=500;X-TITLE=101 W Nolana Ave:geo:-98.212333,26.238021
END:VEVENT
BEGIN:VEVENT
DTSTART;TZID=America/Chicago:20250214T100000
DTEND;TZID=America/Chicago:20250214T120000
DTSTAMP:20260425T145639
CREATED:20250206T224732Z
LAST-MODIFIED:20250206T224732Z
UID:10001978-1739527200-1739534400@stayinmcallen.com
SUMMARY:Fundraiser at Kendra Scott for IMAS
DESCRIPTION:Fundraiser at Kendra Scott for IMASFriday\, February 14\, 2025\n10:00 a.m. – 12:00 p.m.\nJoin us on Friday\, February 14\, from 10 AM to 12 PM at Kendra Scott in Mcallen\, at La Plaza Mall\, and support IMAS while you shop! A portion of all sales during these hours will benefit the International Museum of Art & Science.\nGet DirectionsOnline ShoppingCan’t make it in person?Shop online from Feb. 14\, 2025 (12 AM) to Feb. 15 (11:59 PM) and use the code:GIVEBACK-IOGVP at checkout to have a portion of your purchase support IMAS!\nShop Now
URL:https://stayinmcallen.com/events/fundraiser-at-kendra-scott-for-imas-2/
LOCATION:IMAS\, 101 W Nolana Ave\, McAllen\, TX\, United States
CATEGORIES:Special Event,Fundraiser,IMAS - International Museum of Art & Science
ATTACH;FMTTYPE=image/png:https://stayinmcallen.com/wp-content/uploads/2025/02/Kendra-Scott-Logo-CFmzkJ.tmp_.png
GEO:26.238021;-98.212333
X-APPLE-STRUCTURED-LOCATION;VALUE=URI;X-ADDRESS=IMAS 101 W Nolana Ave McAllen TX United States;X-APPLE-RADIUS=500;X-TITLE=101 W Nolana Ave:geo:-98.212333,26.238021
END:VEVENT
BEGIN:VEVENT
DTSTART;TZID=America/Chicago:20250214T100000
DTEND;TZID=America/Chicago:20250214T120000
DTSTAMP:20260425T145639
CREATED:20250206T224731Z
LAST-MODIFIED:20250213T233215Z
UID:10001980-1739527200-1739534400@stayinmcallen.com
SUMMARY:Fundraiser at Kendra Scott for IMAS
DESCRIPTION:Fundraiser at Kendra Scott for IMASFriday\, February 14\, 2025\n10:00 a.m. – 12:00 p.m.\nJoin us on Friday\, February 14\, from 10 AM to 12 PM at Kendra Scott in Mcallen\, at La Plaza Mall\, and support IMAS while you shop! A portion of all sales during these hours will benefit the International Museum of Art & Science.\nGet DirectionsOnline ShoppingCan’t make it in person?Shop online from Feb. 14\, 2025 (12 AM) to Feb. 15 (11:59 PM) and use the code:GIVEBACK-IOGVP at checkout to have a portion of your purchase support IMAS!\nShop Now
URL:https://stayinmcallen.com/events/fundraiser-at-kendra-scott-for-imas/
LOCATION:IMAS\, 101 W Nolana Ave\, McAllen\, TX\, United States
CATEGORIES:Special Event,Fundraiser,IMAS - International Museum of Art & Science
ATTACH;FMTTYPE=image/png:https://stayinmcallen.com/wp-content/uploads/2025/02/Kendra-Scott-Logo-CFmzkJ.tmp_.png
GEO:26.238021;-98.212333
X-APPLE-STRUCTURED-LOCATION;VALUE=URI;X-ADDRESS=IMAS 101 W Nolana Ave McAllen TX United States;X-APPLE-RADIUS=500;X-TITLE=101 W Nolana Ave:geo:-98.212333,26.238021
END:VEVENT
BEGIN:VEVENT
DTSTART;TZID=America/Chicago:20240914T180000
DTEND;TZID=America/Chicago:20240914T230000
DTSTAMP:20260425T145639
CREATED:20240510T123126Z
LAST-MODIFIED:20240829T004854Z
UID:10000563-1726336800-1726354800@stayinmcallen.com
SUMMARY:45th Annual Collage Gala
DESCRIPTION:SAVE THE DATE\nThe International Museum of Art & Science\nPRESENTS \nat the\nThe International Museum of Art & Science\nSaturday\, September 14\, 2024\n6:00-11:00 PM\nBlack Tie | Live Entertainment | Dinner & Open Bar | Valet Parking\n6:00 PM – Cocktail Hour\n7:30 PM – Dinner\n10PM – After Party\nThank you for all the support!\nFor sponsorship details or to donate to the live or silent auction\, contact our Development staff.\nAnastasia Perez\, Director of Development & Marketing\, ap****@***********ne.com\, (956)681-2815\nJacqueline Martinez\, Development Assistant\, jm*******@***********ne.com\, (956)681-2805
URL:https://stayinmcallen.com/events/45th-annual-collage-gala/
LOCATION:IMAS\, 101 W Nolana Ave\, McAllen\, TX\, United States
CATEGORIES:Special Event,Fundraiser,IMAS - International Museum of Art & Science
ATTACH;FMTTYPE=image/jpeg:https://stayinmcallen.com/wp-content/uploads/2024/08/Collage-2018_Venue-hfVUhf.tmp_.jpg
GEO:26.238021;-98.212333
X-APPLE-STRUCTURED-LOCATION;VALUE=URI;X-ADDRESS=IMAS 101 W Nolana Ave McAllen TX United States;X-APPLE-RADIUS=500;X-TITLE=101 W Nolana Ave:geo:-98.212333,26.238021
END:VEVENT
END:VCALENDAR