BEGIN:VCALENDAR
VERSION:2.0
PRODID:-//Stayinmcallen - ECPv6.15.20//NONSGML v1.0//EN
CALSCALE:GREGORIAN
METHOD:PUBLISH
X-ORIGINAL-URL:https://stayinmcallen.com
X-WR-CALDESC:Events for Stayinmcallen
REFRESH-INTERVAL;VALUE=DURATION:PT1H
X-Robots-Tag:noindex
X-PUBLISHED-TTL:PT1H
BEGIN:VTIMEZONE
TZID:America/Chicago
BEGIN:DAYLIGHT
TZOFFSETFROM:-0600
TZOFFSETTO:-0500
TZNAME:CDT
DTSTART:20240310T080000
END:DAYLIGHT
BEGIN:STANDARD
TZOFFSETFROM:-0500
TZOFFSETTO:-0600
TZNAME:CST
DTSTART:20241103T070000
END:STANDARD
BEGIN:DAYLIGHT
TZOFFSETFROM:-0600
TZOFFSETTO:-0500
TZNAME:CDT
DTSTART:20250309T080000
END:DAYLIGHT
BEGIN:STANDARD
TZOFFSETFROM:-0500
TZOFFSETTO:-0600
TZNAME:CST
DTSTART:20251102T070000
END:STANDARD
BEGIN:DAYLIGHT
TZOFFSETFROM:-0600
TZOFFSETTO:-0500
TZNAME:CDT
DTSTART:20260308T080000
END:DAYLIGHT
BEGIN:STANDARD
TZOFFSETFROM:-0500
TZOFFSETTO:-0600
TZNAME:CST
DTSTART:20261101T070000
END:STANDARD
END:VTIMEZONE
BEGIN:VEVENT
DTSTART;TZID=America/Chicago:20250927T120000
DTEND;TZID=America/Chicago:20250927T180000
DTSTAMP:20260425T225827
CREATED:20250912T161941Z
LAST-MODIFIED:20250927T164846Z
UID:10003131-1758974400-1758996000@stayinmcallen.com
SUMMARY:13th Annual Breast Cancer Awareness 5K Run/Walk
DESCRIPTION:Hello\, everyone! Texas Oncology cordially invites you and yours to participate in our 13th Annual Breast Cancer Awareness 5K and 2.5 Mile Walk! Join us and help us raise much needed funds for the Texas Oncology Foundation and other local charities!\nEVENT DETAILS:\nChip Timed and Age Group Awards (5K Only).\n-All 5K participants must abide by all traffic laws.\nAge Groups: 1-14\, 15-19\, 20-29\, 30-39\, 40-49\, 50-59\, 60-64\, 65+\n2.5 Mile Walk\n-All 2.5 mile walk participants must abide by all traffic laws.\nPARTICIPANT T-SHIRT DEADLINE: 6:00PM: FRIDAY\, August 15th\, 2025\nPACKET PICK UP INFORMATION:\nFriday\, September 26th\, 2025 – 12:00PM-6:30PM\nDoubleTree Suites by Hilton Hotel – McAllen\n1800 S. 2nd Street\nMcAllen\, TX 78503
URL:https://stayinmcallen.com/events/13th-annual-breast-cancer-awareness-5k-run-walk/
LOCATION:Texas Oncology McAllen
CATEGORIES:Health and Wellness
ATTACH;FMTTYPE=image/webp:https://stayinmcallen.com/wp-content/uploads/2025/09/Breast-Cancer-Awareness-2025-5K-runwalk-doLk3Y.webp
END:VEVENT
END:VCALENDAR