BEGIN:VCALENDAR
VERSION:2.0
PRODID:-//Stayinmcallen - ECPv6.15.20//NONSGML v1.0//EN
CALSCALE:GREGORIAN
METHOD:PUBLISH
X-WR-CALNAME:Stayinmcallen
X-ORIGINAL-URL:https://stayinmcallen.com
X-WR-CALDESC:Events for Stayinmcallen
REFRESH-INTERVAL;VALUE=DURATION:PT1H
X-Robots-Tag:noindex
X-PUBLISHED-TTL:PT1H
BEGIN:VTIMEZONE
TZID:America/Chicago
BEGIN:DAYLIGHT
TZOFFSETFROM:-0600
TZOFFSETTO:-0500
TZNAME:CDT
DTSTART:20250309T080000
END:DAYLIGHT
BEGIN:STANDARD
TZOFFSETFROM:-0500
TZOFFSETTO:-0600
TZNAME:CST
DTSTART:20251102T070000
END:STANDARD
BEGIN:DAYLIGHT
TZOFFSETFROM:-0600
TZOFFSETTO:-0500
TZNAME:CDT
DTSTART:20260308T080000
END:DAYLIGHT
BEGIN:STANDARD
TZOFFSETFROM:-0500
TZOFFSETTO:-0600
TZNAME:CST
DTSTART:20261101T070000
END:STANDARD
BEGIN:DAYLIGHT
TZOFFSETFROM:-0600
TZOFFSETTO:-0500
TZNAME:CDT
DTSTART:20270314T080000
END:DAYLIGHT
BEGIN:STANDARD
TZOFFSETFROM:-0500
TZOFFSETTO:-0600
TZNAME:CST
DTSTART:20271107T070000
END:STANDARD
END:VTIMEZONE
BEGIN:VEVENT
DTSTART;TZID=America/Chicago:20260131T103000
DTEND;TZID=America/Chicago:20260131T113000
DTSTAMP:20260425T114545
CREATED:20260130T193048Z
LAST-MODIFIED:20260130T193048Z
UID:10003519-1769855400-1769859000@stayinmcallen.com
SUMMARY:Box + Pilates
DESCRIPTION: Box + Pilates Class Details\n“Strength meets control in one powerful workout.”\nThis dynamic class blends high-energy boxing with low-impact Pilates to help you burn calories\, tone muscles\, and strengthen your core—all in one session.\n Improve strength & endurance Sculpt and tone your entire body Build core stability & balance Relieve stress and boost confidence Suitable for all fitness levels\nLimited spots available\, register here!\nNo experience needed. All levels welcome.
URL:https://stayinmcallen.com/events/box-pilates/
LOCATION:FIT BOXING CLUB\, 2 N 10th St\, McAllen\, TX\, United States
CATEGORIES:Health and Wellness
ATTACH;FMTTYPE=image/webp:https://stayinmcallen.com/wp-content/uploads/2026/01/Box-Pilates-GMWURp.webp
ORGANIZER;CN="FIT BOXING CLUB":MAILTO:fitboxingclubmcallen@gmail.com
GEO:26.203393;-98.230076
X-APPLE-STRUCTURED-LOCATION;VALUE=URI;X-ADDRESS=FIT BOXING CLUB 2 N 10th St McAllen TX United States;X-APPLE-RADIUS=500;X-TITLE=2 N 10th St:geo:-98.230076,26.203393
END:VEVENT
BEGIN:VEVENT
DTSTART;TZID=America/Chicago:20260207T100000
DTEND;TZID=America/Chicago:20260207T113000
DTSTAMP:20260425T114545
CREATED:20260203T183303Z
LAST-MODIFIED:20260207T121029Z
UID:10003536-1770458400-1770463800@stayinmcallen.com
SUMMARY:Hot Girl Sculpt
DESCRIPTION:HOT GIRL SCULPT 🔥🔥💖\nThe BIGGEST Galentine’s event of the year is happening and you do not want to miss this!\nGrab your girlies and join us for a high-energy Hot Girl Sculpt — sweat\, pulses\, laughs\, and all the good vibes ✨\nThis event is all about friendship\, confidence\, and celebrating strong women together.\n💗 45-minute sculpt session\n💗 Fun vendors + Galentine vibes\n💗 Beauty essentials bag\n💗 Memories with your girls\n📍 Oak Texas Bar & Grill – 1200 Auburn Ave Ste 300 McAllen\, Texas\n📅 Feb 7\n⏰ 10:00 AM\n$35 Entry Fee\nSpots are limited — DM @secretsculptstudio on Instagram for tickets 💌
URL:https://stayinmcallen.com/events/hot-girl-sculpt/
LOCATION:Oak Texas Bar & Grill – North Park\, 1200 Auburn Ave Suite 300\, McAllen\, 78504
CATEGORIES:Health and Wellness,Holiday Events
ATTACH;FMTTYPE=image/webp:https://stayinmcallen.com/wp-content/uploads/2026/02/IMG_945F71DD616A-1-MEbpc6.webp
END:VEVENT
END:VCALENDAR