BEGIN:VCALENDAR
VERSION:2.0
PRODID:-//Stayinmcallen - ECPv6.15.20//NONSGML v1.0//EN
CALSCALE:GREGORIAN
METHOD:PUBLISH
X-ORIGINAL-URL:https://stayinmcallen.com
X-WR-CALDESC:Events for Stayinmcallen
REFRESH-INTERVAL;VALUE=DURATION:PT1H
X-Robots-Tag:noindex
X-PUBLISHED-TTL:PT1H
BEGIN:VTIMEZONE
TZID:America/Chicago
BEGIN:DAYLIGHT
TZOFFSETFROM:-0600
TZOFFSETTO:-0500
TZNAME:CDT
DTSTART:20250309T080000
END:DAYLIGHT
BEGIN:STANDARD
TZOFFSETFROM:-0500
TZOFFSETTO:-0600
TZNAME:CST
DTSTART:20251102T070000
END:STANDARD
BEGIN:DAYLIGHT
TZOFFSETFROM:-0600
TZOFFSETTO:-0500
TZNAME:CDT
DTSTART:20260308T080000
END:DAYLIGHT
BEGIN:STANDARD
TZOFFSETFROM:-0500
TZOFFSETTO:-0600
TZNAME:CST
DTSTART:20261101T070000
END:STANDARD
BEGIN:DAYLIGHT
TZOFFSETFROM:-0600
TZOFFSETTO:-0500
TZNAME:CDT
DTSTART:20270314T080000
END:DAYLIGHT
BEGIN:STANDARD
TZOFFSETFROM:-0500
TZOFFSETTO:-0600
TZNAME:CST
DTSTART:20271107T070000
END:STANDARD
END:VTIMEZONE
BEGIN:VEVENT
DTSTART;TZID=America/Chicago:20260329T140000
DTEND;TZID=America/Chicago:20260329T150000
DTSTAMP:20260425T184901
CREATED:20260301T125341Z
LAST-MODIFIED:20260329T101659Z
UID:10003618-1774792800-1774796400@stayinmcallen.com
SUMMARY:Elle et moi: A Celebration of Women in French Melodie
DESCRIPTION:UTRGV Concert Series at IMAS\nElle et moi: A Celebration of Women in French Mélodie\nMarch 29\, 2026 | 2:00 p.m. – 3:00 p.m.\nFeaturing: Diane Walters\, Soprano & Michael Ensign\, Pianist\nSpend your Sunday afternoons immersed in art and music at the UTRGV Concert Series at IMAS\, a special series of performances by faculty and students from the University of Texas Rio Grande Valley School of Music. Ranging from the romantics to the contemporary with piano\, cello\, jazz\, voice\, and percussion\, these community concerts are immersed in the fine art galleries of the International Museum of Art & Science and great for the whole family.\nIncluded with General Admission.\nFree for IMAS Members and UTRGV College of Fine Arts Patrons of the Arts\nIn partnership with UTRGV College of Fine Arts
URL:https://stayinmcallen.com/events/elle-et-moi-a-celebration-of-women-in-french-melodie/
LOCATION:TX
CATEGORIES:Live Music
ATTACH;FMTTYPE=image/webp:https://stayinmcallen.com/wp-content/uploads/2026/03/imas-GPD65O.webp
END:VEVENT
BEGIN:VEVENT
DTSTART;TZID=America/Chicago:20260410T200000
DTEND;TZID=America/Chicago:20260410T220000
DTSTAMP:20260425T184901
CREATED:20260401T064405Z
LAST-MODIFIED:20260410T052932Z
UID:10003652-1775851200-1775858400@stayinmcallen.com
SUMMARY:Valley Symphony Orchestra - Masterworks Season
DESCRIPTION:Enjoy the thrills of the symphony in 2026 at the McAllen Performing Arts Center!\nStar Wars + Four Hands – February 6\, 2026\nJourney to a galaxy far\, far away with this cinematic celebration of iconic Star Wars themes and sweeping movie moments. Piano soloists Haysun Kang and Christopher Guzman take the stage for an electrifying four-hand concerto by Bogdanov—making its North American premiere. It’s an imaginative\, adventurous performance that film fans and music lovers alike won’t want to miss.\nThe Beatles & Rutter Soul – March 6\, 2026\nThe beloved music of The Beatles returns to the stage in this upbeat\, nostalgic concert. Mezzo-soprano soloist Karmesha Peake joins the VSO for a night full of timeless hits and soulful harmonies. The evening also features the VSO Chorale performing Rutter’s expressive and uplifting Feel the Spirit\, creating a dynamic blend of pop nostalgia and choral artistry.\nLegacy of Sound – April 10\, 2026\nThe season concludes with a powerful tribute concert honoring Maestro Dabrowski’s remarkable 25 years of musical leadership. This celebratory performance highlights unforgettable moments\, meaningful memories\, and the enduring artistic impact he has made on the community. It’s a heartfelt finale to an extraordinary season.
URL:https://stayinmcallen.com/events/valley-symphony-orchestra-masterworks-season-3/
LOCATION:McAllen Performing Arts Center\, 99 Center Ln\, McAllen\, TX\, United States
CATEGORIES:Live Music
ATTACH;FMTTYPE=image/webp:https://stayinmcallen.com/wp-content/uploads/2026/02/VSO-msoL67.webp
GEO:26.19785;-98.277591
X-APPLE-STRUCTURED-LOCATION;VALUE=URI;X-ADDRESS=McAllen Performing Arts Center 99 Center Ln McAllen TX United States;X-APPLE-RADIUS=500;X-TITLE=99 Center Ln:geo:-98.277591,26.19785
END:VEVENT
END:VCALENDAR