BEGIN:VCALENDAR
VERSION:2.0
PRODID:-//Stayinmcallen - ECPv6.15.20//NONSGML v1.0//EN
CALSCALE:GREGORIAN
METHOD:PUBLISH
X-ORIGINAL-URL:https://stayinmcallen.com
X-WR-CALDESC:Events for Stayinmcallen
REFRESH-INTERVAL;VALUE=DURATION:PT1H
X-Robots-Tag:noindex
X-PUBLISHED-TTL:PT1H
BEGIN:VTIMEZONE
TZID:America/Chicago
BEGIN:DAYLIGHT
TZOFFSETFROM:-0600
TZOFFSETTO:-0500
TZNAME:CDT
DTSTART:20240310T080000
END:DAYLIGHT
BEGIN:STANDARD
TZOFFSETFROM:-0500
TZOFFSETTO:-0600
TZNAME:CST
DTSTART:20241103T070000
END:STANDARD
BEGIN:DAYLIGHT
TZOFFSETFROM:-0600
TZOFFSETTO:-0500
TZNAME:CDT
DTSTART:20250309T080000
END:DAYLIGHT
BEGIN:STANDARD
TZOFFSETFROM:-0500
TZOFFSETTO:-0600
TZNAME:CST
DTSTART:20251102T070000
END:STANDARD
BEGIN:DAYLIGHT
TZOFFSETFROM:-0600
TZOFFSETTO:-0500
TZNAME:CDT
DTSTART:20260308T080000
END:DAYLIGHT
BEGIN:STANDARD
TZOFFSETFROM:-0500
TZOFFSETTO:-0600
TZNAME:CST
DTSTART:20261101T070000
END:STANDARD
END:VTIMEZONE
BEGIN:VEVENT
DTSTART;TZID=America/Chicago:20250206T170000
DTEND;TZID=America/Chicago:20250206T190000
DTSTAMP:20260425T175143
CREATED:20241212T131651Z
LAST-MODIFIED:20250206T224710Z
UID:10001496-1738861200-1738868400@stayinmcallen.com
SUMMARY:Opening Member Reception: Paintings from Spanish America (1600-1800) from the Thoma Collection
DESCRIPTION:Opening Member Reception for\nPaintings from Spanish America (1600-1800) from the Thoma Collection\nThursday\, February 6\, 2025\n5:00 – 7:00 PM\nThis event is free for members and one of a series of exhibit previews and special experiences reserved for IMAS Members. Learn more about membership and join today! Membership may be purchased at the door or online in advance.
URL:https://stayinmcallen.com/events/opening-member-reception-paintings-from-spanish-america-1600-1800-from-the-thoma-collection/
LOCATION:IMAS\, 101 W Nolana Ave\, McAllen\, TX\, United States
CATEGORIES:IMAS - International Museum of Art & Science,Member Events
ATTACH;FMTTYPE=image/jpeg:https://stayinmcallen.com/wp-content/uploads/2024/12/Imagined-Worlds-Reception_0705-scaled-DX7bHD.tmp_-scaled.jpg
GEO:26.238021;-98.212333
X-APPLE-STRUCTURED-LOCATION;VALUE=URI;X-ADDRESS=IMAS 101 W Nolana Ave McAllen TX United States;X-APPLE-RADIUS=500;X-TITLE=101 W Nolana Ave:geo:-98.212333,26.238021
END:VEVENT
BEGIN:VEVENT
DTSTART;TZID=America/Chicago:20250207T160000
DTEND;TZID=America/Chicago:20250207T170000
DTSTAMP:20260425T175143
CREATED:20240702T183022Z
LAST-MODIFIED:20241231T160124Z
UID:10000671-1738944000-1738947600@stayinmcallen.com
SUMMARY:Uncollected Artwork Disposal Date - 4th Annual Members' Juried Art Show
DESCRIPTION:
URL:https://stayinmcallen.com/events/uncollected-artwork-disposal-date-4th-annual-members-juried-art-show/
LOCATION:IMAS\, 101 W Nolana Ave\, McAllen\, TX\, United States
CATEGORIES:Special Event,IMAS - International Museum of Art & Science,Member Events
ATTACH;FMTTYPE=image/png:https://stayinmcallen.com/wp-content/uploads/2024/07/MJAS-Winner-2023-NdAi8v.tmp_.png
GEO:26.238021;-98.212333
X-APPLE-STRUCTURED-LOCATION;VALUE=URI;X-ADDRESS=IMAS 101 W Nolana Ave McAllen TX United States;X-APPLE-RADIUS=500;X-TITLE=101 W Nolana Ave:geo:-98.212333,26.238021
END:VEVENT
END:VCALENDAR