BEGIN:VCALENDAR
VERSION:2.0
PRODID:-//Stayinmcallen - ECPv6.15.20//NONSGML v1.0//EN
CALSCALE:GREGORIAN
METHOD:PUBLISH
X-ORIGINAL-URL:https://stayinmcallen.com
X-WR-CALDESC:Events for Stayinmcallen
REFRESH-INTERVAL;VALUE=DURATION:PT1H
X-Robots-Tag:noindex
X-PUBLISHED-TTL:PT1H
BEGIN:VTIMEZONE
TZID:America/Chicago
BEGIN:DAYLIGHT
TZOFFSETFROM:-0600
TZOFFSETTO:-0500
TZNAME:CDT
DTSTART:20240310T080000
END:DAYLIGHT
BEGIN:STANDARD
TZOFFSETFROM:-0500
TZOFFSETTO:-0600
TZNAME:CST
DTSTART:20241103T070000
END:STANDARD
BEGIN:DAYLIGHT
TZOFFSETFROM:-0600
TZOFFSETTO:-0500
TZNAME:CDT
DTSTART:20250309T080000
END:DAYLIGHT
BEGIN:STANDARD
TZOFFSETFROM:-0500
TZOFFSETTO:-0600
TZNAME:CST
DTSTART:20251102T070000
END:STANDARD
BEGIN:DAYLIGHT
TZOFFSETFROM:-0600
TZOFFSETTO:-0500
TZNAME:CDT
DTSTART:20260308T080000
END:DAYLIGHT
BEGIN:STANDARD
TZOFFSETFROM:-0500
TZOFFSETTO:-0600
TZNAME:CST
DTSTART:20261101T070000
END:STANDARD
END:VTIMEZONE
BEGIN:VEVENT
DTSTART;TZID=America/Chicago:20251107T100000
DTEND;TZID=America/Chicago:20251107T170000
DTSTAMP:20260425T035945
CREATED:20251105T154207Z
LAST-MODIFIED:20251107T042213Z
UID:10003211-1762509600-1762534800@stayinmcallen.com
SUMMARY:Artwork Submission - 5th Annual Members' Juried Art Show
DESCRIPTION:Members’ Juried Art Show provides a welcoming space and opportunity for the community to professionally display their artwork at IMAS\, available to be seen by museum visitors of all ages.\nDrop off your artwork at IMAS along with your application on any of the dates below:\nFriday\, November 7\, 2025 | 10:00 a.m. – 5:00 p.m.\nSaturday\, November 8\, 2025 | 10:00 a.m. – 5:00 p.m.\nSubmitting artwork to be exhibited in this show is an IMAS membership benefit. All current IMAS members 18 years old or older may enter up to two pieces of artwork; at least one will be included in the show. Up to two adults from the same household address may participate if they have a Family membership or higher level. A membership can be purchased or renewed up to the date of artwork submission. If you have not renewed for 2025\, you will need to renew before entering. Contact IMAS for renewal or questions at (956) 681-2800 or visit www.theimasonline.org/member.
URL:https://stayinmcallen.com/events/artwork-submission-5th-annual-members-juried-art-show/
LOCATION:IMAS\, 101 W Nolana Ave\, McAllen\, TX\, United States
CATEGORIES:IMAS - International Museum of Art & Science,Member Events
ATTACH;FMTTYPE=image/webp:https://stayinmcallen.com/wp-content/uploads/2025/11/5th-Annual-MJAS_1200x630-PLS35G.webp
GEO:26.238021;-98.212333
X-APPLE-STRUCTURED-LOCATION;VALUE=URI;X-ADDRESS=IMAS 101 W Nolana Ave McAllen TX United States;X-APPLE-RADIUS=500;X-TITLE=101 W Nolana Ave:geo:-98.212333,26.238021
END:VEVENT
BEGIN:VEVENT
DTSTART;TZID=America/Chicago:20251108T100000
DTEND;TZID=America/Chicago:20251108T170000
DTSTAMP:20260425T035945
CREATED:20251105T154213Z
LAST-MODIFIED:20251107T042217Z
UID:10003212-1762596000-1762621200@stayinmcallen.com
SUMMARY:Artwork Submission - 5th Annual Members' Juried Art Show
DESCRIPTION:Members’ Juried Art Show provides a welcoming space and opportunity for the community to professionally display their artwork at IMAS\, available to be seen by museum visitors of all ages.\nDrop off your artwork at IMAS along with your application on any of the dates below:\nFriday\, November 7\, 2025 | 10:00 a.m. – 5:00 p.m.\nSaturday\, November 8\, 2025 | 10:00 a.m. – 5:00 p.m.\nSubmitting artwork to be exhibited in this show is an IMAS membership benefit. All current IMAS members 18 years old or older may enter up to two pieces of artwork; at least one will be included in the show. Up to two adults from the same household address may participate if they have a Family membership or higher level. A membership can be purchased or renewed up to the date of artwork submission. If you have not renewed for 2025\, you will need to renew before entering. Contact IMAS for renewal or questions at (956) 681-2800 or visit www.theimasonline.org/member.
URL:https://stayinmcallen.com/events/artwork-submission-5th-annual-members-juried-art-show-2/
LOCATION:IMAS\, 101 W Nolana Ave\, McAllen\, TX\, United States
CATEGORIES:IMAS - International Museum of Art & Science,Member Events
ATTACH;FMTTYPE=image/webp:https://stayinmcallen.com/wp-content/uploads/2025/11/5th-Annual-MJAS_1200x630-PLS35G.webp
GEO:26.238021;-98.212333
X-APPLE-STRUCTURED-LOCATION;VALUE=URI;X-ADDRESS=IMAS 101 W Nolana Ave McAllen TX United States;X-APPLE-RADIUS=500;X-TITLE=101 W Nolana Ave:geo:-98.212333,26.238021
END:VEVENT
END:VCALENDAR