BEGIN:VCALENDAR
VERSION:2.0
PRODID:-//Stayinmcallen - ECPv6.15.20//NONSGML v1.0//EN
CALSCALE:GREGORIAN
METHOD:PUBLISH
X-ORIGINAL-URL:https://stayinmcallen.com
X-WR-CALDESC:Events for Stayinmcallen
REFRESH-INTERVAL;VALUE=DURATION:PT1H
X-Robots-Tag:noindex
X-PUBLISHED-TTL:PT1H
BEGIN:VTIMEZONE
TZID:America/Chicago
BEGIN:DAYLIGHT
TZOFFSETFROM:-0600
TZOFFSETTO:-0500
TZNAME:CDT
DTSTART:20240310T080000
END:DAYLIGHT
BEGIN:STANDARD
TZOFFSETFROM:-0500
TZOFFSETTO:-0600
TZNAME:CST
DTSTART:20241103T070000
END:STANDARD
BEGIN:DAYLIGHT
TZOFFSETFROM:-0600
TZOFFSETTO:-0500
TZNAME:CDT
DTSTART:20250309T080000
END:DAYLIGHT
BEGIN:STANDARD
TZOFFSETFROM:-0500
TZOFFSETTO:-0600
TZNAME:CST
DTSTART:20251102T070000
END:STANDARD
BEGIN:DAYLIGHT
TZOFFSETFROM:-0600
TZOFFSETTO:-0500
TZNAME:CDT
DTSTART:20260308T080000
END:DAYLIGHT
BEGIN:STANDARD
TZOFFSETFROM:-0500
TZOFFSETTO:-0600
TZNAME:CST
DTSTART:20261101T070000
END:STANDARD
END:VTIMEZONE
BEGIN:VEVENT
DTSTART;TZID=America/Chicago:20250509T110000
DTEND;TZID=America/Chicago:20250511T220000
DTSTAMP:20260425T181736
CREATED:20250501T074957Z
LAST-MODIFIED:20250511T084819Z
UID:10002419-1746788400-1747000800@stayinmcallen.com
SUMMARY:MXLAN 2025
DESCRIPTION:MXLAN is a 3-day summer art and music festival that celebrates young Latino culture through immersive experiences in art\, music\, and community. This vibrant celebration returns to the McAllen Convention Center with:\nThe Artisan Mercado\, featuring handmade goods\, clothing\, art\, and more\nLive mural painting throughout the weekend in Creator in Motion\nHigh-energy performances including folklórico\, fire dancers\, and live music\nThe colorful Calenda Parade\, bringing movement and tradition to the outdoor plaza\nA wide variety of food and drink vendors offering local flavors and festival favorites\nThe Neon Nights 5K on opening night (May 9)\, with medals\, shirts\, and free fest admission for participants\nFireworks and the iconic burning of the MXLAN letters to close out the night\nStay tuned for more announcements!\nMXLAN is more than a festival—it’s an expression of roots\, culture\, and creative energy.\nFor the latest updates\, schedule\, and ticket info\, visit MXLAN.com.\n📅 May 9–11\, 2025📍 McAllen Convention Center700 Convention Center Blvd\, McAllen\, TX 78501
URL:https://stayinmcallen.com/events/mxlan-2025/
LOCATION:McAllen Convention Center\, 98 Center Ln\, McAllen\, TX\, United States
CATEGORIES:Live Music,Family Fun,Performing Arts,Conventions and Exhibitions,City Events,Parks and Outdoors,Health and Wellness,Art Exhibits,Food and Drink Events,Holiday Events,Shopping,Children's Activities,Photo Opportunities,Nightlife,Concerts
ATTACH;FMTTYPE=image/webp:https://stayinmcallen.com/wp-content/uploads/2025/05/mxlan-event-flyer-Thlqf4.webp
GEO:26.19785;-98.277591
X-APPLE-STRUCTURED-LOCATION;VALUE=URI;X-ADDRESS=McAllen Convention Center 98 Center Ln McAllen TX United States;X-APPLE-RADIUS=500;X-TITLE=98 Center Ln:geo:-98.277591,26.19785
END:VEVENT
BEGIN:VEVENT
DTSTART;TZID=America/Chicago:20250516T190000
DTEND;TZID=America/Chicago:20250516T230000
DTSTAMP:20260425T181736
CREATED:20250501T075055Z
LAST-MODIFIED:20250516T091833Z
UID:10002425-1747422000-1747436400@stayinmcallen.com
SUMMARY:Rosegarden Funeral Party
DESCRIPTION:Dallas TX based post punk trio\, Rosegarden Funeral Party\, make their RGV debut May 16th at the Gremlin in McAllen TX.\nFor fans of: Siouxsie Sioux\, the Smiths\, the Chameleons\, more.\nTickets on sale now.\nhttps://www.eventbrite.com/e/rosegarden-funeral-party-tickets-1224287359449?utm-campaign=social&utm-content=attendeeshare&utm-medium=discovery&utm-term=listing&utm-source=cp&aff=ebdsshcopyurl
URL:https://stayinmcallen.com/events/rosegarden-funeral-party/
LOCATION:The Gremlin\, 322 s. 16th st\,\, McAllen\, 78501
CATEGORIES:Live Music,Performing Arts,Nightlife
ATTACH;FMTTYPE=image/webp:https://stayinmcallen.com/wp-content/uploads/2025/05/rosegarden-funeral-party-teeMsY.webp
END:VEVENT
BEGIN:VEVENT
DTSTART;TZID=America/Chicago:20250516T200000
DTEND;TZID=America/Chicago:20250516T233000
DTSTAMP:20260425T181736
CREATED:20250501T075106Z
LAST-MODIFIED:20250516T091838Z
UID:10002426-1747425600-1747438200@stayinmcallen.com
SUMMARY:Some Kind of Metal
DESCRIPTION:McAllen\, get ready to rage—Some Kind of Metal is bringing a heavy-hitting lineup to The Flying Walrus for one unforgettable night of pure metal mayhem. Expect loud riffs\, heavy breakdowns\, and enough energy to shake the street.\n🔥 Featuring:\nGrieved (SATX)\nMy Place Was Taken (Matamoros)\nKryptik Mutation\nA Day Without the Sun\nGoonz\nThe Ghost of Us\nWhether you’re into thrash\, doom\, hardcore\, or something in between\, this is your night to go full volume. Mosh pit optional… but encouraged.\n📍 The Flying Walrus – 204 S 17th St\, McAllen\, TX\n📅 Friday\, May 16th\n🕗 Doors open at 7 PM\n🎟️ $10 at the door | 18+ only
URL:https://stayinmcallen.com/events/some-kind-of-metal/
LOCATION:The Flying Walrus\, 204 S 17th St\, McAllen\, TX\, United States
CATEGORIES:Live Music,Nightlife,Concerts,Rock Music
ATTACH;FMTTYPE=image/webp:https://stayinmcallen.com/wp-content/uploads/2025/05/some-kind-of-metal-walrus-update-r69akG.webp
GEO:26.202828;-98.238122
X-APPLE-STRUCTURED-LOCATION;VALUE=URI;X-ADDRESS=The Flying Walrus 204 S 17th St McAllen TX United States;X-APPLE-RADIUS=500;X-TITLE=204 S 17th St:geo:-98.238122,26.202828
END:VEVENT
BEGIN:VEVENT
DTSTART;TZID=America/Chicago:20250522T180000
DTEND;TZID=America/Chicago:20250522T200000
DTSTAMP:20260425T181736
CREATED:20250515T090412Z
LAST-MODIFIED:20250522T131857Z
UID:10002489-1747936800-1747944000@stayinmcallen.com
SUMMARY:IMAS After Dark: Cosmic Competition Trivia Night
DESCRIPTION:Cosmic Competition Trivia NightMay 22\, 2025 | 6:00 p.m. – 8:00 p.m.\nDo you love to geek out about the cosmos and enjoy some friendly competition? Come enjoy some wine with friends at Cosmic Competition Trivia Night. Form a team\, up to six people\, or come solo and join a team and make new friends. Register in person\, on the day of the event or pre-register online! Brush up on your Solar System facts! Categories include: The Sun\, Mercury\, Venus\, Earth\, Mars\, Asteroid Belt\, Jupiter\, Saturn\, Uranus\, Neptune and Pluto.\nThis event is for ages 21+ must bring a valid I.D.\n$25 per participant | $20 for IMAS Members\nMore information: https://theimasonline.org/
URL:https://stayinmcallen.com/events/imas-after-dark-cosmic-competition-trivia-night-2/
LOCATION:International Museum of Art & Science\, 998 Nolana Ave\, McAllen\, TX\, United States
CATEGORIES:Nightlife
ATTACH;FMTTYPE=image/webp:https://stayinmcallen.com/wp-content/uploads/2025/05/may22IMASafterDark-ZUqsmc.webp
ORGANIZER;CN="International Museum of Art &amp%3Bamp%3B Science":MAILTO:info@theimasonline.com
GEO:26.239329;-98.223922
X-APPLE-STRUCTURED-LOCATION;VALUE=URI;X-ADDRESS=International Museum of Art & Science 998 Nolana Ave McAllen TX United States;X-APPLE-RADIUS=500;X-TITLE=998 Nolana Ave:geo:-98.223922,26.239329
END:VEVENT
BEGIN:VEVENT
DTSTART;TZID=America/Chicago:20250523T190000
DTEND;TZID=America/Chicago:20250523T230000
DTSTAMP:20260425T181736
CREATED:20250501T075113Z
LAST-MODIFIED:20250523T131829Z
UID:10002427-1748026800-1748041200@stayinmcallen.com
SUMMARY:Zzzahara
DESCRIPTION:LA based alt artist\, Zzzahara\, makes their Rio Grande Valley debut on May 23\, 2025 at the Gremlin in McAllen\, TX.\nAll ages show.\nTickets on sale via the link:\nhttps://www.eventbrite.com/e/zzzahara-tickets-1220192110449?utm-campaign=social&utm-content=attendeeshare&utm-medium=discovery&utm-term=listing&utm-source=cp&aff=ebdsshcopyurl
URL:https://stayinmcallen.com/events/zzzahara/
LOCATION:The Gremlin\, 322 s. 16th st\,\, McAllen\, 78501
CATEGORIES:Live Music,Performing Arts,Nightlife
ATTACH;FMTTYPE=image/webp:https://stayinmcallen.com/wp-content/uploads/2025/05/zzzahara-IYhNYt.webp
END:VEVENT
BEGIN:VEVENT
DTSTART;TZID=America/Chicago:20250531T183000
DTEND;TZID=America/Chicago:20250531T210000
DTSTAMP:20260425T181736
CREATED:20250529T133428Z
LAST-MODIFIED:20250531T134856Z
UID:10002525-1748716200-1748725200@stayinmcallen.com
SUMMARY:McHi Mariachi Oro Mariachi Spectacular
DESCRIPTION:This event is the annual end of year concert for McHi Mariachi Oro. After yet another award winning year filled with many achievements including winning their 8th State Championship title\, McHi Mariachi Oro was also invited to Washington D.C. to be recognized for their musical excellence. The group will travel to Washington D.C. the week of June 9\, 2025.  So\, join us and many other enthusiasts of mariachi music as this group of talented young musicians plays traditional and contemporary mariachi music at the end of year concert. The audience will be treated to a special performance by a local folklorico group form Thigpen-Zavala Elementary and will also have the opportunity to meet and greet all the members of the 8x State Championship group of an opportunity to autographed group poster for a nominal donation.
URL:https://stayinmcallen.com/events/mchi-mariachi-oro-mariachi-spectacular/
LOCATION:McAllen High School\, 2021 La Vista Ave.\, McAllen\, 78501
CATEGORIES:Live Music,Family Fun,Performing Arts,Educational Activities,Meet and Greets,Photo Opportunities,Nightlife,Concerts
ATTACH;FMTTYPE=image/webp:https://stayinmcallen.com/wp-content/uploads/2025/05/A80FC133-6F89-403E-B59E-110D156F74EC-o2tOFL.webp
ORGANIZER;CN="McHi Mariachi Oro":MAILTO:Mariachioromchi@gmail.com
END:VEVENT
END:VCALENDAR