BEGIN:VCALENDAR
VERSION:2.0
PRODID:-//Stayinmcallen - ECPv6.15.20//NONSGML v1.0//EN
CALSCALE:GREGORIAN
METHOD:PUBLISH
X-ORIGINAL-URL:https://stayinmcallen.com
X-WR-CALDESC:Events for Stayinmcallen
REFRESH-INTERVAL;VALUE=DURATION:PT1H
X-Robots-Tag:noindex
X-PUBLISHED-TTL:PT1H
BEGIN:VTIMEZONE
TZID:America/Chicago
BEGIN:DAYLIGHT
TZOFFSETFROM:-0600
TZOFFSETTO:-0500
TZNAME:CDT
DTSTART:20240310T080000
END:DAYLIGHT
BEGIN:STANDARD
TZOFFSETFROM:-0500
TZOFFSETTO:-0600
TZNAME:CST
DTSTART:20241103T070000
END:STANDARD
BEGIN:DAYLIGHT
TZOFFSETFROM:-0600
TZOFFSETTO:-0500
TZNAME:CDT
DTSTART:20250309T080000
END:DAYLIGHT
BEGIN:STANDARD
TZOFFSETFROM:-0500
TZOFFSETTO:-0600
TZNAME:CST
DTSTART:20251102T070000
END:STANDARD
BEGIN:DAYLIGHT
TZOFFSETFROM:-0600
TZOFFSETTO:-0500
TZNAME:CDT
DTSTART:20260308T080000
END:DAYLIGHT
BEGIN:STANDARD
TZOFFSETFROM:-0500
TZOFFSETTO:-0600
TZNAME:CST
DTSTART:20261101T070000
END:STANDARD
END:VTIMEZONE
BEGIN:VEVENT
DTSTART;TZID=America/Chicago:20250623T200000
DTEND;TZID=America/Chicago:20250623T200000
DTSTAMP:20260425T164549
CREATED:20250623T194823Z
LAST-MODIFIED:20250623T194823Z
UID:10002632-1750708800-1750708800@stayinmcallen.com
SUMMARY:Eat. Drink. Remember. Anthony Bourdain Tribute Night
DESCRIPTION:Celebrate with us as we honor a true pioneer in the service industry\, someone who inspired so many of us. Once a month on Mondays\, we host Industry Night\, a night of fun\, drinks\, and karaoke for those who work weekends—whether you’re cooking\, serving\, or slinging drinks.\nEveryone’s welcome! Enjoy food and drink specials\, and come dressed as Bourdain himself (think plain white tee and leather jacket)
URL:https://stayinmcallen.com/events/eat-drink-remember-anthony-bourdain-tribute-night/
LOCATION:Santo Pecado\, 200 Auburn Ave\, McAllen\, TX\, United States
CATEGORIES:Nightlife
ATTACH;FMTTYPE=image/webp:https://stayinmcallen.com/wp-content/uploads/2025/06/Black-and-Gold-Illustrated-Webinar-Event-Instagram-Post-FJJYIy.webp
GEO:26.272815;-98.208163
X-APPLE-STRUCTURED-LOCATION;VALUE=URI;X-ADDRESS=Santo Pecado 200 Auburn Ave McAllen TX United States;X-APPLE-RADIUS=500;X-TITLE=200 Auburn Ave:geo:-98.208163,26.272815
END:VEVENT
BEGIN:VEVENT
DTSTART;TZID=America/Chicago:20250625T080000
DTEND;TZID=America/Chicago:20250625T170000
DTSTAMP:20260425T164549
CREATED:20250625T201827Z
LAST-MODIFIED:20250625T201827Z
UID:10002634-1750838400-1750870800@stayinmcallen.com
SUMMARY:Sailor Moon Rave at The Bearded Lady
DESCRIPTION:🌙✨ In the name of the moon… we RAVE! ✨🌙\nJoin us Sunday\, June 29th as we celebrate Sailor Moon’s birthday the only way we know how — with glitter\, bass\, and celestial vibes 💫🪩\n🎂 We’re counting down to midnight for a birthday tribute fit for a Moon Princess 👑🌌\n🎶 Raving until 2AM\n🌈 Dress cosmic\, dance dramatic\, and channel your inner magic.\n📍The Bearded Lady | McAllen\, TX\n⏰ Doors at 8PM | Party past the moon
URL:https://stayinmcallen.com/events/sailor-moon-rave-at-the-bearded-lady/
LOCATION:Texas
CATEGORIES:Nightlife
ATTACH;FMTTYPE=image/webp:https://stayinmcallen.com/wp-content/uploads/2025/06/unnamed-hEbx3Z.webp
END:VEVENT
BEGIN:VEVENT
DTSTART;TZID=America/Chicago:20250626T200000
DTEND;TZID=America/Chicago:20250626T230000
DTSTAMP:20260425T164549
CREATED:20250614T170448Z
LAST-MODIFIED:20250626T203326Z
UID:10002629-1750968000-1750978800@stayinmcallen.com
SUMMARY:3BallMTY
DESCRIPTION:Latin Grammy award winning dj group\, 3BallMTY\, will play Cine El Rey on June 26th and 27th.\nSpecial guests: Tavo Rayo + Queen Killah Bee\nTickets on sale NOW via link / eventbrite.com
URL:https://stayinmcallen.com/events/3ballmty/
LOCATION:Texas
CATEGORIES:Live Music,Nightlife
ATTACH;FMTTYPE=image/webp:https://stayinmcallen.com/wp-content/uploads/2025/06/3ballmty-ZwHPuW.webp
ORGANIZER;CN="Cine El Rey Theatre":MAILTO:cineelreytheatre@gmail.com
END:VEVENT
BEGIN:VEVENT
DTSTART;TZID=America/Chicago:20250627T080000
DTEND;TZID=America/Chicago:20250627T170000
DTSTAMP:20260425T164549
CREATED:20250614T170458Z
LAST-MODIFIED:20250627T204830Z
UID:10002630-1751011200-1751043600@stayinmcallen.com
SUMMARY:3BallMTY
DESCRIPTION:Latin Grammy award winning dj group\, 3BallMTY\, will play Cine El Rey on June 26th and 27th.\nSpecial guests: Tavo Rayo + Queen Killah Bee\nTickets on sale NOW via link / eventbrite.com
URL:https://stayinmcallen.com/events/3ballmty-2/
LOCATION:Texas
CATEGORIES:Live Music,Nightlife
ATTACH;FMTTYPE=image/webp:https://stayinmcallen.com/wp-content/uploads/2025/06/3ballmty-ZwHPuW.webp
ORGANIZER;CN="Cine El Rey Theatre":MAILTO:cineelreytheatre@gmail.com
END:VEVENT
BEGIN:VEVENT
DTSTART;TZID=America/Chicago:20250628T190000
DTEND;TZID=America/Chicago:20250628T230000
DTSTAMP:20260425T164549
CREATED:20250628T210326Z
LAST-MODIFIED:20250628T210326Z
UID:10002641-1751137200-1751151600@stayinmcallen.com
SUMMARY:Oakwood
DESCRIPTION:Legendary Texas based emo band\, Oakwood\, will play the RGV on June 28th at the Gremlin in McAllen\, TX.\nThis is an all ages show.\nTickets on sale March 5th via eventbrite.com / link below.
URL:https://stayinmcallen.com/events/oakwood/
LOCATION:The Gremlin\, 322 s. 16th st\,\, McAllen\, 78501
CATEGORIES:Live Music,Performing Arts,Nightlife
ATTACH;FMTTYPE=image/webp:https://stayinmcallen.com/wp-content/uploads/2025/06/oakwood-2QVFSh.webp
END:VEVENT
END:VCALENDAR