BEGIN:VCALENDAR
VERSION:2.0
PRODID:-//Stayinmcallen - ECPv6.15.20//NONSGML v1.0//EN
CALSCALE:GREGORIAN
METHOD:PUBLISH
X-ORIGINAL-URL:https://stayinmcallen.com
X-WR-CALDESC:Events for Stayinmcallen
REFRESH-INTERVAL;VALUE=DURATION:PT1H
X-Robots-Tag:noindex
X-PUBLISHED-TTL:PT1H
BEGIN:VTIMEZONE
TZID:America/Chicago
BEGIN:DAYLIGHT
TZOFFSETFROM:-0600
TZOFFSETTO:-0500
TZNAME:CDT
DTSTART:20240310T080000
END:DAYLIGHT
BEGIN:STANDARD
TZOFFSETFROM:-0500
TZOFFSETTO:-0600
TZNAME:CST
DTSTART:20241103T070000
END:STANDARD
BEGIN:DAYLIGHT
TZOFFSETFROM:-0600
TZOFFSETTO:-0500
TZNAME:CDT
DTSTART:20250309T080000
END:DAYLIGHT
BEGIN:STANDARD
TZOFFSETFROM:-0500
TZOFFSETTO:-0600
TZNAME:CST
DTSTART:20251102T070000
END:STANDARD
BEGIN:DAYLIGHT
TZOFFSETFROM:-0600
TZOFFSETTO:-0500
TZNAME:CDT
DTSTART:20260308T080000
END:DAYLIGHT
BEGIN:STANDARD
TZOFFSETFROM:-0500
TZOFFSETTO:-0600
TZNAME:CST
DTSTART:20261101T070000
END:STANDARD
BEGIN:DAYLIGHT
TZOFFSETFROM:-0600
TZOFFSETTO:-0500
TZNAME:CDT
DTSTART:20270314T080000
END:DAYLIGHT
BEGIN:STANDARD
TZOFFSETFROM:-0500
TZOFFSETTO:-0600
TZNAME:CST
DTSTART:20271107T070000
END:STANDARD
END:VTIMEZONE
BEGIN:VEVENT
DTSTART;TZID=America/Chicago:20250731T220000
DTEND;TZID=America/Chicago:20250731T220000
DTSTAMP:20260425T152124
CREATED:20250730T101856Z
LAST-MODIFIED:20250731T103332Z
UID:10002841-1753999200-1753999200@stayinmcallen.com
SUMMARY:Traffic Light Party
DESCRIPTION:🗓 JULY 31\n📍 309 S 17th St\, McAllen\, TX 78501\n⏰ 10 PM – 2 AM // 18+\n🎶 Live Music All Night Long\n🚨 Hosted by: STX Bass Family\n👕 Wear Your Status:\n🟥 RED = Taken\n🟨 YELLOW = It’s Complicated\n🟩 GREEN = Single\nFREE SHOW // $10 AFTER 11:00 pm\nLet your color do the talking 👀\nThe energy is unmatched\, the music’s Boomin\, and the vibes Groovin. Next level.\n🔊 Don’t miss this LIMITED-EDITION night — get ready to enjoy music all night with the fam.
URL:https://stayinmcallen.com/events/traffic-light-party/
LOCATION:Amnesia\, 309 S 17th St\, McAllen\, TX\, United States
CATEGORIES:Nightlife
ATTACH;FMTTYPE=image/webp:https://stayinmcallen.com/wp-content/uploads/2025/07/IMG_9319-X0SPTR.webp
GEO:26.201815;-98.238147
X-APPLE-STRUCTURED-LOCATION;VALUE=URI;X-ADDRESS=Amnesia 309 S 17th St McAllen TX United States;X-APPLE-RADIUS=500;X-TITLE=309 S 17th St:geo:-98.238147,26.201815
END:VEVENT
BEGIN:VEVENT
DTSTART;TZID=America/Chicago:20250815T220000
DTEND;TZID=America/Chicago:20250815T220000
DTSTAMP:20260425T152124
CREATED:20250812T131929Z
LAST-MODIFIED:20250815T140358Z
UID:10002934-1755295200-1755295200@stayinmcallen.com
SUMMARY:Cosplay Night at The Flying Walrus
DESCRIPTION:18 +\, $10 at the door. $5 in cosplay.\nLive Music. Doors open at 8pm. Music at 10pm.\nDon’t miss:\nChriz Indica\nMaumau\nChevato\nBrayan Spencer\nNick Snow – b2b- Novaxx\nDJ Model Actor – b2b- Eduardo Quirino\nJefe Brainwash -b2b- Young Soprano
URL:https://stayinmcallen.com/events/cosplay-night-at-the-flying-walrus/
LOCATION:The Flying Walrus\, 204 S 17th St\, McAllen\, TX\, United States
CATEGORIES:Nightlife
ATTACH;FMTTYPE=image/webp:https://stayinmcallen.com/wp-content/uploads/2025/08/Event-Aug-15-Cosplay-Night-at-Flying-Walrus-qGiyQM.webp
GEO:26.202828;-98.238122
X-APPLE-STRUCTURED-LOCATION;VALUE=URI;X-ADDRESS=The Flying Walrus 204 S 17th St McAllen TX United States;X-APPLE-RADIUS=500;X-TITLE=204 S 17th St:geo:-98.238122,26.202828
END:VEVENT
BEGIN:VEVENT
DTSTART;TZID=America/Chicago:20250816T160000
DTEND;TZID=America/Chicago:20250816T210000
DTSTAMP:20260425T152124
CREATED:20250809T124953Z
LAST-MODIFIED:20250816T141916Z
UID:10002918-1755360000-1755378000@stayinmcallen.com
SUMMARY:Musical Living Academy's Summer Music Festival
DESCRIPTION:Join us August 16\, 2025\, at Archer Park in downtown McAllen for the Musical Living Academy’s Summer Music Festival! What began as a small student recital has grown into a vibrant celebration of music\, creativity\, and community. Enjoy live performances\, a curated market hosted by Thrive Markets\, and an unforgettable evening under the stars.\nThe market starts at 4:00 PM and the music starts at 6:00 PM. This is a FREE family-friendly event! Bring your lawn chairs or blankets and soak in the sounds\, sights\, and spirit of McAllen’s arts scene. Whether you’re cheering on a performer or simply enjoying the show\, you’ll be part of something truly special. The market starts at 4:00 PM and the music starts at 6:00 PM.
URL:https://stayinmcallen.com/events/musical-living-academys-summer-music-festival/
LOCATION:Archer Park\, 101 N Main St\, McAllen\, TX\, United States
CATEGORIES:Live Music,Family Fun,Performing Arts,Parks and Outdoors,Food and Drink Events,Shopping,Nightlife,Social Meetups,Concerts
ATTACH;FMTTYPE=image/webp:https://stayinmcallen.com/wp-content/uploads/2025/08/IMG_8904-vG3QT7.webp
ORGANIZER;CN="Musical Living Academy":MAILTO:info@MusicalLivingAcademy.com
GEO:26.204789;-98.234314
X-APPLE-STRUCTURED-LOCATION;VALUE=URI;X-ADDRESS=Archer Park 101 N Main St McAllen TX United States;X-APPLE-RADIUS=500;X-TITLE=101 N Main St:geo:-98.234314,26.204789
END:VEVENT
BEGIN:VEVENT
DTSTART;TZID=America/Chicago:20250913T213000
DTEND;TZID=America/Chicago:20250913T233000
DTSTAMP:20260425T152124
CREATED:20250912T161853Z
LAST-MODIFIED:20250913T161849Z
UID:10003128-1757799000-1757806200@stayinmcallen.com
SUMMARY:Game Day Dance Social
DESCRIPTION:Rock your favorite team jersey and bring the energy to the dance floor! We will be dancing to Salsa\, Bachata\, Cumbia and more!\n✨ Plus: A special announcement will be shared during the social — you won’t want to miss it!
URL:https://stayinmcallen.com/events/game-day-dance-social/
LOCATION:Rhythm Room\, 2 N 10th St\, McAllen\, TX\, United States
CATEGORIES:Nightlife
ATTACH;FMTTYPE=image/webp:https://stayinmcallen.com/wp-content/uploads/2025/09/Rhythm-Room-Dance-Social-FJBiNP.webp
GEO:26.203393;-98.230076
X-APPLE-STRUCTURED-LOCATION;VALUE=URI;X-ADDRESS=Rhythm Room 2 N 10th St McAllen TX United States;X-APPLE-RADIUS=500;X-TITLE=2 N 10th St:geo:-98.230076,26.203393
END:VEVENT
BEGIN:VEVENT
DTSTART;TZID=America/Chicago:20251023T180000
DTEND;TZID=America/Chicago:20251023T200000
DTSTAMP:20260425T152125
CREATED:20251016T224010Z
LAST-MODIFIED:20251023T184830Z
UID:10003182-1761242400-1761249600@stayinmcallen.com
SUMMARY:Perfume De Gardenia
DESCRIPTION:Perfume de Gardenia\, the hit cabaret-style musical from Mexico\, arrives at the McAllen Performing Arts Center on Thursday\, October 23rd. Starring original cast members\, the show blends a captivating storyline with live cabaret performances and classic Mexican ballroom songs. Featuring beloved telenovela stars\, this dazzling production promises an unforgettable night of music\, drama\, and spectacle. Must be 7-year-old or older to attend show.
URL:https://stayinmcallen.com/events/perfume-de-gardenia/
LOCATION:McAllen Performing Arts Center\, 99 Center Ln\, McAllen\, TX\, United States
CATEGORIES:Nightlife
ATTACH;FMTTYPE=image/webp:https://stayinmcallen.com/wp-content/uploads/2025/10/perfume-de-gardenia-1-1u74p8.webp
GEO:26.19785;-98.277591
X-APPLE-STRUCTURED-LOCATION;VALUE=URI;X-ADDRESS=McAllen Performing Arts Center 99 Center Ln McAllen TX United States;X-APPLE-RADIUS=500;X-TITLE=99 Center Ln:geo:-98.277591,26.19785
END:VEVENT
BEGIN:VEVENT
DTSTART;TZID=America/Chicago:20251025T200000
DTEND;TZID=America/Chicago:20251025T230000
DTSTAMP:20260425T152125
CREATED:20251016T224103Z
LAST-MODIFIED:20251025T184451Z
UID:10003187-1761422400-1761433200@stayinmcallen.com
SUMMARY:Comedy Night of the Living Dead
DESCRIPTION:Recalled Productions presents Comedy Night of the Living Dead at Selfies & More Mini Market. This Mature Audiences only show features some of the RGV’s funniest underground comedians! Enjoy the talents of Roy Alex Gomez (host)\, Humberto Moreno\, Joseph Soto and special guest Andrea Soto. Seating is 8 pm on Saturday October 25\, 2025 with show time set for 9 pm.\n 
URL:https://stayinmcallen.com/events/comedy-night-of-the-living-dead/
LOCATION:Selfie’s and More Studio\, 4001 N 23rd St\, McAllen\, TX\, United States
CATEGORIES:Nightlife
ATTACH;FMTTYPE=image/webp:https://stayinmcallen.com/wp-content/uploads/2025/10/selfies-DMiLnx.webp
GEO:26.240605;-98.239376
X-APPLE-STRUCTURED-LOCATION;VALUE=URI;X-ADDRESS=Selfie’s and More Studio 4001 N 23rd St McAllen TX United States;X-APPLE-RADIUS=500;X-TITLE=4001 N 23rd St:geo:-98.239376,26.240605
END:VEVENT
BEGIN:VEVENT
DTSTART;TZID=America/Chicago:20251228T050000
DTEND;TZID=America/Chicago:20251228T183000
DTSTAMP:20260425T152125
CREATED:20251225T024556Z
LAST-MODIFIED:20251228T065904Z
UID:10003378-1766898000-1766946600@stayinmcallen.com
SUMMARY:Loteria Cards & Comedy
DESCRIPTION:Imagine Lotería meets late-night confessionals\, where every card leads to unexpected stories\, hot takes\, and hilarious surprises.\nEach round\, guests sit in the hot seat as traditional Lotería cards are pulled like Tarot\, revealing deep truths\, weird memories\, and outrageous moments.\nNo script. No safety net. Just pure\, unpredictable comedy driven by fate and a deck of Mexican bingo.\nWill La Dama bring out your inner diva?\nWill El Borracho dig up that one night you swore you’d forget?\nEvery card has a story\, and the laughs come fast.\nYou’ve never played Lotería like this!​
URL:https://stayinmcallen.com/events/loteria-cards-comedy/
LOCATION:El Cine Rey\, 311 S 17th St\, McAllen\, TX\, United States
CATEGORIES:Nightlife
ATTACH;FMTTYPE=image/webp:https://stayinmcallen.com/wp-content/uploads/2025/12/Loteria-Poster-01-X6KUOp.webp
GEO:26.201796;-98.23815
X-APPLE-STRUCTURED-LOCATION;VALUE=URI;X-ADDRESS=El Cine Rey 311 S 17th St McAllen TX United States;X-APPLE-RADIUS=500;X-TITLE=311 S 17th St:geo:-98.23815,26.201796
END:VEVENT
BEGIN:VEVENT
DTSTART;TZID=America/Chicago:20251228T200000
DTEND;TZID=America/Chicago:20251228T210000
DTSTAMP:20260425T152125
CREATED:20251225T024616Z
LAST-MODIFIED:20251228T065922Z
UID:10003379-1766952000-1766955600@stayinmcallen.com
SUMMARY:Teachers Gone Bad
DESCRIPTION:Brought to you by Mind Twist Comedy\, Teachers Gone Bad showcases a killer lineup of educators-turned-comedians. Whether they’re moonlighting between grading papers or crushing it full-time on the comedy circuit\, these performers bring schoolyard absurdity and adult chaos together on stage.\nAnd no\, this is not kid-friendly.\n​Expect brutally funny tales of embarrassing classroom moments\, school politics\, and staff room drama. But it doesn’t stop there—we go deep into the hilarious truths of family\, marriage\, parenthood\, and life itself. Nearly every Teachers Gone Bad show has been sold out—teachers show up for one reason: to hear the jokes they wish they could say out loud on campus. With former teachers leading the charge\, it’s a full-on catharsis\, no punches pulled\, and absolutely NO FEAR of HR. Because\, honestly\, what are they going to do? Fire us twice?​\nIf you’re ready for a night of unapologetic\, unfiltered\, and downright wicked comedy\, Teachers Gone Bad is the show you didn’t know you needed.\nEvent Date
URL:https://stayinmcallen.com/events/teachers-gone-bad/
LOCATION:El Cine Rey\, 311 S 17th St\, McAllen\, TX\, United States
CATEGORIES:Nightlife
ATTACH;FMTTYPE=image/webp:https://stayinmcallen.com/wp-content/uploads/2025/12/Asset-5-CLO8x7.webp
GEO:26.201796;-98.23815
X-APPLE-STRUCTURED-LOCATION;VALUE=URI;X-ADDRESS=El Cine Rey 311 S 17th St McAllen TX United States;X-APPLE-RADIUS=500;X-TITLE=311 S 17th St:geo:-98.23815,26.201796
END:VEVENT
BEGIN:VEVENT
DTSTART;TZID=America/Chicago:20260203T183000
DTEND;TZID=America/Chicago:20260203T203000
DTSTAMP:20260425T152125
CREATED:20260203T153207Z
LAST-MODIFIED:20260203T183206Z
UID:10003527-1770143400-1770150600@stayinmcallen.com
SUMMARY:Galentine's Loteria
DESCRIPTION:✨💜 Galentine’s Day Lotería Night 💜✨Free Community Event\nCelebrate friendship\, fun\, and good vibes at Galentine’s Day Lotería Night\, hosted by Purple Studio Waxing in partnership with Suerte Bar & Grill. This free-to-the-public event invites the community to gather for an evening filled with games\, great food\, and festive Galentine’s energy.\nTaking place on February 3 from 6:30 PM to 8:30 PM in Uptown McAllen\, the evening will feature Lotería\, Taco Tuesday specials 🌮\, and plenty of opportunities to sip\, snack\, and socialize.\nAttendees can enjoy merchandise\, special service promotions\, giveaways\, and other surprises throughout the night. A special thank you goes out to Suerte Bar & Grill and all participating sponsors for helping make this Galentine’s celebration extra special.\nGrab your besties and come celebrate Galentine’s the fun way—an evening of laughs\, vibes\, and unforgettable memories awaits! 💃✨
URL:https://stayinmcallen.com/events/galentines-loteria/
LOCATION:Suerte Uptown\, 1509 W Nolana Ave\, McAllen\, TX\, United States
CATEGORIES:Nightlife
ATTACH;FMTTYPE=image/webp:https://stayinmcallen.com/wp-content/uploads/2026/02/Galentines-Loteria-TmwZFu.webp
ORGANIZER;CN="@SuerteBarGrill":MAILTO:info@suertebargrill.com
GEO:26.240105;-98.229841
X-APPLE-STRUCTURED-LOCATION;VALUE=URI;X-ADDRESS=Suerte Uptown 1509 W Nolana Ave McAllen TX United States;X-APPLE-RADIUS=500;X-TITLE=1509 W Nolana Ave:geo:-98.229841,26.240105
END:VEVENT
BEGIN:VEVENT
DTSTART;TZID=America/Chicago:20260228T190000
DTEND;TZID=America/Chicago:20260228T230000
DTSTAMP:20260425T152125
CREATED:20260215T185148Z
LAST-MODIFIED:20260228T054137Z
UID:10003603-1772305200-1772319600@stayinmcallen.com
SUMMARY:Enjambre
DESCRIPTION:ENJAMBRE plays McAllen TX – Feb 28\, 2026. This is a *new date* as they postponed their Spring 2025 tour. Tickets are on sale now via eventbrite.com.
URL:https://stayinmcallen.com/events/enjambre-2/
LOCATION:Cine El Rey Theatre\, 311 S 17th St\, McAllen\, TX\, United States
CATEGORIES:Live Music,Nightlife,Concerts
ATTACH;FMTTYPE=image/webp:https://stayinmcallen.com/wp-content/uploads/2026/02/Enjambre-temUlo.webp
GEO:26.201796;-98.23815
X-APPLE-STRUCTURED-LOCATION;VALUE=URI;X-ADDRESS=Cine El Rey Theatre 311 S 17th St McAllen TX United States;X-APPLE-RADIUS=500;X-TITLE=311 S 17th St:geo:-98.23815,26.201796
END:VEVENT
END:VCALENDAR