BEGIN:VCALENDAR
VERSION:2.0
PRODID:-//Stayinmcallen - ECPv6.15.20//NONSGML v1.0//EN
CALSCALE:GREGORIAN
METHOD:PUBLISH
X-ORIGINAL-URL:https://stayinmcallen.com
X-WR-CALDESC:Events for Stayinmcallen
REFRESH-INTERVAL;VALUE=DURATION:PT1H
X-Robots-Tag:noindex
X-PUBLISHED-TTL:PT1H
BEGIN:VTIMEZONE
TZID:America/Chicago
BEGIN:DAYLIGHT
TZOFFSETFROM:-0600
TZOFFSETTO:-0500
TZNAME:CDT
DTSTART:20240310T080000
END:DAYLIGHT
BEGIN:STANDARD
TZOFFSETFROM:-0500
TZOFFSETTO:-0600
TZNAME:CST
DTSTART:20241103T070000
END:STANDARD
BEGIN:DAYLIGHT
TZOFFSETFROM:-0600
TZOFFSETTO:-0500
TZNAME:CDT
DTSTART:20250309T080000
END:DAYLIGHT
BEGIN:STANDARD
TZOFFSETFROM:-0500
TZOFFSETTO:-0600
TZNAME:CST
DTSTART:20251102T070000
END:STANDARD
BEGIN:DAYLIGHT
TZOFFSETFROM:-0600
TZOFFSETTO:-0500
TZNAME:CDT
DTSTART:20260308T080000
END:DAYLIGHT
BEGIN:STANDARD
TZOFFSETFROM:-0500
TZOFFSETTO:-0600
TZNAME:CST
DTSTART:20261101T070000
END:STANDARD
END:VTIMEZONE
BEGIN:VEVENT
DTSTART;TZID=America/Chicago:20250410T210000
DTEND;TZID=America/Chicago:20250410T233000
DTSTAMP:20260425T212700
CREATED:20250408T060420Z
LAST-MODIFIED:20250410T060316Z
UID:10002315-1744318800-1744327800@stayinmcallen.com
SUMMARY:Dance with the Devil - Sinners Screening After Party
DESCRIPTION:🔥 A night of sin is coming to McAllen! 🔥\nStep into the shadows and party like it’s your last at Dance with the Devil\, the official after-party for the invite-only screening of Sinners\, the twisted new horror-thriller starring Michael B. Jordan (in theaters April 18th).\nInspired by the infamous South Texas legend\, this immersive celebration features:\n🎧 Legendary DJ Bone Daddy (Danny Nava) – yes\, the DJ from the original Dance with the Devil story!\n🎶 Sets by @salinas_xtina and live bluegrass-jam vibes from The Bad Hat Sinners\n🌮 Sinfully good tacos & devilish themed drinks\n🎨 Face painters\, smoke effects\, and gothic photo ops with Sinners backdrops\n💃 A dress code of Sinfully Suited & Styled (Dandy Chic) – vampy makeup encouraged!\nWhether you’re here for the beats\, the bites\, or to brush shoulders with the devil himself… one thing’s for sure: you won’t forget this night.\n📸 On-site photographer + themed photo booth\n🎟 RSVP at the link here. – don’t wait\, space is limited!
URL:https://stayinmcallen.com/events/dance-with-the-devil-sinners-screening-after-party/
LOCATION:The Flying Walrus\, 204 S 17th St\, McAllen\, TX\, United States
CATEGORIES:Live Music,Food and Drink Events,Photo Opportunities,Nightlife,Social Meetups
ATTACH;FMTTYPE=image/webp:https://stayinmcallen.com/wp-content/uploads/2025/04/Sinners_McAllen_Final-2222-1-BecIvR.tmp_.webp
GEO:26.202828;-98.238122
X-APPLE-STRUCTURED-LOCATION;VALUE=URI;X-ADDRESS=The Flying Walrus 204 S 17th St McAllen TX United States;X-APPLE-RADIUS=500;X-TITLE=204 S 17th St:geo:-98.238122,26.202828
END:VEVENT
BEGIN:VEVENT
DTSTART;TZID=America/Chicago:20250412T123000
DTEND;TZID=America/Chicago:20250412T223000
DTSTAMP:20260425T212700
CREATED:20250401T050241Z
LAST-MODIFIED:20250412T061833Z
UID:10002294-1744461000-1744497000@stayinmcallen.com
SUMMARY:MIJA Fest by Sunset Live
DESCRIPTION:🎷 Free. Family-Friendly. Full of Jazz.Sunset Live is back for its 23rd season—and it’s kicking things off with something brand new: the inaugural MIJA Fest (McAllen International Jazz Alliance Festival)!\n📅 Saturday\, April 12\, 2025🕛 12:30 PM – 10:30 PM📍 McAllen Convention Center Oval Park – 700 Convention Center Blvd\nEnjoy an unforgettable\, all-day outdoor jazz festival featuring performances by world-class musicians from across the U.S. and Mexico. This FREE event is family-friendly\, pet-friendly\, and perfect for music lovers of all ages. Stroll through the artisan market\, grab a bite from local food trucks\, and enjoy activities throughout the park—all while soaking in the sounds of live jazz on two stages for the first time in Sunset Live history. Free parking available.\n🎶 Main Stage Lineup\n1:00 – 2:00 PM: Luis McDougal\n2:30 – 3:30 PM: Rafa Collado\n4:00 – 5:00 PM: Clay Moore\n5:30 – 6:30 PM: Maria D’Luz\n7:00 – 8:15 PM: Roberto Verastegui Quartet\n9:00 – 10:30 PM: Benito González Trio\n🎵 Second Stage Lineup\n12:30 – 1:00 PM: Susy\n2:00 – 2:30 PM: Sonali\n3:30 – 4:00 PM: UTRGV Jazz Ensemble\n5:00 – 5:30 PM: Daphne\n6:30 – 7:00 PM: Ulysses De León Trio\n8:15 – 9:00 PM: Elena Díaz\n🌇 Since 2013\, Sunset Live has been one of McAllen’s signature music experiences. With MIJA Fest\, the tradition evolves into an international celebration of jazz\, creativity\, and community.\nFor more details on the Sunset Live concert series and MIJA Fest\, visit:\n🌐 www.experiencemcallen.com\n📲 www.facebook.com/SunsetLiveMcAllen
URL:https://stayinmcallen.com/events/mija-fest-by-sunset-live/
LOCATION:McAllen Convention Center Oval Park\, 98 Center Ln\, McAllen\, TX\, United States
CATEGORIES:Live Music,Family Fun,Performing Arts,City Events,Parks and Outdoors,Nightlife,Concerts
ATTACH;FMTTYPE=image/webp:https://stayinmcallen.com/wp-content/uploads/2025/04/sunset-live-mija-fest-1-2aIJCP.tmp_.webp
GEO:26.19785;-98.277591
X-APPLE-STRUCTURED-LOCATION;VALUE=URI;X-ADDRESS=McAllen Convention Center Oval Park 98 Center Ln McAllen TX United States;X-APPLE-RADIUS=500;X-TITLE=98 Center Ln:geo:-98.277591,26.19785
END:VEVENT
END:VCALENDAR