BEGIN:VCALENDAR
VERSION:2.0
PRODID:-//Stayinmcallen - ECPv6.15.20//NONSGML v1.0//EN
CALSCALE:GREGORIAN
METHOD:PUBLISH
X-ORIGINAL-URL:https://stayinmcallen.com
X-WR-CALDESC:Events for Stayinmcallen
REFRESH-INTERVAL;VALUE=DURATION:PT1H
X-Robots-Tag:noindex
X-PUBLISHED-TTL:PT1H
BEGIN:VTIMEZONE
TZID:America/Chicago
BEGIN:DAYLIGHT
TZOFFSETFROM:-0600
TZOFFSETTO:-0500
TZNAME:CDT
DTSTART:20240310T080000
END:DAYLIGHT
BEGIN:STANDARD
TZOFFSETFROM:-0500
TZOFFSETTO:-0600
TZNAME:CST
DTSTART:20241103T070000
END:STANDARD
BEGIN:DAYLIGHT
TZOFFSETFROM:-0600
TZOFFSETTO:-0500
TZNAME:CDT
DTSTART:20250309T080000
END:DAYLIGHT
BEGIN:STANDARD
TZOFFSETFROM:-0500
TZOFFSETTO:-0600
TZNAME:CST
DTSTART:20251102T070000
END:STANDARD
BEGIN:DAYLIGHT
TZOFFSETFROM:-0600
TZOFFSETTO:-0500
TZNAME:CDT
DTSTART:20260308T080000
END:DAYLIGHT
BEGIN:STANDARD
TZOFFSETFROM:-0500
TZOFFSETTO:-0600
TZNAME:CST
DTSTART:20261101T070000
END:STANDARD
END:VTIMEZONE
BEGIN:VEVENT
DTSTART;TZID=America/Chicago:20250415T200000
DTEND;TZID=America/Chicago:20250415T233000
DTSTAMP:20260425T212704
CREATED:20250415T063316Z
LAST-MODIFIED:20250415T063316Z
UID:10002353-1744747200-1744759800@stayinmcallen.com
SUMMARY:Bidi Bidi Fiesta
DESCRIPTION:💜THE WAIT IS OVER!💜\nIt’s time to honor our Cumbia Queen 🥳🙌🏼 with the ULTIMATE Tribute Night at our 8th Annual Bidi Bidi Fiesta‼️\n✨Themed Menu ✨ Look-a-Like Contest ✨ Vendors ✨ Live Banda ✨ Photo Ops ✨ & More!\n📆Tuesday April 15\, 2025\n📍400 W Nolana Ave McAllen\, TX\n⏰8PM\n💬 Interested vendors email in**@************ll.com to sign up (must be selling themed items‼️)
URL:https://stayinmcallen.com/events/bidi-bidi-fiesta/
LOCATION:Suerte Uptown\, 1509 W Nolana Ave\, McAllen\, TX\, United States
CATEGORIES:Nightlife,Social Meetups,Spanish Music
ATTACH;FMTTYPE=image/webp:https://stayinmcallen.com/wp-content/uploads/2025/04/bidi-bidi-fiesta-suerte-lVs9Ek.tmp_.webp
GEO:26.240105;-98.229841
X-APPLE-STRUCTURED-LOCATION;VALUE=URI;X-ADDRESS=Suerte Uptown 1509 W Nolana Ave McAllen TX United States;X-APPLE-RADIUS=500;X-TITLE=1509 W Nolana Ave:geo:-98.229841,26.240105
END:VEVENT
BEGIN:VEVENT
DTSTART;TZID=America/Chicago:20250417T180000
DTEND;TZID=America/Chicago:20250417T220000
DTSTAMP:20260425T212704
CREATED:20250401T050248Z
LAST-MODIFIED:20250417T064821Z
UID:10002295-1744912800-1744927200@stayinmcallen.com
SUMMARY:Bravo! VSO Gala
DESCRIPTION:As we wrap up another wonderful year of music and community\, the celebration continues with Bravo! VSO\, the Symphony’s annual fundraising gala\, on Thursday\, April 17\, 2025 at 6 PM\, at the McAllen Convention Center Ballroom. This elegant evening will honor the City of McAllen as the 2025 Cultural Leaders of the Year. This celebration will feature a cocktail hour\, a gourmet three-course dinner\, silent and live auctions\, and a one night only VSO performance under the direction of Maestro Peter Dabrowski.\nJoin us in celebrating another season of extraordinary music and supporting the future of symphonic excellence in the Rio Grande Valley.\nBravo! VSO Gala – April 17: Sponsor tables and single tickets are available. Reserve your spot today at bit.ly/bravovso25 or call 956-661-1615.\nThe VSO would like to thank our outstanding 2024/25 Season sponsors for their commitment to the arts and their continued support: City of McAllen\, Texas Commission on the Arts\, National Endowment for the Arts\, KRGV Channel 5 News\, Socialife\, Decibel Communications\, Mrs. Wanda Boush\, Drs. Tahwid & Mihaela Shuaib\, and Mrs. Trudie Elmore Abbott.
URL:https://stayinmcallen.com/events/bravo-vso-gala/
LOCATION:McAllen Performing Arts Center\, 99 Center Ln\, McAllen\, TX\, United States
CATEGORIES:Performing Arts,Food and Drink Events,Nightlife,Social Meetups,Concerts,Formal Gatherings,Classical Music
ATTACH;FMTTYPE=image/webp:https://stayinmcallen.com/wp-content/uploads/2025/04/vso-gala-2025-a5dJai.tmp_.webp
ORGANIZER;CN="Valley Symphony Orchestra":MAILTO:admin@valleyorchestra.org
GEO:26.19785;-98.277591
X-APPLE-STRUCTURED-LOCATION;VALUE=URI;X-ADDRESS=McAllen Performing Arts Center 99 Center Ln McAllen TX United States;X-APPLE-RADIUS=500;X-TITLE=99 Center Ln:geo:-98.277591,26.19785
END:VEVENT
BEGIN:VEVENT
DTSTART;TZID=America/Chicago:20250420T190000
DTEND;TZID=America/Chicago:20250420T230000
DTSTAMP:20260425T212704
CREATED:20250401T050312Z
LAST-MODIFIED:20250420T070321Z
UID:10002298-1745175600-1745190000@stayinmcallen.com
SUMMARY:Bardo
DESCRIPTION:Lead songwriter and singer for Chicano Batman\, BARDO\, will perform live at the Gremlin on 4.20.\nThis show is going to be a party. Get your tickets – on sale now via link below / eventbrite.com!
URL:https://stayinmcallen.com/events/bardo/
LOCATION:The Gremlin\, 322 s. 16th st\,\, McAllen\, 78501
CATEGORIES:Live Music,Performing Arts,Nightlife,Concerts
ATTACH;FMTTYPE=image/webp:https://stayinmcallen.com/wp-content/uploads/2025/04/bardo-OXd8cC.tmp_.webp
END:VEVENT
END:VCALENDAR