BEGIN:VCALENDAR
VERSION:2.0
PRODID:-//Stayinmcallen - ECPv6.15.20//NONSGML v1.0//EN
CALSCALE:GREGORIAN
METHOD:PUBLISH
X-ORIGINAL-URL:https://stayinmcallen.com
X-WR-CALDESC:Events for Stayinmcallen
REFRESH-INTERVAL;VALUE=DURATION:PT1H
X-Robots-Tag:noindex
X-PUBLISHED-TTL:PT1H
BEGIN:VTIMEZONE
TZID:America/Chicago
BEGIN:DAYLIGHT
TZOFFSETFROM:-0600
TZOFFSETTO:-0500
TZNAME:CDT
DTSTART:20240310T080000
END:DAYLIGHT
BEGIN:STANDARD
TZOFFSETFROM:-0500
TZOFFSETTO:-0600
TZNAME:CST
DTSTART:20241103T070000
END:STANDARD
BEGIN:DAYLIGHT
TZOFFSETFROM:-0600
TZOFFSETTO:-0500
TZNAME:CDT
DTSTART:20250309T080000
END:DAYLIGHT
BEGIN:STANDARD
TZOFFSETFROM:-0500
TZOFFSETTO:-0600
TZNAME:CST
DTSTART:20251102T070000
END:STANDARD
BEGIN:DAYLIGHT
TZOFFSETFROM:-0600
TZOFFSETTO:-0500
TZNAME:CDT
DTSTART:20260308T080000
END:DAYLIGHT
BEGIN:STANDARD
TZOFFSETFROM:-0500
TZOFFSETTO:-0600
TZNAME:CST
DTSTART:20261101T070000
END:STANDARD
END:VTIMEZONE
BEGIN:VEVENT
DTSTART;TZID=America/Chicago:20250522T180000
DTEND;TZID=America/Chicago:20250522T200000
DTSTAMP:20260425T195513
CREATED:20250515T090412Z
LAST-MODIFIED:20250522T131857Z
UID:10002489-1747936800-1747944000@stayinmcallen.com
SUMMARY:IMAS After Dark: Cosmic Competition Trivia Night
DESCRIPTION:Cosmic Competition Trivia NightMay 22\, 2025 | 6:00 p.m. – 8:00 p.m.\nDo you love to geek out about the cosmos and enjoy some friendly competition? Come enjoy some wine with friends at Cosmic Competition Trivia Night. Form a team\, up to six people\, or come solo and join a team and make new friends. Register in person\, on the day of the event or pre-register online! Brush up on your Solar System facts! Categories include: The Sun\, Mercury\, Venus\, Earth\, Mars\, Asteroid Belt\, Jupiter\, Saturn\, Uranus\, Neptune and Pluto.\nThis event is for ages 21+ must bring a valid I.D.\n$25 per participant | $20 for IMAS Members\nMore information: https://theimasonline.org/
URL:https://stayinmcallen.com/events/imas-after-dark-cosmic-competition-trivia-night-2/
LOCATION:International Museum of Art & Science\, 998 Nolana Ave\, McAllen\, TX\, United States
CATEGORIES:Nightlife
ATTACH;FMTTYPE=image/webp:https://stayinmcallen.com/wp-content/uploads/2025/05/may22IMASafterDark-ZUqsmc.webp
ORGANIZER;CN="International Museum of Art &amp%3Bamp%3B Science":MAILTO:info@theimasonline.com
GEO:26.239329;-98.223922
X-APPLE-STRUCTURED-LOCATION;VALUE=URI;X-ADDRESS=International Museum of Art & Science 998 Nolana Ave McAllen TX United States;X-APPLE-RADIUS=500;X-TITLE=998 Nolana Ave:geo:-98.223922,26.239329
END:VEVENT
BEGIN:VEVENT
DTSTART;TZID=America/Chicago:20250523T190000
DTEND;TZID=America/Chicago:20250523T230000
DTSTAMP:20260425T195513
CREATED:20250501T075113Z
LAST-MODIFIED:20250523T131829Z
UID:10002427-1748026800-1748041200@stayinmcallen.com
SUMMARY:Zzzahara
DESCRIPTION:LA based alt artist\, Zzzahara\, makes their Rio Grande Valley debut on May 23\, 2025 at the Gremlin in McAllen\, TX.\nAll ages show.\nTickets on sale via the link:\nhttps://www.eventbrite.com/e/zzzahara-tickets-1220192110449?utm-campaign=social&utm-content=attendeeshare&utm-medium=discovery&utm-term=listing&utm-source=cp&aff=ebdsshcopyurl
URL:https://stayinmcallen.com/events/zzzahara/
LOCATION:The Gremlin\, 322 s. 16th st\,\, McAllen\, 78501
CATEGORIES:Live Music,Performing Arts,Nightlife
ATTACH;FMTTYPE=image/webp:https://stayinmcallen.com/wp-content/uploads/2025/05/zzzahara-IYhNYt.webp
END:VEVENT
END:VCALENDAR