BEGIN:VCALENDAR
VERSION:2.0
PRODID:-//Stayinmcallen - ECPv6.15.20//NONSGML v1.0//EN
CALSCALE:GREGORIAN
METHOD:PUBLISH
X-ORIGINAL-URL:https://stayinmcallen.com
X-WR-CALDESC:Events for Stayinmcallen
REFRESH-INTERVAL;VALUE=DURATION:PT1H
X-Robots-Tag:noindex
X-PUBLISHED-TTL:PT1H
BEGIN:VTIMEZONE
TZID:America/Chicago
BEGIN:DAYLIGHT
TZOFFSETFROM:-0600
TZOFFSETTO:-0500
TZNAME:CDT
DTSTART:20240310T080000
END:DAYLIGHT
BEGIN:STANDARD
TZOFFSETFROM:-0500
TZOFFSETTO:-0600
TZNAME:CST
DTSTART:20241103T070000
END:STANDARD
BEGIN:DAYLIGHT
TZOFFSETFROM:-0600
TZOFFSETTO:-0500
TZNAME:CDT
DTSTART:20250309T080000
END:DAYLIGHT
BEGIN:STANDARD
TZOFFSETFROM:-0500
TZOFFSETTO:-0600
TZNAME:CST
DTSTART:20251102T070000
END:STANDARD
BEGIN:DAYLIGHT
TZOFFSETFROM:-0600
TZOFFSETTO:-0500
TZNAME:CDT
DTSTART:20260308T080000
END:DAYLIGHT
BEGIN:STANDARD
TZOFFSETFROM:-0500
TZOFFSETTO:-0600
TZNAME:CST
DTSTART:20261101T070000
END:STANDARD
END:VTIMEZONE
BEGIN:VEVENT
DTSTART;TZID=America/Chicago:20251023T180000
DTEND;TZID=America/Chicago:20251023T200000
DTSTAMP:20260425T103403
CREATED:20251016T224010Z
LAST-MODIFIED:20251023T184830Z
UID:10003182-1761242400-1761249600@stayinmcallen.com
SUMMARY:Perfume De Gardenia
DESCRIPTION:Perfume de Gardenia\, the hit cabaret-style musical from Mexico\, arrives at the McAllen Performing Arts Center on Thursday\, October 23rd. Starring original cast members\, the show blends a captivating storyline with live cabaret performances and classic Mexican ballroom songs. Featuring beloved telenovela stars\, this dazzling production promises an unforgettable night of music\, drama\, and spectacle. Must be 7-year-old or older to attend show.
URL:https://stayinmcallen.com/events/perfume-de-gardenia/
LOCATION:McAllen Performing Arts Center\, 99 Center Ln\, McAllen\, TX\, United States
CATEGORIES:Nightlife
ATTACH;FMTTYPE=image/webp:https://stayinmcallen.com/wp-content/uploads/2025/10/perfume-de-gardenia-1-1u74p8.webp
GEO:26.19785;-98.277591
X-APPLE-STRUCTURED-LOCATION;VALUE=URI;X-ADDRESS=McAllen Performing Arts Center 99 Center Ln McAllen TX United States;X-APPLE-RADIUS=500;X-TITLE=99 Center Ln:geo:-98.277591,26.19785
END:VEVENT
BEGIN:VEVENT
DTSTART;TZID=America/Chicago:20251025T200000
DTEND;TZID=America/Chicago:20251025T230000
DTSTAMP:20260425T103403
CREATED:20251016T224103Z
LAST-MODIFIED:20251025T184451Z
UID:10003187-1761422400-1761433200@stayinmcallen.com
SUMMARY:Comedy Night of the Living Dead
DESCRIPTION:Recalled Productions presents Comedy Night of the Living Dead at Selfies & More Mini Market. This Mature Audiences only show features some of the RGV’s funniest underground comedians! Enjoy the talents of Roy Alex Gomez (host)\, Humberto Moreno\, Joseph Soto and special guest Andrea Soto. Seating is 8 pm on Saturday October 25\, 2025 with show time set for 9 pm.\n 
URL:https://stayinmcallen.com/events/comedy-night-of-the-living-dead/
LOCATION:Selfie’s and More Studio\, 4001 N 23rd St\, McAllen\, TX\, United States
CATEGORIES:Nightlife
ATTACH;FMTTYPE=image/webp:https://stayinmcallen.com/wp-content/uploads/2025/10/selfies-DMiLnx.webp
GEO:26.240605;-98.239376
X-APPLE-STRUCTURED-LOCATION;VALUE=URI;X-ADDRESS=Selfie’s and More Studio 4001 N 23rd St McAllen TX United States;X-APPLE-RADIUS=500;X-TITLE=4001 N 23rd St:geo:-98.239376,26.240605
END:VEVENT
END:VCALENDAR