BEGIN:VCALENDAR
VERSION:2.0
PRODID:-//Stayinmcallen - ECPv6.15.20//NONSGML v1.0//EN
CALSCALE:GREGORIAN
METHOD:PUBLISH
X-ORIGINAL-URL:https://stayinmcallen.com
X-WR-CALDESC:Events for Stayinmcallen
REFRESH-INTERVAL;VALUE=DURATION:PT1H
X-Robots-Tag:noindex
X-PUBLISHED-TTL:PT1H
BEGIN:VTIMEZONE
TZID:America/Chicago
BEGIN:DAYLIGHT
TZOFFSETFROM:-0600
TZOFFSETTO:-0500
TZNAME:CDT
DTSTART:20230312T080000
END:DAYLIGHT
BEGIN:STANDARD
TZOFFSETFROM:-0500
TZOFFSETTO:-0600
TZNAME:CST
DTSTART:20231105T070000
END:STANDARD
BEGIN:DAYLIGHT
TZOFFSETFROM:-0600
TZOFFSETTO:-0500
TZNAME:CDT
DTSTART:20240310T080000
END:DAYLIGHT
BEGIN:STANDARD
TZOFFSETFROM:-0500
TZOFFSETTO:-0600
TZNAME:CST
DTSTART:20241103T070000
END:STANDARD
BEGIN:DAYLIGHT
TZOFFSETFROM:-0600
TZOFFSETTO:-0500
TZNAME:CDT
DTSTART:20250309T080000
END:DAYLIGHT
BEGIN:STANDARD
TZOFFSETFROM:-0500
TZOFFSETTO:-0600
TZNAME:CST
DTSTART:20251102T070000
END:STANDARD
END:VTIMEZONE
BEGIN:VEVENT
DTSTART;TZID=America/Chicago:20240116T090000
DTEND;TZID=America/Chicago:20240116T150000
DTSTAMP:20260423T031531
CREATED:20240112T071415Z
LAST-MODIFIED:20240112T071541Z
UID:10000424-1705395600-1705417200@stayinmcallen.com
SUMMARY:2024 Winter Texan Expo
DESCRIPTION:The 31st annual Winter Texan Expo in McAllen will be held on January 16 and 17\, 2024\, from 9 a.m. to 3 p.m. at the McAllen Convention Center. Although it’s called the “Winter Texan” Expo and Health Fair\, all seniors are welcome! We estimate approximately 9\,700 Seniors will pass through our doors\, so don’t miss out on this great marketing opportunity.\nAdmission to this event is free!
URL:https://stayinmcallen.com/events/2024-winter-texan-expo/
LOCATION:McAllen Convention Center\, 98 Center Ln\, McAllen\, TX\, United States
CATEGORIES:Family Fun,Conventions and Exhibitions,City Events,Parks and Outdoors,Health and Wellness,Art Exhibits,Food and Drink Events,Shopping,Explore McAllen,Educational Activities,Seminars
ATTACH;FMTTYPE=image/jpeg:https://stayinmcallen.com/wp-content/uploads/2024/01/winter-texan-expo-details-waFQ2l.tmp_.jpg
GEO:26.19785;-98.277591
X-APPLE-STRUCTURED-LOCATION;VALUE=URI;X-ADDRESS=McAllen Convention Center 98 Center Ln McAllen TX United States;X-APPLE-RADIUS=500;X-TITLE=98 Center Ln:geo:-98.277591,26.19785
END:VEVENT
BEGIN:VEVENT
DTSTART;TZID=America/Chicago:20240117T090000
DTEND;TZID=America/Chicago:20240117T150000
DTSTAMP:20260423T031531
CREATED:20240112T071421Z
LAST-MODIFIED:20240112T071543Z
UID:10000425-1705482000-1705503600@stayinmcallen.com
SUMMARY:2024 Winter Texan Expo
DESCRIPTION:The 31st annual Winter Texan Expo in McAllen will be held on January 16 and 17\, 2024\, from 9 a.m. to 3 p.m. at the McAllen Convention Center. Although it’s called the “Winter Texan” Expo and Health Fair\, all seniors are welcome! We estimate approximately 9\,700 Seniors will pass through our doors\, so don’t miss out on this great marketing opportunity.\nAdmission to this event is free!
URL:https://stayinmcallen.com/events/2024-winter-texan-expo-2/
LOCATION:McAllen Convention Center\, 98 Center Ln\, McAllen\, TX\, United States
CATEGORIES:Family Fun,Conventions and Exhibitions,City Events,Parks and Outdoors,Health and Wellness,Art Exhibits,Food and Drink Events,Shopping,Explore McAllen,Educational Activities,Seminars
ATTACH;FMTTYPE=image/jpeg:https://stayinmcallen.com/wp-content/uploads/2024/01/winter-texan-expo-details-waFQ2l.tmp_.jpg
GEO:26.19785;-98.277591
X-APPLE-STRUCTURED-LOCATION;VALUE=URI;X-ADDRESS=McAllen Convention Center 98 Center Ln McAllen TX United States;X-APPLE-RADIUS=500;X-TITLE=98 Center Ln:geo:-98.277591,26.19785
END:VEVENT
BEGIN:VEVENT
DTSTART;TZID=America/Chicago:20240120T070000
DTEND;TZID=America/Chicago:20240120T140000
DTSTAMP:20260423T031531
CREATED:20240105T070244Z
LAST-MODIFIED:20240119T071550Z
UID:10000419-1705734000-1705759200@stayinmcallen.com
SUMMARY:McAllen Marathon Scott Crane Memorial Run
DESCRIPTION:McAllen Marathon\nThe McAllen Marathon Scott Crane Run is a destination event that is expected to draw more than 12\,000 runners and spectators from across the Rio Grande Valley\, United States of America\, and Mexico.\nThis is a Boston Qualifying Race that includes a 26.2 mile full marathon\, 13.1 half marathon\, 6-person relay\, 10K\, 5K and a Kids Final Mile.\nThe 2024 McAllen Marathon Scott Crane Run will have all races taking place on one single day\, January 20\, 2024.\nNo online registrations will be accepted after\nJanuary 19\, 2024 at 12:00 PM.\nOn-site registration will be available at packet pickup from 3:00 PM to 8:00 PM at the McAllen Convention Center.\n*High school and collegiate athletes should be aware of the effects of accepting cash prizes. If cash prizes are accepted\, this may affect your eligibility.
URL:https://stayinmcallen.com/events/mcallen-marathon-scott-crane-memorial-run/
LOCATION:McAllen Convention Center\, 98 Center Ln\, McAllen\, TX\, United States
CATEGORIES:Family Fun,Sports,City Events,Parks and Outdoors,Health and Wellness,Explore McAllen,Children's Activities
ATTACH;FMTTYPE=image/jpeg:https://stayinmcallen.com/wp-content/uploads/2024/01/mcallen-marathon-1x1-1-ULVI41.tmp_.jpg
ORGANIZER;CN="McAllen Marathon":MAILTO:marathon@mcallen.net
GEO:26.19785;-98.277591
X-APPLE-STRUCTURED-LOCATION;VALUE=URI;X-ADDRESS=McAllen Convention Center 98 Center Ln McAllen TX United States;X-APPLE-RADIUS=500;X-TITLE=98 Center Ln:geo:-98.277591,26.19785
END:VEVENT
END:VCALENDAR