BEGIN:VCALENDAR
VERSION:2.0
PRODID:-//Stayinmcallen - ECPv6.15.20//NONSGML v1.0//EN
CALSCALE:GREGORIAN
METHOD:PUBLISH
X-ORIGINAL-URL:https://stayinmcallen.com
X-WR-CALDESC:Events for Stayinmcallen
REFRESH-INTERVAL;VALUE=DURATION:PT1H
X-Robots-Tag:noindex
X-PUBLISHED-TTL:PT1H
BEGIN:VTIMEZONE
TZID:America/Chicago
BEGIN:DAYLIGHT
TZOFFSETFROM:-0600
TZOFFSETTO:-0500
TZNAME:CDT
DTSTART:20230312T080000
END:DAYLIGHT
BEGIN:STANDARD
TZOFFSETFROM:-0500
TZOFFSETTO:-0600
TZNAME:CST
DTSTART:20231105T070000
END:STANDARD
BEGIN:DAYLIGHT
TZOFFSETFROM:-0600
TZOFFSETTO:-0500
TZNAME:CDT
DTSTART:20240310T080000
END:DAYLIGHT
BEGIN:STANDARD
TZOFFSETFROM:-0500
TZOFFSETTO:-0600
TZNAME:CST
DTSTART:20241103T070000
END:STANDARD
BEGIN:DAYLIGHT
TZOFFSETFROM:-0600
TZOFFSETTO:-0500
TZNAME:CDT
DTSTART:20250309T080000
END:DAYLIGHT
BEGIN:STANDARD
TZOFFSETFROM:-0500
TZOFFSETTO:-0600
TZNAME:CST
DTSTART:20251102T070000
END:STANDARD
END:VTIMEZONE
BEGIN:VEVENT
DTSTART;TZID=America/Chicago:20240613T180000
DTEND;TZID=America/Chicago:20240613T200000
DTSTAMP:20260423T052630
CREATED:20240601T152959Z
LAST-MODIFIED:20240613T164033Z
UID:10000601-1718301600-1718308800@stayinmcallen.com
SUMMARY:Splash Into Pride
DESCRIPTION:Celebrate love\, diversity\, and community at our vibrant and colorful water balloon fight\, honoring LGBTQ+ Pride! Get ready to soak up the fun and make a splash with friends\, family\, and allies.\nBring your brightest\, most colorful attire and prepare for a day of laughter\, love\, and unity. This event is open to everyone who believes in equality and celebrates diversity. Don’t miss out on this unique opportunity to combine fun with health awareness. HIV rapid testing will be available!
URL:https://stayinmcallen.com/events/splash-into-pride/
LOCATION:Firemen’s Park\, 201 N. 1st St\, McAllen\, 78501
CATEGORIES:Family Fun,Parks and Outdoors,Health and Wellness,Explore McAllen,Children's Activities,Social Meetups
ATTACH;FMTTYPE=image/png:https://stayinmcallen.com/wp-content/uploads/2024/06/capture-1-L05uYs.tmp_.png
END:VEVENT
BEGIN:VEVENT
DTSTART;TZID=America/Chicago:20240622T090000
DTEND;TZID=America/Chicago:20240622T110000
DTSTAMP:20260423T052630
CREATED:20240601T153105Z
LAST-MODIFIED:20240621T173015Z
UID:10000608-1719046800-1719054000@stayinmcallen.com
SUMMARY:Youth Fishing Tournament
DESCRIPTION:Show off your fishing skills and compete against others in a thrilling and fun-filled fishing tournament. Cast your line and reel in the biggest and most impressive catch for a chance of winning a trophy! Each participant will receive a swag bag and a participation certificate.\nSaturday\, June 22\, 2024\nTime: 9:00 AM – 11:00 AM\nAges: 4-15 yrs old\nFee: $10.00 | #139141.06\nAdditional children $5.00 | #139141.07\n📍Location- Town Lake at Fireman’s Park\n201 N 1st St\, McAllen\, TX 78501
URL:https://stayinmcallen.com/events/youth-fishing-tournament/
LOCATION:Town Lake at Firemen’s Park\, 45 N 1st St\, McAllen\, TX\, United States
CATEGORIES:Family Fun,Sports,City Events,Parks and Outdoors,Health and Wellness,Explore McAllen,Children's Activities
ATTACH;FMTTYPE=image/png:https://stayinmcallen.com/wp-content/uploads/2024/06/mcallenparks-youth-fishing-tournament-CHlZo1.tmp_.png
GEO:26.201485;-98.219314
X-APPLE-STRUCTURED-LOCATION;VALUE=URI;X-ADDRESS=Town Lake at Firemen’s Park 45 N 1st St McAllen TX United States;X-APPLE-RADIUS=500;X-TITLE=45 N 1st St:geo:-98.219314,26.201485
END:VEVENT
END:VCALENDAR