BEGIN:VCALENDAR
VERSION:2.0
PRODID:-//Stayinmcallen - ECPv6.15.20//NONSGML v1.0//EN
CALSCALE:GREGORIAN
METHOD:PUBLISH
X-ORIGINAL-URL:https://stayinmcallen.com
X-WR-CALDESC:Events for Stayinmcallen
REFRESH-INTERVAL;VALUE=DURATION:PT1H
X-Robots-Tag:noindex
X-PUBLISHED-TTL:PT1H
BEGIN:VTIMEZONE
TZID:America/Chicago
BEGIN:DAYLIGHT
TZOFFSETFROM:-0600
TZOFFSETTO:-0500
TZNAME:CDT
DTSTART:20230312T080000
END:DAYLIGHT
BEGIN:STANDARD
TZOFFSETFROM:-0500
TZOFFSETTO:-0600
TZNAME:CST
DTSTART:20231105T070000
END:STANDARD
BEGIN:DAYLIGHT
TZOFFSETFROM:-0600
TZOFFSETTO:-0500
TZNAME:CDT
DTSTART:20240310T080000
END:DAYLIGHT
BEGIN:STANDARD
TZOFFSETFROM:-0500
TZOFFSETTO:-0600
TZNAME:CST
DTSTART:20241103T070000
END:STANDARD
BEGIN:DAYLIGHT
TZOFFSETFROM:-0600
TZOFFSETTO:-0500
TZNAME:CDT
DTSTART:20250309T080000
END:DAYLIGHT
BEGIN:STANDARD
TZOFFSETFROM:-0500
TZOFFSETTO:-0600
TZNAME:CST
DTSTART:20251102T070000
END:STANDARD
END:VTIMEZONE
BEGIN:VEVENT
DTSTART;TZID=America/Chicago:20240913T180000
DTEND;TZID=America/Chicago:20240913T200000
DTSTAMP:20260421T132016
CREATED:20240901T230445Z
LAST-MODIFIED:20240913T010354Z
UID:10001144-1726250400-1726257600@stayinmcallen.com
SUMMARY:Art in the Park: Birdhouse Painting
DESCRIPTION:🎨 Birds of a feather\, fly together! Join us for a creative evening of birdhouse painting! Whether you’re an artist or just looking for a fun way to express yourself\, this event is a perfect way to connect with others in the LGBTQ+ community. We welcome everyone! 🌈 We’ll provide all the materials you need—just bring your imagination and get ready to create a unique home for our feathered friends. 🐦\nFree Rapid HIV Testing will be offered!
URL:https://stayinmcallen.com/events/art-in-the-park-birdhouse-painting/
LOCATION:Firemen’s Park\, 45 N 1st St\, McAllen\, TX\, United States
CATEGORIES:Family Fun,Parks and Outdoors,Explore McAllen,Social Meetups
ATTACH;FMTTYPE=image/jpeg:https://stayinmcallen.com/wp-content/uploads/2024/09/Art-in-the-Park-3wT8UB.tmp_.jpg
GEO:26.201485;-98.219314
X-APPLE-STRUCTURED-LOCATION;VALUE=URI;X-ADDRESS=Firemen’s Park 45 N 1st St McAllen TX United States;X-APPLE-RADIUS=500;X-TITLE=45 N 1st St:geo:-98.219314,26.201485
END:VEVENT
BEGIN:VEVENT
DTSTART;TZID=America/Chicago:20240913T180000
DTEND;TZID=America/Chicago:20240913T200000
DTSTAMP:20260421T132016
CREATED:20240901T230448Z
LAST-MODIFIED:20240901T230448Z
UID:10001135-1726250400-1726257600@stayinmcallen.com
SUMMARY:Art in the Park: Birdhouse Painting
DESCRIPTION:🎨 Birds of a feather\, fly together! Join us for a creative evening of birdhouse painting! Whether you’re an artist or just looking for a fun way to express yourself\, this event is a perfect way to connect with others in the LGBTQ+ community. We welcome everyone! 🌈 We’ll provide all the materials you need—just bring your imagination and get ready to create a unique home for our feathered friends. 🐦\nFree Rapid HIV Testing will be offered!
URL:https://stayinmcallen.com/events/art-in-the-park-birdhouse-painting-2/
LOCATION:Firemen’s Park\, 45 N 1st St\, McAllen\, TX\, United States
CATEGORIES:Family Fun,Parks and Outdoors,Explore McAllen,Social Meetups
ATTACH;FMTTYPE=image/jpeg:https://stayinmcallen.com/wp-content/uploads/2024/09/Art-in-the-Park-3wT8UB.tmp_.jpg
GEO:26.201485;-98.219314
X-APPLE-STRUCTURED-LOCATION;VALUE=URI;X-ADDRESS=Firemen’s Park 45 N 1st St McAllen TX United States;X-APPLE-RADIUS=500;X-TITLE=45 N 1st St:geo:-98.219314,26.201485
END:VEVENT
END:VCALENDAR