BEGIN:VCALENDAR
VERSION:2.0
PRODID:-//Stayinmcallen - ECPv6.15.20//NONSGML v1.0//EN
CALSCALE:GREGORIAN
METHOD:PUBLISH
X-ORIGINAL-URL:https://stayinmcallen.com
X-WR-CALDESC:Events for Stayinmcallen
REFRESH-INTERVAL;VALUE=DURATION:PT1H
X-Robots-Tag:noindex
X-PUBLISHED-TTL:PT1H
BEGIN:VTIMEZONE
TZID:America/Chicago
BEGIN:DAYLIGHT
TZOFFSETFROM:-0600
TZOFFSETTO:-0500
TZNAME:CDT
DTSTART:20230312T080000
END:DAYLIGHT
BEGIN:STANDARD
TZOFFSETFROM:-0500
TZOFFSETTO:-0600
TZNAME:CST
DTSTART:20231105T070000
END:STANDARD
BEGIN:DAYLIGHT
TZOFFSETFROM:-0600
TZOFFSETTO:-0500
TZNAME:CDT
DTSTART:20240310T080000
END:DAYLIGHT
BEGIN:STANDARD
TZOFFSETFROM:-0500
TZOFFSETTO:-0600
TZNAME:CST
DTSTART:20241103T070000
END:STANDARD
BEGIN:DAYLIGHT
TZOFFSETFROM:-0600
TZOFFSETTO:-0500
TZNAME:CDT
DTSTART:20250309T080000
END:DAYLIGHT
BEGIN:STANDARD
TZOFFSETFROM:-0500
TZOFFSETTO:-0600
TZNAME:CST
DTSTART:20251102T070000
END:STANDARD
END:VTIMEZONE
BEGIN:VEVENT
DTSTART;TZID=America/Chicago:20241220T180000
DTEND;TZID=America/Chicago:20241220T220000
DTSTAMP:20260420T173336
CREATED:20241219T064532Z
LAST-MODIFIED:20241220T064522Z
UID:10001638-1734717600-1734732000@stayinmcallen.com
SUMMARY:McAllen Food Park Live feat. David Gutierrez
DESCRIPTION:Join us on Friday\, December 20 for a fantastic night of live music and fun! 🎸\nWe’ll be rocking out from 6:00 p.m. to 10:00 p.m. at 10 N. Broadway St.\, McAllen. 🎤\nEnjoy live music by David Gutierrez from 8:00 p.m. to 10:00 p.m.\, plus a variety of delicious food trucks 🍴 and unique arts & craft vendors. 🎨\nIt’s the perfect way to kick off the weekend with great tunes\, tasty bites\, and a vibrant atmosphere. 🌟\nDon’t miss out—see you there!
URL:https://stayinmcallen.com/events/mcallen-food-park-live-feat-david-gutierrez/
LOCATION:McAllen Food Park\, 10 N Broadway St\, McAllen\, TX\, United States
CATEGORIES:Live Music,Family Fun,Performing Arts,Parks and Outdoors,Food and Drink Events,Nightlife,Rock Music
ATTACH;FMTTYPE=image/jpeg:https://stayinmcallen.com/wp-content/uploads/2024/12/mcallen-food-park-david-gutierrez-scaled-TH0TIn.tmp_.jpg
GEO:26.204192;-98.233197
X-APPLE-STRUCTURED-LOCATION;VALUE=URI;X-ADDRESS=McAllen Food Park 10 N Broadway St McAllen TX United States;X-APPLE-RADIUS=500;X-TITLE=10 N Broadway St:geo:-98.233197,26.204192
END:VEVENT
BEGIN:VEVENT
DTSTART;TZID=America/Chicago:20241220T180000
DTEND;TZID=America/Chicago:20241220T220000
DTSTAMP:20260420T173336
CREATED:20241219T064533Z
LAST-MODIFIED:20241219T064533Z
UID:10001633-1734717600-1734732000@stayinmcallen.com
SUMMARY:McAllen Food Park Live feat. David Gutierrez
DESCRIPTION:Join us on Friday\, December 20 for a fantastic night of live music and fun! 🎸\nWe’ll be rocking out from 6:00 p.m. to 10:00 p.m. at 10 N. Broadway St.\, McAllen. 🎤\nEnjoy live music by David Gutierrez from 8:00 p.m. to 10:00 p.m.\, plus a variety of delicious food trucks 🍴 and unique arts & craft vendors. 🎨\nIt’s the perfect way to kick off the weekend with great tunes\, tasty bites\, and a vibrant atmosphere. 🌟\nDon’t miss out—see you there!
URL:https://stayinmcallen.com/events/mcallen-food-park-live-feat-david-gutierrez-2/
LOCATION:McAllen Food Park\, 10 N Broadway St\, McAllen\, TX\, United States
CATEGORIES:Live Music,Family Fun,Performing Arts,Parks and Outdoors,Food and Drink Events,Nightlife,Rock Music
ATTACH;FMTTYPE=image/jpeg:https://stayinmcallen.com/wp-content/uploads/2024/12/mcallen-food-park-david-gutierrez-scaled-TH0TIn.tmp_.jpg
GEO:26.204192;-98.233197
X-APPLE-STRUCTURED-LOCATION;VALUE=URI;X-ADDRESS=McAllen Food Park 10 N Broadway St McAllen TX United States;X-APPLE-RADIUS=500;X-TITLE=10 N Broadway St:geo:-98.233197,26.204192
END:VEVENT
END:VCALENDAR