BEGIN:VCALENDAR
VERSION:2.0
PRODID:-//Stayinmcallen - ECPv6.15.20//NONSGML v1.0//EN
CALSCALE:GREGORIAN
METHOD:PUBLISH
X-ORIGINAL-URL:https://stayinmcallen.com
X-WR-CALDESC:Events for Stayinmcallen
REFRESH-INTERVAL;VALUE=DURATION:PT1H
X-Robots-Tag:noindex
X-PUBLISHED-TTL:PT1H
BEGIN:VTIMEZONE
TZID:America/Chicago
BEGIN:DAYLIGHT
TZOFFSETFROM:-0600
TZOFFSETTO:-0500
TZNAME:CDT
DTSTART:20240310T080000
END:DAYLIGHT
BEGIN:STANDARD
TZOFFSETFROM:-0500
TZOFFSETTO:-0600
TZNAME:CST
DTSTART:20241103T070000
END:STANDARD
BEGIN:DAYLIGHT
TZOFFSETFROM:-0600
TZOFFSETTO:-0500
TZNAME:CDT
DTSTART:20250309T080000
END:DAYLIGHT
BEGIN:STANDARD
TZOFFSETFROM:-0500
TZOFFSETTO:-0600
TZNAME:CST
DTSTART:20251102T070000
END:STANDARD
BEGIN:DAYLIGHT
TZOFFSETFROM:-0600
TZOFFSETTO:-0500
TZNAME:CDT
DTSTART:20260308T080000
END:DAYLIGHT
BEGIN:STANDARD
TZOFFSETFROM:-0500
TZOFFSETTO:-0600
TZNAME:CST
DTSTART:20261101T070000
END:STANDARD
END:VTIMEZONE
BEGIN:VEVENT
DTSTART;TZID=America/Chicago:20250125T100000
DTEND;TZID=America/Chicago:20250125T140000
DTSTAMP:20260420T153917
CREATED:20250112T091737Z
LAST-MODIFIED:20250125T101522Z
UID:10001861-1737799200-1737813600@stayinmcallen.com
SUMMARY:2 Mile Color Run/Doggie Dash
DESCRIPTION:Run\, walk\, or jog your way into 2025! Let’s make it a paws-itively awesome start!\nJoin the McAllen Memorial H.S. track team and bring your dog for a day of exercise and excitement.\nPalm Valley Animal Shelter will be on-site with a few lovable\, adoptable dogs ready to meet you.\nIt all happens January 11th\, 10am at Firemen’s Park.\nEntree fee: $30 – includes tshirt\, snacks and doggie bandana.\nScan the QR code on the flyer\, or head to the link below for more info:\nhttps://www.facebook.com/share/Nm2Qx6iHG7wT7PYi/
URL:https://stayinmcallen.com/events/2-mile-color-run-doggie-dash-2/
LOCATION:Firemen’s Park\, 45 N 1st St\, McAllen\, TX\, United States
CATEGORIES:Family Fun,Sports,Parks and Outdoors,Health and Wellness,Children's Activities
ATTACH;FMTTYPE=image/jpeg:https://stayinmcallen.com/wp-content/uploads/2025/01/doggie-dash-nzrHPL.tmp_.jpg
GEO:26.201485;-98.219314
X-APPLE-STRUCTURED-LOCATION;VALUE=URI;X-ADDRESS=Firemen’s Park 45 N 1st St McAllen TX United States;X-APPLE-RADIUS=500;X-TITLE=45 N 1st St:geo:-98.219314,26.201485
END:VEVENT
BEGIN:VEVENT
DTSTART;TZID=America/Chicago:20250125T100000
DTEND;TZID=America/Chicago:20250125T140000
DTSTAMP:20260420T153917
CREATED:20250112T091745Z
LAST-MODIFIED:20250112T091745Z
UID:10001863-1737799200-1737813600@stayinmcallen.com
SUMMARY:2 Mile Color Run/Doggie Dash
DESCRIPTION:Run\, walk\, or jog your way into 2025! Let’s make it a paws-itively awesome start!\nJoin the McAllen Memorial H.S. track team and bring your dog for a day of exercise and excitement.\nPalm Valley Animal Shelter will be on-site with a few lovable\, adoptable dogs ready to meet you.\nIt all happens January 11th\, 10am at Firemen’s Park.\nEntree fee: $30 – includes tshirt\, snacks and doggie bandana.\nScan the QR code on the flyer\, or head to the link below for more info:\nhttps://www.facebook.com/share/Nm2Qx6iHG7wT7PYi/
URL:https://stayinmcallen.com/events/2-mile-color-run-doggie-dash-3/
LOCATION:Firemen’s Park\, 45 N 1st St\, McAllen\, TX\, United States
CATEGORIES:Family Fun,Sports,Parks and Outdoors,Health and Wellness,Children's Activities
ATTACH;FMTTYPE=image/jpeg:https://stayinmcallen.com/wp-content/uploads/2025/01/doggie-dash-nzrHPL.tmp_.jpg
GEO:26.201485;-98.219314
X-APPLE-STRUCTURED-LOCATION;VALUE=URI;X-ADDRESS=Firemen’s Park 45 N 1st St McAllen TX United States;X-APPLE-RADIUS=500;X-TITLE=45 N 1st St:geo:-98.219314,26.201485
END:VEVENT
BEGIN:VEVENT
DTSTART;TZID=America/Chicago:20250125T120000
DTEND;TZID=America/Chicago:20250125T170000
DTSTAMP:20260420T153917
CREATED:20250113T091728Z
LAST-MODIFIED:20250125T101529Z
UID:10001865-1737806400-1737824400@stayinmcallen.com
SUMMARY:Sizzling in the Tropics BBQ Cook-Off
DESCRIPTION: Get ready for Sizzling in the Tropics BBQ Cook-Off happening Saturday\, January 25\, 2025\, at Tres Lagos Park!\n Attention BBQ Competitors: Sign up now for a chance to win $500 and showcase your brisket\, pulled pork\, or chicken skills! Jackpot categories for beans and tailgate dishes are also available.\n Bring the whole family and enjoy BBQ sampling\, a beer garden\, food trucks\, live music/DJ\, marketplace vendors\, and so much more!\n Date: Saturday\, January 25\, 2025 Time: 12:00 PM – 5:00 PM Location: Tres Lagos Park\, 4900 Tres Lagos Blvd\n $10 entrance | Kids 12 & under FREE\nDon’t miss this mouthwatering event sponsored by H-E-B!
URL:https://stayinmcallen.com/events/sizzling-in-the-tropics-bbq-cook-off/
LOCATION:TX
CATEGORIES:Family Fun,Conventions and Exhibitions,City Events,Parks and Outdoors,Food and Drink Events
ATTACH;FMTTYPE=image/jpeg:https://stayinmcallen.com/wp-content/uploads/2025/01/chamber-bbq-cook-off-1-jpSFMK.tmp_.jpg
END:VEVENT
BEGIN:VEVENT
DTSTART;TZID=America/Chicago:20250125T120000
DTEND;TZID=America/Chicago:20250125T170000
DTSTAMP:20260420T153917
CREATED:20250113T091740Z
LAST-MODIFIED:20250113T091740Z
UID:10001869-1737806400-1737824400@stayinmcallen.com
SUMMARY:Sizzling in the Tropics BBQ Cook-Off
DESCRIPTION: Get ready for Sizzling in the Tropics BBQ Cook-Off happening Saturday\, January 25\, 2025\, at Tres Lagos Park!\n Attention BBQ Competitors: Sign up now for a chance to win $500 and showcase your brisket\, pulled pork\, or chicken skills! Jackpot categories for beans and tailgate dishes are also available.\n Bring the whole family and enjoy BBQ sampling\, a beer garden\, food trucks\, live music/DJ\, marketplace vendors\, and so much more!\n Date: Saturday\, January 25\, 2025 Time: 12:00 PM – 5:00 PM Location: Tres Lagos Park\, 4900 Tres Lagos Blvd\n $10 entrance | Kids 12 & under FREE\nDon’t miss this mouthwatering event sponsored by H-E-B!
URL:https://stayinmcallen.com/events/sizzling-in-the-tropics-bbq-cook-off-2/
LOCATION:TX
CATEGORIES:Family Fun,Conventions and Exhibitions,City Events,Parks and Outdoors,Food and Drink Events
ATTACH;FMTTYPE=image/jpeg:https://stayinmcallen.com/wp-content/uploads/2025/01/chamber-bbq-cook-off-1-jpSFMK.tmp_.jpg
END:VEVENT
END:VCALENDAR