BEGIN:VCALENDAR
VERSION:2.0
PRODID:-//Stayinmcallen - ECPv6.15.20//NONSGML v1.0//EN
CALSCALE:GREGORIAN
METHOD:PUBLISH
X-ORIGINAL-URL:https://stayinmcallen.com
X-WR-CALDESC:Events for Stayinmcallen
REFRESH-INTERVAL;VALUE=DURATION:PT1H
X-Robots-Tag:noindex
X-PUBLISHED-TTL:PT1H
BEGIN:VTIMEZONE
TZID:America/Chicago
BEGIN:DAYLIGHT
TZOFFSETFROM:-0600
TZOFFSETTO:-0500
TZNAME:CDT
DTSTART:20240310T080000
END:DAYLIGHT
BEGIN:STANDARD
TZOFFSETFROM:-0500
TZOFFSETTO:-0600
TZNAME:CST
DTSTART:20241103T070000
END:STANDARD
BEGIN:DAYLIGHT
TZOFFSETFROM:-0600
TZOFFSETTO:-0500
TZNAME:CDT
DTSTART:20250309T080000
END:DAYLIGHT
BEGIN:STANDARD
TZOFFSETFROM:-0500
TZOFFSETTO:-0600
TZNAME:CST
DTSTART:20251102T070000
END:STANDARD
BEGIN:DAYLIGHT
TZOFFSETFROM:-0600
TZOFFSETTO:-0500
TZNAME:CDT
DTSTART:20260308T080000
END:DAYLIGHT
BEGIN:STANDARD
TZOFFSETFROM:-0500
TZOFFSETTO:-0600
TZNAME:CST
DTSTART:20261101T070000
END:STANDARD
END:VTIMEZONE
BEGIN:VEVENT
DTSTART;TZID=America/Chicago:20250214T180000
DTEND;TZID=America/Chicago:20250214T220000
DTSTAMP:20260420T115301
CREATED:20250203T110433Z
LAST-MODIFIED:20250214T123213Z
UID:10001968-1739556000-1739570400@stayinmcallen.com
SUMMARY:Cupid's Collectibles Market
DESCRIPTION: Join us to this very special event! We are going to have many activities there\, also we’re going to giveaway prizes to the vendors! We dont need the whole amount of money ($40) for the spot\, we accept payments��\nWhat we promote at the event is LOVE in all its forms and expressions\, and a reminder that small buisnesses are not rivals but allies/teammates/partners\, and together we are stronger!
URL:https://stayinmcallen.com/events/cupids-collectibles-market/
LOCATION:McAllen Food Park\, 10 N Broadway St\, McAllen\, TX\, United States
CATEGORIES:Family Fun,Parks and Outdoors,Food and Drink Events,Shopping
ATTACH;FMTTYPE=image/jpeg:https://stayinmcallen.com/wp-content/uploads/2025/02/cupid-collectibles-market-TiIMRk.tmp_.jpg
GEO:26.204192;-98.233197
X-APPLE-STRUCTURED-LOCATION;VALUE=URI;X-ADDRESS=McAllen Food Park 10 N Broadway St McAllen TX United States;X-APPLE-RADIUS=500;X-TITLE=10 N Broadway St:geo:-98.233197,26.204192
END:VEVENT
BEGIN:VEVENT
DTSTART;TZID=America/Chicago:20250214T180000
DTEND;TZID=America/Chicago:20250214T220000
DTSTAMP:20260420T115301
CREATED:20250203T110435Z
LAST-MODIFIED:20250203T110435Z
UID:10001966-1739556000-1739570400@stayinmcallen.com
SUMMARY:Cupid's Collectibles Market
DESCRIPTION: Join us to this very special event! We are going to have many activities there\, also we’re going to giveaway prizes to the vendors! We dont need the whole amount of money ($40) for the spot\, we accept payments��\nWhat we promote at the event is LOVE in all its forms and expressions\, and a reminder that small buisnesses are not rivals but allies/teammates/partners\, and together we are stronger!
URL:https://stayinmcallen.com/events/cupids-collectibles-market-2/
LOCATION:McAllen Food Park\, 10 N Broadway St\, McAllen\, TX\, United States
CATEGORIES:Family Fun,Parks and Outdoors,Food and Drink Events,Shopping
ATTACH;FMTTYPE=image/jpeg:https://stayinmcallen.com/wp-content/uploads/2025/02/cupid-collectibles-market-122enR.tmp_.jpg
GEO:26.204192;-98.233197
X-APPLE-STRUCTURED-LOCATION;VALUE=URI;X-ADDRESS=McAllen Food Park 10 N Broadway St McAllen TX United States;X-APPLE-RADIUS=500;X-TITLE=10 N Broadway St:geo:-98.233197,26.204192
END:VEVENT
END:VCALENDAR