BEGIN:VCALENDAR
VERSION:2.0
PRODID:-//Stayinmcallen - ECPv6.15.20//NONSGML v1.0//EN
CALSCALE:GREGORIAN
METHOD:PUBLISH
X-ORIGINAL-URL:https://stayinmcallen.com
X-WR-CALDESC:Events for Stayinmcallen
REFRESH-INTERVAL;VALUE=DURATION:PT1H
X-Robots-Tag:noindex
X-PUBLISHED-TTL:PT1H
BEGIN:VTIMEZONE
TZID:America/Chicago
BEGIN:DAYLIGHT
TZOFFSETFROM:-0600
TZOFFSETTO:-0500
TZNAME:CDT
DTSTART:20240310T080000
END:DAYLIGHT
BEGIN:STANDARD
TZOFFSETFROM:-0500
TZOFFSETTO:-0600
TZNAME:CST
DTSTART:20241103T070000
END:STANDARD
BEGIN:DAYLIGHT
TZOFFSETFROM:-0600
TZOFFSETTO:-0500
TZNAME:CDT
DTSTART:20250309T080000
END:DAYLIGHT
BEGIN:STANDARD
TZOFFSETFROM:-0500
TZOFFSETTO:-0600
TZNAME:CST
DTSTART:20251102T070000
END:STANDARD
BEGIN:DAYLIGHT
TZOFFSETFROM:-0600
TZOFFSETTO:-0500
TZNAME:CDT
DTSTART:20260308T080000
END:DAYLIGHT
BEGIN:STANDARD
TZOFFSETFROM:-0500
TZOFFSETTO:-0600
TZNAME:CST
DTSTART:20261101T070000
END:STANDARD
END:VTIMEZONE
BEGIN:VEVENT
DTSTART;TZID=America/Chicago:20250220T180000
DTEND;TZID=America/Chicago:20250220T190000
DTSTAMP:20260420T115253
CREATED:20250212T120438Z
LAST-MODIFIED:20250220T133214Z
UID:10002014-1740074400-1740078000@stayinmcallen.com
SUMMARY:How to RE:Wild Your Campus
DESCRIPTION:Join Mackenzie Feldman\, founder and co-director of Re:Wild your Campus.\nRe:wild Your Campus is an organization on a mission to make campus grounds more sustainable.This presentation will give you actionable ways to get involved\, either as a student or community member\, through the lens of pesticide reduction and increased biodiversity on campus grounds and community spaces for the sake of human and environmental health.\nMackenzie Feldman recently received her Master’s from the University of Texas Rio Grande Valley in the Agricultural\, Environmental\, and Sustainability Sciences program. She is the founder and co-director of Re:wild Your Campus\, an organization that works with colleges across the country to eliminate synthetic pesticides on campus grounds and support groundskeepers in the transition to organic\, biodiverse land management. Mackenzie is currently a 2024-2025 Obama Foundation USA Leader and is co-author\, with her mother Kathy\, of the book Ground bakers: 60+ Plant-Based Comfort Food Recipes and 16 Leaders Changing the Food System.
URL:https://stayinmcallen.com/events/how-to-rewild-your-campus/
LOCATION:Quinta Mazatlan\, 600 Sunset Dr\, McAllen\, TX\, United States
CATEGORIES:Family Fun,Parks and Outdoors,Health and Wellness,Educational Activities
ATTACH;FMTTYPE=image/jpeg:https://stayinmcallen.com/wp-content/uploads/2025/02/rewild-your-campus-PDFxm3.tmp_.jpg
GEO:26.176444;-98.229808
X-APPLE-STRUCTURED-LOCATION;VALUE=URI;X-ADDRESS=Quinta Mazatlan 600 Sunset Dr McAllen TX United States;X-APPLE-RADIUS=500;X-TITLE=600 Sunset Dr:geo:-98.229808,26.176444
END:VEVENT
BEGIN:VEVENT
DTSTART;TZID=America/Chicago:20250220T180000
DTEND;TZID=America/Chicago:20250220T190000
DTSTAMP:20260420T115253
CREATED:20250212T120440Z
LAST-MODIFIED:20250212T120440Z
UID:10002015-1740074400-1740078000@stayinmcallen.com
SUMMARY:How to RE:Wild Your Campus
DESCRIPTION:Join Mackenzie Feldman\, founder and co-director of Re:Wild your Campus.\nRe:wild Your Campus is an organization on a mission to make campus grounds more sustainable.This presentation will give you actionable ways to get involved\, either as a student or community member\, through the lens of pesticide reduction and increased biodiversity on campus grounds and community spaces for the sake of human and environmental health.\nMackenzie Feldman recently received her Master’s from the University of Texas Rio Grande Valley in the Agricultural\, Environmental\, and Sustainability Sciences program. She is the founder and co-director of Re:wild Your Campus\, an organization that works with colleges across the country to eliminate synthetic pesticides on campus grounds and support groundskeepers in the transition to organic\, biodiverse land management. Mackenzie is currently a 2024-2025 Obama Foundation USA Leader and is co-author\, with her mother Kathy\, of the book Ground bakers: 60+ Plant-Based Comfort Food Recipes and 16 Leaders Changing the Food System.
URL:https://stayinmcallen.com/events/how-to-rewild-your-campus-2/
LOCATION:Quinta Mazatlan\, 600 Sunset Dr\, McAllen\, TX\, United States
CATEGORIES:Family Fun,Parks and Outdoors,Health and Wellness,Educational Activities
ATTACH;FMTTYPE=image/jpeg:https://stayinmcallen.com/wp-content/uploads/2025/02/rewild-your-campus-PDFxm3.tmp_.jpg
GEO:26.176444;-98.229808
X-APPLE-STRUCTURED-LOCATION;VALUE=URI;X-ADDRESS=Quinta Mazatlan 600 Sunset Dr McAllen TX United States;X-APPLE-RADIUS=500;X-TITLE=600 Sunset Dr:geo:-98.229808,26.176444
END:VEVENT
END:VCALENDAR