BEGIN:VCALENDAR
VERSION:2.0
PRODID:-//Stayinmcallen - ECPv6.15.20//NONSGML v1.0//EN
CALSCALE:GREGORIAN
METHOD:PUBLISH
X-WR-CALNAME:Stayinmcallen
X-ORIGINAL-URL:https://stayinmcallen.com
X-WR-CALDESC:Events for Stayinmcallen
REFRESH-INTERVAL;VALUE=DURATION:PT1H
X-Robots-Tag:noindex
X-PUBLISHED-TTL:PT1H
BEGIN:VTIMEZONE
TZID:America/Chicago
BEGIN:DAYLIGHT
TZOFFSETFROM:-0600
TZOFFSETTO:-0500
TZNAME:CDT
DTSTART:20240310T080000
END:DAYLIGHT
BEGIN:STANDARD
TZOFFSETFROM:-0500
TZOFFSETTO:-0600
TZNAME:CST
DTSTART:20241103T070000
END:STANDARD
BEGIN:DAYLIGHT
TZOFFSETFROM:-0600
TZOFFSETTO:-0500
TZNAME:CDT
DTSTART:20250309T080000
END:DAYLIGHT
BEGIN:STANDARD
TZOFFSETFROM:-0500
TZOFFSETTO:-0600
TZNAME:CST
DTSTART:20251102T070000
END:STANDARD
BEGIN:DAYLIGHT
TZOFFSETFROM:-0600
TZOFFSETTO:-0500
TZNAME:CDT
DTSTART:20260308T080000
END:DAYLIGHT
BEGIN:STANDARD
TZOFFSETFROM:-0500
TZOFFSETTO:-0600
TZNAME:CST
DTSTART:20261101T070000
END:STANDARD
END:VTIMEZONE
BEGIN:VEVENT
DTSTART;TZID=America/Chicago:20250329T090000
DTEND;TZID=America/Chicago:20250329T120000
DTSTAMP:20260420T121005
CREATED:20250309T154955Z
LAST-MODIFIED:20250328T174905Z
UID:10002225-1743238800-1743249600@stayinmcallen.com
SUMMARY:Farmer's Market at Firemen's Park
DESCRIPTION: Farmer’s Market  Come out to the farmers market this weekend & support your local farmers! Join us for our weekly #FarmersMarket  of locally produced fruits \, meats \, vegetables  & educational programs for the public – something for everyone at #FiremensPark #TownlakeSee you there!
URL:https://stayinmcallen.com/events/farmers-market-at-firemens-park-54/
LOCATION:Town Lake at Firemen’s Park\, 45 N 1st St\, McAllen\, TX\, United States
CATEGORIES:Parks and Outdoors,Shopping
ATTACH;FMTTYPE=image/jpeg:https://stayinmcallen.com/wp-content/uploads/2025/03/farmers-market-2jhn8U.tmp_.jpg
GEO:26.201485;-98.219314
X-APPLE-STRUCTURED-LOCATION;VALUE=URI;X-ADDRESS=Town Lake at Firemen’s Park 45 N 1st St McAllen TX United States;X-APPLE-RADIUS=500;X-TITLE=45 N 1st St:geo:-98.219314,26.201485
END:VEVENT
BEGIN:VEVENT
DTSTART;TZID=America/Chicago:20250329T090000
DTEND;TZID=America/Chicago:20250329T120000
DTSTAMP:20260420T121005
CREATED:20250309T154958Z
LAST-MODIFIED:20250309T154958Z
UID:10002229-1743238800-1743249600@stayinmcallen.com
SUMMARY:Farmer's Market at Firemen's Park
DESCRIPTION: Farmer’s Market  Come out to the farmers market this weekend & support your local farmers! Join us for our weekly #FarmersMarket  of locally produced fruits \, meats \, vegetables  & educational programs for the public – something for everyone at #FiremensPark #TownlakeSee you there!
URL:https://stayinmcallen.com/events/farmers-market-at-firemens-park-55/
LOCATION:Town Lake at Firemen’s Park\, 45 N 1st St\, McAllen\, TX\, United States
CATEGORIES:Parks and Outdoors,Shopping
ATTACH;FMTTYPE=image/jpeg:https://stayinmcallen.com/wp-content/uploads/2025/03/farmers-market-2jhn8U.tmp_.jpg
GEO:26.201485;-98.219314
X-APPLE-STRUCTURED-LOCATION;VALUE=URI;X-ADDRESS=Town Lake at Firemen’s Park 45 N 1st St McAllen TX United States;X-APPLE-RADIUS=500;X-TITLE=45 N 1st St:geo:-98.219314,26.201485
END:VEVENT
END:VCALENDAR