BEGIN:VCALENDAR
VERSION:2.0
PRODID:-//Stayinmcallen - ECPv6.15.20//NONSGML v1.0//EN
CALSCALE:GREGORIAN
METHOD:PUBLISH
X-ORIGINAL-URL:https://stayinmcallen.com
X-WR-CALDESC:Events for Stayinmcallen
REFRESH-INTERVAL;VALUE=DURATION:PT1H
X-Robots-Tag:noindex
X-PUBLISHED-TTL:PT1H
BEGIN:VTIMEZONE
TZID:America/Chicago
BEGIN:DAYLIGHT
TZOFFSETFROM:-0600
TZOFFSETTO:-0500
TZNAME:CDT
DTSTART:20230312T080000
END:DAYLIGHT
BEGIN:STANDARD
TZOFFSETFROM:-0500
TZOFFSETTO:-0600
TZNAME:CST
DTSTART:20231105T070000
END:STANDARD
BEGIN:DAYLIGHT
TZOFFSETFROM:-0600
TZOFFSETTO:-0500
TZNAME:CDT
DTSTART:20240310T080000
END:DAYLIGHT
BEGIN:STANDARD
TZOFFSETFROM:-0500
TZOFFSETTO:-0600
TZNAME:CST
DTSTART:20241103T070000
END:STANDARD
BEGIN:DAYLIGHT
TZOFFSETFROM:-0600
TZOFFSETTO:-0500
TZNAME:CDT
DTSTART:20250309T080000
END:DAYLIGHT
BEGIN:STANDARD
TZOFFSETFROM:-0500
TZOFFSETTO:-0600
TZNAME:CST
DTSTART:20251102T070000
END:STANDARD
END:VTIMEZONE
BEGIN:VEVENT
DTSTART;TZID=America/Chicago:20240323T090000
DTEND;TZID=America/Chicago:20240323T230000
DTSTAMP:20260423T012651
CREATED:20240322T092859Z
LAST-MODIFIED:20240322T093516Z
UID:10000477-1711184400-1711234800@stayinmcallen.com
SUMMARY:Hot Girl Walk!
DESCRIPTION:VAC’s Hot Girl Walk is a meetup aimed at addressing and raising awareness surrounding women and HIV. With community engagement and the physical activity of walking to promote a healthy lifestyle\, the event will foster a positive mindset associated with the “hot girl” mentality. The event is open to individuals of all genders\, creating an environment of inclusivity.
URL:https://stayinmcallen.com/events/hot-girl-walk/
LOCATION:Fireman’s Park\, 201 N 1st St.\, McAllen\, Texas\, 78501\, United States
CATEGORIES:Parks and Outdoors,Health and Wellness,Explore McAllen,Social Meetups
ATTACH;FMTTYPE=image/png:https://stayinmcallen.com/wp-content/uploads/2024/03/Hot-Girl-Walk-Kz2IEe.tmp_.png
ORGANIZER;CN="Valley AIDS Council":MAILTO:jmiramontes@valleyaids.org
END:VEVENT
END:VCALENDAR