BEGIN:VCALENDAR
VERSION:2.0
PRODID:-//Stayinmcallen - ECPv6.15.20//NONSGML v1.0//EN
CALSCALE:GREGORIAN
METHOD:PUBLISH
X-ORIGINAL-URL:https://stayinmcallen.com
X-WR-CALDESC:Events for Stayinmcallen
REFRESH-INTERVAL;VALUE=DURATION:PT1H
X-Robots-Tag:noindex
X-PUBLISHED-TTL:PT1H
BEGIN:VTIMEZONE
TZID:America/Chicago
BEGIN:DAYLIGHT
TZOFFSETFROM:-0600
TZOFFSETTO:-0500
TZNAME:CDT
DTSTART:20230312T080000
END:DAYLIGHT
BEGIN:STANDARD
TZOFFSETFROM:-0500
TZOFFSETTO:-0600
TZNAME:CST
DTSTART:20231105T070000
END:STANDARD
BEGIN:DAYLIGHT
TZOFFSETFROM:-0600
TZOFFSETTO:-0500
TZNAME:CDT
DTSTART:20240310T080000
END:DAYLIGHT
BEGIN:STANDARD
TZOFFSETFROM:-0500
TZOFFSETTO:-0600
TZNAME:CST
DTSTART:20241103T070000
END:STANDARD
BEGIN:DAYLIGHT
TZOFFSETFROM:-0600
TZOFFSETTO:-0500
TZNAME:CDT
DTSTART:20250309T080000
END:DAYLIGHT
BEGIN:STANDARD
TZOFFSETFROM:-0500
TZOFFSETTO:-0600
TZNAME:CST
DTSTART:20251102T070000
END:STANDARD
END:VTIMEZONE
BEGIN:VEVENT
DTSTART;TZID=America/Chicago:20240720T080000
DTEND;TZID=America/Chicago:20240720T100000
DTSTAMP:20260421T193901
CREATED:20240701T182926Z
LAST-MODIFIED:20240719T201857Z
UID:10000663-1721462400-1721469600@stayinmcallen.com
SUMMARY:Pup Dash 1K
DESCRIPTION:Join us at Townlake for our 2nd annual 1K Pup Dash\, stick around for a post run after Paw-ty! Don’t miss out on this fun event!\nFor more information contact Las Palmas Community Center at (956) 681-3350 or at 1921 N 25th St\, McAllen\, TX 78501.
URL:https://stayinmcallen.com/events/pup-dash-1k/
LOCATION:Town Lake at Firemen’s Park\, 45 N 1st St\, McAllen\, TX\, United States
CATEGORIES:Family Fun,City Events,Parks and Outdoors,Health and Wellness,Explore McAllen,Children's Activities,Social Meetups
ATTACH;FMTTYPE=image/png:https://stayinmcallen.com/wp-content/uploads/2024/07/mcallenparks-pup-dash-TsGNkq.tmp_.png
GEO:26.201485;-98.219314
X-APPLE-STRUCTURED-LOCATION;VALUE=URI;X-ADDRESS=Town Lake at Firemen’s Park 45 N 1st St McAllen TX United States;X-APPLE-RADIUS=500;X-TITLE=45 N 1st St:geo:-98.219314,26.201485
END:VEVENT
BEGIN:VEVENT
DTSTART;TZID=America/Chicago:20240720T210000
DTEND;TZID=America/Chicago:20240720T235900
DTSTAMP:20260421T193901
CREATED:20240711T193443Z
LAST-MODIFIED:20240720T201901Z
UID:10000714-1721509200-1721519940@stayinmcallen.com
SUMMARY:Mothing by Moonlight 2024
DESCRIPTION:Join Quinta Mazatlan for a special night event on July 20\, 2024 to celebrate National Moth Week. Enjoy exploring the park after dark! The event features:\nMothing stations and insect displays to see moths\, beetles\, and other insects and arachnids\nDimly lit forest paths for a self-guided walk through a lush thornforest at night\nMoon-viewing through a spotting scope\nLeaf art activity in Quinta Mazatlan’s historical courtyard\nHope to see you there!
URL:https://stayinmcallen.com/events/mothing-by-moonlight-2024/
LOCATION:Quinta Mazatlan\, 600 Sunset Dr\, McAllen\, TX\, United States
CATEGORIES:Family Fun,Parks and Outdoors,Explore McAllen,Educational Activities
ATTACH;FMTTYPE=image/jpeg:https://stayinmcallen.com/wp-content/uploads/2024/07/Flashlight-Nights-7-5-22-15-scaled-cBJg5q.tmp_.jpg
GEO:26.176444;-98.229808
X-APPLE-STRUCTURED-LOCATION;VALUE=URI;X-ADDRESS=Quinta Mazatlan 600 Sunset Dr McAllen TX United States;X-APPLE-RADIUS=500;X-TITLE=600 Sunset Dr:geo:-98.229808,26.176444
END:VEVENT
END:VCALENDAR