BEGIN:VCALENDAR
VERSION:2.0
PRODID:-//Stayinmcallen - ECPv6.15.20//NONSGML v1.0//EN
CALSCALE:GREGORIAN
METHOD:PUBLISH
X-ORIGINAL-URL:https://stayinmcallen.com
X-WR-CALDESC:Events for Stayinmcallen
REFRESH-INTERVAL;VALUE=DURATION:PT1H
X-Robots-Tag:noindex
X-PUBLISHED-TTL:PT1H
BEGIN:VTIMEZONE
TZID:America/Chicago
BEGIN:DAYLIGHT
TZOFFSETFROM:-0600
TZOFFSETTO:-0500
TZNAME:CDT
DTSTART:20240310T080000
END:DAYLIGHT
BEGIN:STANDARD
TZOFFSETFROM:-0500
TZOFFSETTO:-0600
TZNAME:CST
DTSTART:20241103T070000
END:STANDARD
BEGIN:DAYLIGHT
TZOFFSETFROM:-0600
TZOFFSETTO:-0500
TZNAME:CDT
DTSTART:20250309T080000
END:DAYLIGHT
BEGIN:STANDARD
TZOFFSETFROM:-0500
TZOFFSETTO:-0600
TZNAME:CST
DTSTART:20251102T070000
END:STANDARD
BEGIN:DAYLIGHT
TZOFFSETFROM:-0600
TZOFFSETTO:-0500
TZNAME:CDT
DTSTART:20260308T080000
END:DAYLIGHT
BEGIN:STANDARD
TZOFFSETFROM:-0500
TZOFFSETTO:-0600
TZNAME:CST
DTSTART:20261101T070000
END:STANDARD
END:VTIMEZONE
BEGIN:VEVENT
DTSTART;TZID=America/Chicago:20250108T090000
DTEND;TZID=America/Chicago:20250108T100000
DTSTAMP:20260420T173058
CREATED:20250104T083105Z
LAST-MODIFIED:20250108T083014Z
UID:10001806-1736326800-1736330400@stayinmcallen.com
SUMMARY:Quinta Park Tours
DESCRIPTION:Enjoy an informative tour\, learning about the park along with the plants and animals that call it home. Bring your own binoculars or borrow one of ours! Tours include light walking along our forested trails. Program is included with park admission fees ($3 adults\, $2 seniors (65+) or children (under 12).
URL:https://stayinmcallen.com/events/quinta-park-tours/
LOCATION:Quinta Mazatlan\, 600 Sunset Dr\, McAllen\, TX\, United States
CATEGORIES:Parks and Outdoors,Health and Wellness,Educational Activities
ATTACH;FMTTYPE=image/jpeg:https://stayinmcallen.com/wp-content/uploads/2025/01/quinta-walking-tours-5QIr2m.tmp_.jpg
GEO:26.176444;-98.229808
X-APPLE-STRUCTURED-LOCATION;VALUE=URI;X-ADDRESS=Quinta Mazatlan 600 Sunset Dr McAllen TX United States;X-APPLE-RADIUS=500;X-TITLE=600 Sunset Dr:geo:-98.229808,26.176444
END:VEVENT
BEGIN:VEVENT
DTSTART;TZID=America/Chicago:20250110T100000
DTEND;TZID=America/Chicago:20250112T170000
DTSTAMP:20260420T173058
CREATED:20250108T083030Z
LAST-MODIFIED:20250112T091511Z
UID:10001832-1736503200-1736701200@stayinmcallen.com
SUMMARY:Funbox
DESCRIPTION:Get ready to jump into the world’s biggest bounce park! 🎉💚\nExperience two weekends of FUNBOX at La Plaza Mall parking lot (adjacent to Logan’s) from Jan. 10th – 12th and 17th – 19th.\nYour ticket purchase not only guarantees a day of fun but also helps raise proceeds for charity!🤸‍♀️\nJoin us in making a difference one bounce at a time!\nLearn more at:\nhttps://funbox.com/mcallen
URL:https://stayinmcallen.com/events/funbox/
LOCATION:La Plaza Mall\, 2200 S 10th St\, McAllen\, TX\, United States
CATEGORIES:Family Fun,Parks and Outdoors,Health and Wellness,Children's Activities
ATTACH;FMTTYPE=image/jpeg:https://stayinmcallen.com/wp-content/uploads/2025/01/funbox-699W3U.tmp_.jpg
GEO:26.183119;-98.233581
X-APPLE-STRUCTURED-LOCATION;VALUE=URI;X-ADDRESS=La Plaza Mall 2200 S 10th St McAllen TX United States;X-APPLE-RADIUS=500;X-TITLE=2200 S 10th St:geo:-98.233581,26.183119
END:VEVENT
BEGIN:VEVENT
DTSTART;TZID=America/Chicago:20250110T100000
DTEND;TZID=America/Chicago:20250112T170000
DTSTAMP:20260420T173058
CREATED:20250108T083030Z
LAST-MODIFIED:20250108T083030Z
UID:10001831-1736503200-1736701200@stayinmcallen.com
SUMMARY:Funbox
DESCRIPTION:Get ready to jump into the world’s biggest bounce park! 🎉💚\nExperience two weekends of FUNBOX at La Plaza Mall parking lot (adjacent to Logan’s) from Jan. 10th – 12th and 17th – 19th.\nYour ticket purchase not only guarantees a day of fun but also helps raise proceeds for charity!🤸‍♀️\nJoin us in making a difference one bounce at a time!\nLearn more at:\nhttps://funbox.com/mcallen
URL:https://stayinmcallen.com/events/funbox-2/
LOCATION:La Plaza Mall\, 2200 S 10th St\, McAllen\, TX\, United States
CATEGORIES:Family Fun,Parks and Outdoors,Health and Wellness,Children's Activities
ATTACH;FMTTYPE=image/jpeg:https://stayinmcallen.com/wp-content/uploads/2025/01/funbox-699W3U.tmp_.jpg
GEO:26.183119;-98.233581
X-APPLE-STRUCTURED-LOCATION;VALUE=URI;X-ADDRESS=La Plaza Mall 2200 S 10th St McAllen TX United States;X-APPLE-RADIUS=500;X-TITLE=2200 S 10th St:geo:-98.233581,26.183119
END:VEVENT
BEGIN:VEVENT
DTSTART;TZID=America/Chicago:20250111T080000
DTEND;TZID=America/Chicago:20250111T130000
DTSTAMP:20260420T173058
CREATED:20250103T081730Z
LAST-MODIFIED:20250110T090031Z
UID:10001786-1736582400-1736600400@stayinmcallen.com
SUMMARY:2 Mile Color Run/Doggie Dash
DESCRIPTION:Run\, walk\, or jog your way into 2025! Let’s make it a paws-itively awesome start!\nJoin the McAllen Memorial H.S. track team and bring your dog for a day of exercise and excitement.\nPalm Valley Animal Shelter will be on-site with a few lovable\, adoptable dogs ready to meet you.\nIt all happens January 11th\, 10am at Firemen’s Park.\nEntree fee: $30 – includes tshirt\, snacks and doggie bandana.\nScan the QR code on the flyer\, or head to the link below for more info:\nhttps://www.facebook.com/share/Nm2Qx6iHG7wT7PYi/
URL:https://stayinmcallen.com/events/2-mile-color-run-doggie-dash/
LOCATION:Firemen’s Park\, 45 N 1st St\, McAllen\, TX\, United States
CATEGORIES:Family Fun,Sports,Parks and Outdoors,Health and Wellness,Children's Activities
ATTACH;FMTTYPE=image/jpeg:https://stayinmcallen.com/wp-content/uploads/2025/01/color-run-doggie-dash-scaled-gL7nxp.tmp_.jpg
GEO:26.201485;-98.219314
X-APPLE-STRUCTURED-LOCATION;VALUE=URI;X-ADDRESS=Firemen’s Park 45 N 1st St McAllen TX United States;X-APPLE-RADIUS=500;X-TITLE=45 N 1st St:geo:-98.219314,26.201485
END:VEVENT
END:VCALENDAR