BEGIN:VCALENDAR
VERSION:2.0
PRODID:-//Stayinmcallen - ECPv6.15.20//NONSGML v1.0//EN
CALSCALE:GREGORIAN
METHOD:PUBLISH
X-ORIGINAL-URL:https://stayinmcallen.com
X-WR-CALDESC:Events for Stayinmcallen
REFRESH-INTERVAL;VALUE=DURATION:PT1H
X-Robots-Tag:noindex
X-PUBLISHED-TTL:PT1H
BEGIN:VTIMEZONE
TZID:America/Chicago
BEGIN:DAYLIGHT
TZOFFSETFROM:-0600
TZOFFSETTO:-0500
TZNAME:CDT
DTSTART:20240310T080000
END:DAYLIGHT
BEGIN:STANDARD
TZOFFSETFROM:-0500
TZOFFSETTO:-0600
TZNAME:CST
DTSTART:20241103T070000
END:STANDARD
BEGIN:DAYLIGHT
TZOFFSETFROM:-0600
TZOFFSETTO:-0500
TZNAME:CDT
DTSTART:20250309T080000
END:DAYLIGHT
BEGIN:STANDARD
TZOFFSETFROM:-0500
TZOFFSETTO:-0600
TZNAME:CST
DTSTART:20251102T070000
END:STANDARD
BEGIN:DAYLIGHT
TZOFFSETFROM:-0600
TZOFFSETTO:-0500
TZNAME:CDT
DTSTART:20260308T080000
END:DAYLIGHT
BEGIN:STANDARD
TZOFFSETFROM:-0500
TZOFFSETTO:-0600
TZNAME:CST
DTSTART:20261101T070000
END:STANDARD
END:VTIMEZONE
BEGIN:VEVENT
DTSTART;TZID=America/Chicago:20250205T090000
DTEND;TZID=America/Chicago:20250205T100000
DTSTAMP:20260420T153737
CREATED:20250201T103311Z
LAST-MODIFIED:20250205T113212Z
UID:10001928-1738746000-1738749600@stayinmcallen.com
SUMMARY:Quinta Park Tours
DESCRIPTION:Enjoy an informative tour\, learning about the park along with the plants and animals that call it home. Bring your own binoculars or borrow one of ours! Tours include light walking along our forested trails. Program is included with park admission fees ($3 adults\, $2 seniors (65+) or children (under 12).
URL:https://stayinmcallen.com/events/quinta-park-tours-8/
LOCATION:Quinta Mazatlan\, 600 Sunset Dr\, McAllen\, TX\, United States
CATEGORIES:Parks and Outdoors,Health and Wellness,Educational Activities
ATTACH;FMTTYPE=image/jpeg:https://stayinmcallen.com/wp-content/uploads/2025/01/quinta-walking-tours-5QIr2m.tmp_.jpg
GEO:26.176444;-98.229808
X-APPLE-STRUCTURED-LOCATION;VALUE=URI;X-ADDRESS=Quinta Mazatlan 600 Sunset Dr McAllen TX United States;X-APPLE-RADIUS=500;X-TITLE=600 Sunset Dr:geo:-98.229808,26.176444
END:VEVENT
BEGIN:VEVENT
DTSTART;TZID=America/Chicago:20250205T090000
DTEND;TZID=America/Chicago:20250205T100000
DTSTAMP:20260420T153737
CREATED:20250201T103312Z
LAST-MODIFIED:20250201T103312Z
UID:10001932-1738746000-1738749600@stayinmcallen.com
SUMMARY:Quinta Park Tours
DESCRIPTION:Enjoy an informative tour\, learning about the park along with the plants and animals that call it home. Bring your own binoculars or borrow one of ours! Tours include light walking along our forested trails. Program is included with park admission fees ($3 adults\, $2 seniors (65+) or children (under 12).
URL:https://stayinmcallen.com/events/quinta-park-tours-9/
LOCATION:Quinta Mazatlan\, 600 Sunset Dr\, McAllen\, TX\, United States
CATEGORIES:Parks and Outdoors,Health and Wellness,Educational Activities
ATTACH;FMTTYPE=image/jpeg:https://stayinmcallen.com/wp-content/uploads/2025/01/quinta-walking-tours-5QIr2m.tmp_.jpg
GEO:26.176444;-98.229808
X-APPLE-STRUCTURED-LOCATION;VALUE=URI;X-ADDRESS=Quinta Mazatlan 600 Sunset Dr McAllen TX United States;X-APPLE-RADIUS=500;X-TITLE=600 Sunset Dr:geo:-98.229808,26.176444
END:VEVENT
BEGIN:VEVENT
DTSTART;TZID=America/Chicago:20250205T183000
DTEND;TZID=America/Chicago:20250205T193000
DTSTAMP:20260420T153737
CREATED:20250205T113215Z
LAST-MODIFIED:20250205T113215Z
UID:10001970-1738780200-1738783800@stayinmcallen.com
SUMMARY:Rooted Yoga
DESCRIPTION:Quiet Mind Yoga Studio will be at Quinta Mazatlan for a Fall Series of outdoor yoga happening every other Wednesday of the month from 6:30pm – 7:30pm. Guests are welcomed to come early and walk the Thornforest trails.\nBring your mats\, blankets\, blocks\, natural insect repellent\, water and be ready to become one with nature through yoga\, meditation and sound. Instructors from Quiet Mind Yoga will teach a beginner friendly yoga flow with yoga poses and meditation that all the family can join in on\nJoin Matthew as he guides you through an All-Levels yoga flow\, beginners are welcome to join!\nThis is the perfect way to relax\, recharge\, and connect with nature. Think of it as your midweek unwind!\nTo reserve your space visit quintamazatlan.ticketleap.com\, link in bio. Kids are welcome to come. See below for details.\nRooted Yoga\nFebruary 5th and 19th\, 2025\nQuinta Mazatlan\nTime: 6:30pm\nCost: donation based ($5 min.)\nquintamazatlan.ticketleap.com\,
URL:https://stayinmcallen.com/events/rooted-yoga/
LOCATION:Quinta Mazatlan\, 600 Sunset Dr\, McAllen\, TX\, United States
CATEGORIES:Family Fun,Sports,City Events,Parks and Outdoors,Health and Wellness
ATTACH;FMTTYPE=image/jpeg:https://stayinmcallen.com/wp-content/uploads/2025/02/475453719_18297578791235635_6970850028840923889_n-M5yn8d.tmp_.jpg
GEO:26.176444;-98.229808
X-APPLE-STRUCTURED-LOCATION;VALUE=URI;X-ADDRESS=Quinta Mazatlan 600 Sunset Dr McAllen TX United States;X-APPLE-RADIUS=500;X-TITLE=600 Sunset Dr:geo:-98.229808,26.176444
END:VEVENT
BEGIN:VEVENT
DTSTART;TZID=America/Chicago:20250205T183000
DTEND;TZID=America/Chicago:20250205T193000
DTSTAMP:20260420T153737
CREATED:20250205T113216Z
LAST-MODIFIED:20250205T113216Z
UID:10001971-1738780200-1738783800@stayinmcallen.com
SUMMARY:Rooted Yoga
DESCRIPTION:Quiet Mind Yoga Studio will be at Quinta Mazatlan for a Fall Series of outdoor yoga happening every other Wednesday of the month from 6:30pm – 7:30pm. Guests are welcomed to come early and walk the Thornforest trails.\nBring your mats\, blankets\, blocks\, natural insect repellent\, water and be ready to become one with nature through yoga\, meditation and sound. Instructors from Quiet Mind Yoga will teach a beginner friendly yoga flow with yoga poses and meditation that all the family can join in on\nJoin Matthew as he guides you through an All-Levels yoga flow\, beginners are welcome to join!\nThis is the perfect way to relax\, recharge\, and connect with nature. Think of it as your midweek unwind!\nTo reserve your space visit quintamazatlan.ticketleap.com\, link in bio. Kids are welcome to come. See below for details.\nRooted Yoga\nFebruary 5th and 19th\, 2025\nQuinta Mazatlan\nTime: 6:30pm\nCost: donation based ($5 min.)\nquintamazatlan.ticketleap.com\,
URL:https://stayinmcallen.com/events/rooted-yoga-2/
LOCATION:Quinta Mazatlan\, 600 Sunset Dr\, McAllen\, TX\, United States
CATEGORIES:Family Fun,Sports,City Events,Parks and Outdoors,Health and Wellness
ATTACH;FMTTYPE=image/jpeg:https://stayinmcallen.com/wp-content/uploads/2025/02/475453719_18297578791235635_6970850028840923889_n-922SrE.tmp_.jpg
GEO:26.176444;-98.229808
X-APPLE-STRUCTURED-LOCATION;VALUE=URI;X-ADDRESS=Quinta Mazatlan 600 Sunset Dr McAllen TX United States;X-APPLE-RADIUS=500;X-TITLE=600 Sunset Dr:geo:-98.229808,26.176444
END:VEVENT
BEGIN:VEVENT
DTSTART;TZID=America/Chicago:20250206T173000
DTEND;TZID=America/Chicago:20250206T200000
DTSTAMP:20260420T153737
CREATED:20250201T103324Z
LAST-MODIFIED:20250206T114710Z
UID:10001934-1738863000-1738872000@stayinmcallen.com
SUMMARY:Last Poet in the Woods: Open Reception
DESCRIPTION:Quinta Mazatlán is honored to host select works from the poetry-art exhibit\, Last Poet in the Woods.\nJoin us for an opening reception\, to experience a plea to preserve the natural beauty left in our world by artist Reefka Schneider and Poet\, Steven P. Schneider. These paintings and poems are informed by the concept of Biophilia as defined by Pulitzer Prize winning author Edward O. Wilson: “the urge to affiliate with other forms of life.”Last Poet in the Woods is a bold aesthetic statement to create an enduring testimony to the wonders of the natural world.\nMeet the Artists\nWine Service by Doce Wine Shop\nLive Music
URL:https://stayinmcallen.com/events/last-poet-in-the-woods-open-reception/
LOCATION:Quinta Mazatlan\, 600 Sunset Dr\, McAllen\, TX\, United States
CATEGORIES:Parks and Outdoors,Art Exhibits,Food and Drink Events,Educational Activities
ATTACH;FMTTYPE=image/jpeg:https://stayinmcallen.com/wp-content/uploads/2025/02/quinta-mazatlan-last-poet-in-the-woods-wOJwIc.tmp_.jpg
GEO:26.176444;-98.229808
X-APPLE-STRUCTURED-LOCATION;VALUE=URI;X-ADDRESS=Quinta Mazatlan 600 Sunset Dr McAllen TX United States;X-APPLE-RADIUS=500;X-TITLE=600 Sunset Dr:geo:-98.229808,26.176444
END:VEVENT
BEGIN:VEVENT
DTSTART;TZID=America/Chicago:20250208T100000
DTEND;TZID=America/Chicago:20250208T160000
DTSTAMP:20260420T153737
CREATED:20250201T103427Z
LAST-MODIFIED:20250208T114716Z
UID:10001942-1739008800-1739030400@stayinmcallen.com
SUMMARY:Amor McAllen Market
DESCRIPTION: Join Us at Amor McAllen Market! Bring your family\, friends\, and loved ones for a day filled with music\, shopping\, and local flavor. Don’t miss this opportunity to explore McAllen’s vibrant community while supporting small businesses.\n What to Expect: Live Music to set the perfect vibe. Shop Local Vendors offering unique gifts\, crafts\, and treasures. Delicious Food Trucks serving mouthwatering eats. Fun Activities for all ages to enjoy. Admission: FREE for everyone!\nDetails:: Date: Saturday\, February 8th\, 2025 Time: 11:00 AM – 4:00 PM Location: Archer Park\, McAllen\, TXCelebrate love\, community\, and local culture at the Amor McAllen Market\, brought to you by Explore McAllen! \n Want to Make an Impact?We’re offering sponsorship opportunities! Showcase your brand to a diverse\, engaged audience and connect with the McAllen community like never before.https://www.exploremcallen.com/market-sponsorship/\n Attention Vendors!Keep an eye on our social media pages for vendor opportunities—we’d love to have you join us!https://www.exploremcallen.com/…/explore-mcallen…/\n RSVP now to stay updated on event details!
URL:https://stayinmcallen.com/events/amor-mcallen-market-2/
LOCATION:Archer Park\, 101 N Main St\, McAllen\, TX\, United States
CATEGORIES:Family Fun,City Events,Parks and Outdoors,Food and Drink Events,Holiday Events,Shopping,Children's Activities
ATTACH;FMTTYPE=image/jpeg:https://stayinmcallen.com/wp-content/uploads/2025/02/ff6ffe52-894c-3f19-a78c-e04d374f4678-tsZgeR.tmp_.jpg
GEO:26.204789;-98.234314
X-APPLE-STRUCTURED-LOCATION;VALUE=URI;X-ADDRESS=Archer Park 101 N Main St McAllen TX United States;X-APPLE-RADIUS=500;X-TITLE=101 N Main St:geo:-98.234314,26.204789
END:VEVENT
END:VCALENDAR