BEGIN:VCALENDAR
VERSION:2.0
PRODID:-//Stayinmcallen - ECPv6.15.20//NONSGML v1.0//EN
CALSCALE:GREGORIAN
METHOD:PUBLISH
X-ORIGINAL-URL:https://stayinmcallen.com
X-WR-CALDESC:Events for Stayinmcallen
REFRESH-INTERVAL;VALUE=DURATION:PT1H
X-Robots-Tag:noindex
X-PUBLISHED-TTL:PT1H
BEGIN:VTIMEZONE
TZID:America/Chicago
BEGIN:DAYLIGHT
TZOFFSETFROM:-0600
TZOFFSETTO:-0500
TZNAME:CDT
DTSTART:20240310T080000
END:DAYLIGHT
BEGIN:STANDARD
TZOFFSETFROM:-0500
TZOFFSETTO:-0600
TZNAME:CST
DTSTART:20241103T070000
END:STANDARD
BEGIN:DAYLIGHT
TZOFFSETFROM:-0600
TZOFFSETTO:-0500
TZNAME:CDT
DTSTART:20250309T080000
END:DAYLIGHT
BEGIN:STANDARD
TZOFFSETFROM:-0500
TZOFFSETTO:-0600
TZNAME:CST
DTSTART:20251102T070000
END:STANDARD
BEGIN:DAYLIGHT
TZOFFSETFROM:-0600
TZOFFSETTO:-0500
TZNAME:CDT
DTSTART:20260308T080000
END:DAYLIGHT
BEGIN:STANDARD
TZOFFSETFROM:-0500
TZOFFSETTO:-0600
TZNAME:CST
DTSTART:20261101T070000
END:STANDARD
END:VTIMEZONE
BEGIN:VEVENT
DTSTART;TZID=America/Chicago:20250226T090000
DTEND;TZID=America/Chicago:20250226T100000
DTSTAMP:20260420T133621
CREATED:20250216T130418Z
LAST-MODIFIED:20250226T141710Z
UID:10002059-1740560400-1740564000@stayinmcallen.com
SUMMARY:Quinta Park Tours
DESCRIPTION:Enjoy an informative tour\, learning about the park along with the plants and animals that call it home. Bring your own binoculars or borrow one of ours! Tours include light walking along our forested trails. Program is included with park admission fees ($3 adults\, $2 seniors (65+) or children (under 12).
URL:https://stayinmcallen.com/events/quinta-park-tours-13/
LOCATION:Quinta Mazatlan\, 600 Sunset Dr\, McAllen\, TX\, United States
CATEGORIES:Parks and Outdoors,Health and Wellness,Educational Activities
ATTACH;FMTTYPE=image/jpeg:https://stayinmcallen.com/wp-content/uploads/2025/01/quinta-walking-tours-5QIr2m.tmp_.jpg
GEO:26.176444;-98.229808
X-APPLE-STRUCTURED-LOCATION;VALUE=URI;X-ADDRESS=Quinta Mazatlan 600 Sunset Dr McAllen TX United States;X-APPLE-RADIUS=500;X-TITLE=600 Sunset Dr:geo:-98.229808,26.176444
END:VEVENT
BEGIN:VEVENT
DTSTART;TZID=America/Chicago:20250226T090000
DTEND;TZID=America/Chicago:20250226T100000
DTSTAMP:20260420T133621
CREATED:20250216T130421Z
LAST-MODIFIED:20250216T130421Z
UID:10002063-1740560400-1740564000@stayinmcallen.com
SUMMARY:Quinta Park Tours
DESCRIPTION:Enjoy an informative tour\, learning about the park along with the plants and animals that call it home. Bring your own binoculars or borrow one of ours! Tours include light walking along our forested trails. Program is included with park admission fees ($3 adults\, $2 seniors (65+) or children (under 12).
URL:https://stayinmcallen.com/events/quinta-park-tours-14/
LOCATION:Quinta Mazatlan\, 600 Sunset Dr\, McAllen\, TX\, United States
CATEGORIES:Parks and Outdoors,Health and Wellness,Educational Activities
ATTACH;FMTTYPE=image/jpeg:https://stayinmcallen.com/wp-content/uploads/2025/01/quinta-walking-tours-5QIr2m.tmp_.jpg
GEO:26.176444;-98.229808
X-APPLE-STRUCTURED-LOCATION;VALUE=URI;X-ADDRESS=Quinta Mazatlan 600 Sunset Dr McAllen TX United States;X-APPLE-RADIUS=500;X-TITLE=600 Sunset Dr:geo:-98.229808,26.176444
END:VEVENT
BEGIN:VEVENT
DTSTART;TZID=America/Chicago:20250227T180000
DTEND;TZID=America/Chicago:20250227T190000
DTSTAMP:20260420T133621
CREATED:20250216T130438Z
LAST-MODIFIED:20250227T141746Z
UID:10002064-1740679200-1740682800@stayinmcallen.com
SUMMARY:Last Poet in the Woods - A Presentation on the Eco-Tapestry of Art and Poetry
DESCRIPTION:Join Artists Reeks Schneider and Poet\, Steven Schneider for a presentation on their eco-tapestry of art and poetry\, Last Poet in the Woods.\nFor this special presentation Professor Schneider will discuss the literary traditions of ekphrasis and eco-writing as well as the social\, pedagogical and ecological goals of Last Poet in the Woods\, inspired by the contemporary classic\, Last Child in the Woods by Richard Louv.
URL:https://stayinmcallen.com/events/last-poet-in-the-woods-a-presentation-on-the-eco-tapestry-of-art-and-poetry/
LOCATION:Quinta Mazatlan\, 600 Sunset Dr\, McAllen\, TX\, United States
CATEGORIES:Performing Arts,Parks and Outdoors,Educational Activities
ATTACH;FMTTYPE=image/jpeg:https://stayinmcallen.com/wp-content/uploads/2025/02/474463314_1025389086281261_1664967432612817187_n-tAxTAR.tmp_.jpg
GEO:26.176444;-98.229808
X-APPLE-STRUCTURED-LOCATION;VALUE=URI;X-ADDRESS=Quinta Mazatlan 600 Sunset Dr McAllen TX United States;X-APPLE-RADIUS=500;X-TITLE=600 Sunset Dr:geo:-98.229808,26.176444
END:VEVENT
BEGIN:VEVENT
DTSTART;TZID=America/Chicago:20250227T180000
DTEND;TZID=America/Chicago:20250227T190000
DTSTAMP:20260420T133621
CREATED:20250216T130438Z
LAST-MODIFIED:20250216T130438Z
UID:10002067-1740679200-1740682800@stayinmcallen.com
SUMMARY:Last Poet in the Woods - A Presentation on the Eco-Tapestry of Art and Poetry
DESCRIPTION:Join Artists Reeks Schneider and Poet\, Steven Schneider for a presentation on their eco-tapestry of art and poetry\, Last Poet in the Woods.\nFor this special presentation Professor Schneider will discuss the literary traditions of ekphrasis and eco-writing as well as the social\, pedagogical and ecological goals of Last Poet in the Woods\, inspired by the contemporary classic\, Last Child in the Woods by Richard Louv.
URL:https://stayinmcallen.com/events/last-poet-in-the-woods-a-presentation-on-the-eco-tapestry-of-art-and-poetry-2/
LOCATION:Quinta Mazatlan\, 600 Sunset Dr\, McAllen\, TX\, United States
CATEGORIES:Performing Arts,Parks and Outdoors,Educational Activities
ATTACH;FMTTYPE=image/jpeg:https://stayinmcallen.com/wp-content/uploads/2025/02/474463314_1025389086281261_1664967432612817187_n-tAxTAR.tmp_.jpg
GEO:26.176444;-98.229808
X-APPLE-STRUCTURED-LOCATION;VALUE=URI;X-ADDRESS=Quinta Mazatlan 600 Sunset Dr McAllen TX United States;X-APPLE-RADIUS=500;X-TITLE=600 Sunset Dr:geo:-98.229808,26.176444
END:VEVENT
BEGIN:VEVENT
DTSTART;TZID=America/Chicago:20250301T090000
DTEND;TZID=America/Chicago:20250301T120000
DTSTAMP:20260420T133621
CREATED:20250301T143209Z
LAST-MODIFIED:20250301T143209Z
UID:10002118-1740819600-1740830400@stayinmcallen.com
SUMMARY:Farmer's Market at Firemen's Park
DESCRIPTION: Farmer’s Market  Come out to the farmers market this weekend & support your local farmers! Join us for our weekly #FarmersMarket  of locally produced fruits \, meats \, vegetables  & educational programs for the public – something for everyone at #FiremensPark #TownlakeSee you there!
URL:https://stayinmcallen.com/events/farmers-market-at-firemens-park-46/
LOCATION:Town Lake at Firemen’s Park\, 45 N 1st St\, McAllen\, TX\, United States
CATEGORIES:Parks and Outdoors,Shopping
ATTACH;FMTTYPE=image/jpeg:https://stayinmcallen.com/wp-content/uploads/2025/03/farmers-market-2jhn8U.tmp_.jpg
GEO:26.201485;-98.219314
X-APPLE-STRUCTURED-LOCATION;VALUE=URI;X-ADDRESS=Town Lake at Firemen’s Park 45 N 1st St McAllen TX United States;X-APPLE-RADIUS=500;X-TITLE=45 N 1st St:geo:-98.219314,26.201485
END:VEVENT
BEGIN:VEVENT
DTSTART;TZID=America/Chicago:20250301T090000
DTEND;TZID=America/Chicago:20250301T120000
DTSTAMP:20260420T133621
CREATED:20250301T143213Z
LAST-MODIFIED:20250301T143213Z
UID:10002125-1740819600-1740830400@stayinmcallen.com
SUMMARY:Farmer's Market at Firemen's Park
DESCRIPTION: Farmer’s Market  Come out to the farmers market this weekend & support your local farmers! Join us for our weekly #FarmersMarket  of locally produced fruits \, meats \, vegetables  & educational programs for the public – something for everyone at #FiremensPark #TownlakeSee you there!
URL:https://stayinmcallen.com/events/farmers-market-at-firemens-park-47/
LOCATION:Town Lake at Firemen’s Park\, 45 N 1st St\, McAllen\, TX\, United States
CATEGORIES:Parks and Outdoors,Shopping
ATTACH;FMTTYPE=image/jpeg:https://stayinmcallen.com/wp-content/uploads/2025/03/farmers-market-2jhn8U.tmp_.jpg
GEO:26.201485;-98.219314
X-APPLE-STRUCTURED-LOCATION;VALUE=URI;X-ADDRESS=Town Lake at Firemen’s Park 45 N 1st St McAllen TX United States;X-APPLE-RADIUS=500;X-TITLE=45 N 1st St:geo:-98.219314,26.201485
END:VEVENT
BEGIN:VEVENT
DTSTART;TZID=America/Chicago:20250301T170000
DTEND;TZID=America/Chicago:20250301T200000
DTSTAMP:20260420T133621
CREATED:20250301T143216Z
LAST-MODIFIED:20250301T143216Z
UID:10002119-1740848400-1740859200@stayinmcallen.com
SUMMARY:Night Market at Tres Lagos
DESCRIPTION:Save the Date! 🌙🛍️ Mark your calendar for Saturday\, March 1st from 5-8 PM\, and experience an evening to remember at the Night Market at Tres Lagos!\nDiscover local artisans\, delicious food trucks\, and specialty items that celebrate the vibrant culture of our community! Stroll through Tres Lagos Park and enjoy the vibrant Tres Lagos nightlife! 💫\n📍 Location:\n4900 Tres Lagos Blvd. McAllen\, TX 78504\nWe can’t wait to see you there! 🎉
URL:https://stayinmcallen.com/events/night-market-at-tres-lagos/
LOCATION:Tres Lagos Food Truck Park\, 101 E Tearose Ave\, McAllen\, TX\, United States
CATEGORIES:Family Fun,Parks and Outdoors,Shopping,Nightlife
ATTACH;FMTTYPE=image/jpeg:https://stayinmcallen.com/wp-content/uploads/2025/03/night-market-tres-lagos-x0ljOy.tmp_.jpg
GEO:26.243064;-98.210251
X-APPLE-STRUCTURED-LOCATION;VALUE=URI;X-ADDRESS=Tres Lagos Food Truck Park 101 E Tearose Ave McAllen TX United States;X-APPLE-RADIUS=500;X-TITLE=101 E Tearose Ave:geo:-98.210251,26.243064
END:VEVENT
BEGIN:VEVENT
DTSTART;TZID=America/Chicago:20250301T170000
DTEND;TZID=America/Chicago:20250301T200000
DTSTAMP:20260420T133621
CREATED:20250301T143218Z
LAST-MODIFIED:20250301T143218Z
UID:10002126-1740848400-1740859200@stayinmcallen.com
SUMMARY:Night Market at Tres Lagos
DESCRIPTION:Save the Date! 🌙🛍️ Mark your calendar for Saturday\, March 1st from 5-8 PM\, and experience an evening to remember at the Night Market at Tres Lagos!\nDiscover local artisans\, delicious food trucks\, and specialty items that celebrate the vibrant culture of our community! Stroll through Tres Lagos Park and enjoy the vibrant Tres Lagos nightlife! 💫\n📍 Location:\n4900 Tres Lagos Blvd. McAllen\, TX 78504\nWe can’t wait to see you there! 🎉
URL:https://stayinmcallen.com/events/night-market-at-tres-lagos-2/
LOCATION:Tres Lagos Food Truck Park\, 101 E Tearose Ave\, McAllen\, TX\, United States
CATEGORIES:Family Fun,Parks and Outdoors,Shopping,Nightlife
ATTACH;FMTTYPE=image/jpeg:https://stayinmcallen.com/wp-content/uploads/2025/03/night-market-tres-lagos-tQpv2h.tmp_.jpg
GEO:26.243064;-98.210251
X-APPLE-STRUCTURED-LOCATION;VALUE=URI;X-ADDRESS=Tres Lagos Food Truck Park 101 E Tearose Ave McAllen TX United States;X-APPLE-RADIUS=500;X-TITLE=101 E Tearose Ave:geo:-98.210251,26.243064
END:VEVENT
END:VCALENDAR