BEGIN:VCALENDAR
VERSION:2.0
PRODID:-//Stayinmcallen - ECPv6.15.20//NONSGML v1.0//EN
CALSCALE:GREGORIAN
METHOD:PUBLISH
X-ORIGINAL-URL:https://stayinmcallen.com
X-WR-CALDESC:Events for Stayinmcallen
REFRESH-INTERVAL;VALUE=DURATION:PT1H
X-Robots-Tag:noindex
X-PUBLISHED-TTL:PT1H
BEGIN:VTIMEZONE
TZID:America/Chicago
BEGIN:DAYLIGHT
TZOFFSETFROM:-0600
TZOFFSETTO:-0500
TZNAME:CDT
DTSTART:20240310T080000
END:DAYLIGHT
BEGIN:STANDARD
TZOFFSETFROM:-0500
TZOFFSETTO:-0600
TZNAME:CST
DTSTART:20241103T070000
END:STANDARD
BEGIN:DAYLIGHT
TZOFFSETFROM:-0600
TZOFFSETTO:-0500
TZNAME:CDT
DTSTART:20250309T080000
END:DAYLIGHT
BEGIN:STANDARD
TZOFFSETFROM:-0500
TZOFFSETTO:-0600
TZNAME:CST
DTSTART:20251102T070000
END:STANDARD
BEGIN:DAYLIGHT
TZOFFSETFROM:-0600
TZOFFSETTO:-0500
TZNAME:CDT
DTSTART:20260308T080000
END:DAYLIGHT
BEGIN:STANDARD
TZOFFSETFROM:-0500
TZOFFSETTO:-0600
TZNAME:CST
DTSTART:20261101T070000
END:STANDARD
END:VTIMEZONE
BEGIN:VEVENT
DTSTART;TZID=America/Chicago:20250319T090000
DTEND;TZID=America/Chicago:20250319T100000
DTSTAMP:20260420T120542
CREATED:20250301T143428Z
LAST-MODIFIED:20250318T163342Z
UID:10002160-1742374800-1742378400@stayinmcallen.com
SUMMARY:Quinta Park Tours
DESCRIPTION:Enjoy an informative tour\, learning about the park along with the plants and animals that call it home. Bring your own binoculars or borrow one of ours! Tours include light walking along our forested trails. Program is included with park admission fees ($3 adults\, $2 seniors (65+) or children (under 12).
URL:https://stayinmcallen.com/events/quinta-park-tours-19/
LOCATION:Quinta Mazatlan\, 600 Sunset Dr\, McAllen\, TX\, United States
CATEGORIES:Parks and Outdoors,Health and Wellness,Educational Activities
ATTACH;FMTTYPE=image/jpeg:https://stayinmcallen.com/wp-content/uploads/2025/01/quinta-walking-tours-5QIr2m.tmp_.jpg
GEO:26.176444;-98.229808
X-APPLE-STRUCTURED-LOCATION;VALUE=URI;X-ADDRESS=Quinta Mazatlan 600 Sunset Dr McAllen TX United States;X-APPLE-RADIUS=500;X-TITLE=600 Sunset Dr:geo:-98.229808,26.176444
END:VEVENT
BEGIN:VEVENT
DTSTART;TZID=America/Chicago:20250319T090000
DTEND;TZID=America/Chicago:20250319T100000
DTSTAMP:20260420T120542
CREATED:20250301T143440Z
LAST-MODIFIED:20250301T143440Z
UID:10002167-1742374800-1742378400@stayinmcallen.com
SUMMARY:Quinta Park Tours
DESCRIPTION:Enjoy an informative tour\, learning about the park along with the plants and animals that call it home. Bring your own binoculars or borrow one of ours! Tours include light walking along our forested trails. Program is included with park admission fees ($3 adults\, $2 seniors (65+) or children (under 12).
URL:https://stayinmcallen.com/events/quinta-park-tours-20/
LOCATION:Quinta Mazatlan\, 600 Sunset Dr\, McAllen\, TX\, United States
CATEGORIES:Parks and Outdoors,Health and Wellness,Educational Activities
ATTACH;FMTTYPE=image/jpeg:https://stayinmcallen.com/wp-content/uploads/2025/01/quinta-walking-tours-5QIr2m.tmp_.jpg
GEO:26.176444;-98.229808
X-APPLE-STRUCTURED-LOCATION;VALUE=URI;X-ADDRESS=Quinta Mazatlan 600 Sunset Dr McAllen TX United States;X-APPLE-RADIUS=500;X-TITLE=600 Sunset Dr:geo:-98.229808,26.176444
END:VEVENT
BEGIN:VEVENT
DTSTART;TZID=America/Chicago:20250320T090000
DTEND;TZID=America/Chicago:20250320T110000
DTSTAMP:20260420T120542
CREATED:20250318T163403Z
LAST-MODIFIED:20250319T163327Z
UID:10002251-1742461200-1742468400@stayinmcallen.com
SUMMARY:Tiny Forest - Community Planting Day
DESCRIPTION:🌱 Tiny Forest Community Planting Day 🌳\nBe part of something green and growing at McAllen Public Library! Join us for a special community event as we unveil the brand-new Tiny Forest at Orchid Park\, a project made possible by H-E-B Helping Here and Friends of Quinta Mazatlán.\n📅 Date: Thursday\, March 20\, 2025⏰ Time: 9:00 AM – 11:00 AM📍 Location: McAllen Main Library – Meeting Center\nThis family-friendly\, hands-on planting event gives you the chance to help bring this unique native plant habitat to life. Tiny Forests are small but densely planted green spaces that support birds\, butterflies\, and clean air while creating a beautiful outdoor classroom for children.\n🌿 Come plant\, learn\, and grow with us! Help create a lasting impact for future generations.
URL:https://stayinmcallen.com/events/tiny-forest-community-planting-day/
LOCATION:McAllen Public Library\, 4001 N 23rd St\, McAllen\, TX\, United States
CATEGORIES:Family Fun,City Events,Parks and Outdoors,Health and Wellness,Educational Activities,Children's Activities
ATTACH;FMTTYPE=image/jpeg:https://stayinmcallen.com/wp-content/uploads/2025/03/Tiny-Forests-Social-Media-1640x924-Update-3142025-copy-JPoVBr.tmp_.jpg
GEO:26.240605;-98.239376
X-APPLE-STRUCTURED-LOCATION;VALUE=URI;X-ADDRESS=McAllen Public Library 4001 N 23rd St McAllen TX United States;X-APPLE-RADIUS=500;X-TITLE=4001 N 23rd St:geo:-98.239376,26.240605
END:VEVENT
BEGIN:VEVENT
DTSTART;TZID=America/Chicago:20250322T090000
DTEND;TZID=America/Chicago:20250322T120000
DTSTAMP:20260420T120542
CREATED:20250301T143459Z
LAST-MODIFIED:20250321T170345Z
UID:10002165-1742634000-1742644800@stayinmcallen.com
SUMMARY:Farmer's Market at Firemen's Park
DESCRIPTION: Farmer’s Market  Come out to the farmers market this weekend & support your local farmers! Join us for our weekly #FarmersMarket  of locally produced fruits \, meats \, vegetables  & educational programs for the public – something for everyone at #FiremensPark #TownlakeSee you there!
URL:https://stayinmcallen.com/events/farmers-market-at-firemens-park-52/
LOCATION:Town Lake at Firemen’s Park\, 45 N 1st St\, McAllen\, TX\, United States
CATEGORIES:Parks and Outdoors,Shopping
ATTACH;FMTTYPE=image/jpeg:https://stayinmcallen.com/wp-content/uploads/2025/03/farmers-market-2jhn8U.tmp_.jpg
GEO:26.201485;-98.219314
X-APPLE-STRUCTURED-LOCATION;VALUE=URI;X-ADDRESS=Town Lake at Firemen’s Park 45 N 1st St McAllen TX United States;X-APPLE-RADIUS=500;X-TITLE=45 N 1st St:geo:-98.219314,26.201485
END:VEVENT
BEGIN:VEVENT
DTSTART;TZID=America/Chicago:20250322T090000
DTEND;TZID=America/Chicago:20250322T120000
DTSTAMP:20260420T120542
CREATED:20250301T143509Z
LAST-MODIFIED:20250301T143509Z
UID:10002172-1742634000-1742644800@stayinmcallen.com
SUMMARY:Farmer's Market at Firemen's Park
DESCRIPTION: Farmer’s Market  Come out to the farmers market this weekend & support your local farmers! Join us for our weekly #FarmersMarket  of locally produced fruits \, meats \, vegetables  & educational programs for the public – something for everyone at #FiremensPark #TownlakeSee you there!
URL:https://stayinmcallen.com/events/farmers-market-at-firemens-park-53/
LOCATION:Town Lake at Firemen’s Park\, 45 N 1st St\, McAllen\, TX\, United States
CATEGORIES:Parks and Outdoors,Shopping
ATTACH;FMTTYPE=image/jpeg:https://stayinmcallen.com/wp-content/uploads/2025/03/farmers-market-2jhn8U.tmp_.jpg
GEO:26.201485;-98.219314
X-APPLE-STRUCTURED-LOCATION;VALUE=URI;X-ADDRESS=Town Lake at Firemen’s Park 45 N 1st St McAllen TX United States;X-APPLE-RADIUS=500;X-TITLE=45 N 1st St:geo:-98.219314,26.201485
END:VEVENT
BEGIN:VEVENT
DTSTART;TZID=America/Chicago:20250322T110000
DTEND;TZID=America/Chicago:20250322T120000
DTSTAMP:20260420T120542
CREATED:20250301T143504Z
LAST-MODIFIED:20250321T170350Z
UID:10002166-1742641200-1742644800@stayinmcallen.com
SUMMARY:Nature Series: A Fowl Obsession Birding Migration in the RGV
DESCRIPTION:Join Ranger Becky Reyes to explore birding and migration in the Rio Grande Valley\, a top birding hotspot. Perfect for all nature enthusiasts!\nLearn about the region’s unique bird species\, migration patterns\, and tips for spotting them in the wild. Whether you’re a seasoned birder or just starting out\, this program will inspire a deeper appreciation for our feathered friends.
URL:https://stayinmcallen.com/events/nature-series-a-fowl-obsession-birding-migration-in-the-rgv/
LOCATION:TX
CATEGORIES:Parks and Outdoors,Seminars
ATTACH;FMTTYPE=image/png:https://stayinmcallen.com/wp-content/uploads/2025/03/Nature-Series-A-Fowl-Obssesion-t4C6hj.tmp_.png
END:VEVENT
BEGIN:VEVENT
DTSTART;TZID=America/Chicago:20250322T110000
DTEND;TZID=America/Chicago:20250322T120000
DTSTAMP:20260420T120542
CREATED:20250301T143513Z
LAST-MODIFIED:20250301T143513Z
UID:10002173-1742641200-1742644800@stayinmcallen.com
SUMMARY:Nature Series: A Fowl Obsession Birding Migration in the RGV
DESCRIPTION:Join Ranger Becky Reyes to explore birding and migration in the Rio Grande Valley\, a top birding hotspot. Perfect for all nature enthusiasts!\nLearn about the region’s unique bird species\, migration patterns\, and tips for spotting them in the wild. Whether you’re a seasoned birder or just starting out\, this program will inspire a deeper appreciation for our feathered friends.
URL:https://stayinmcallen.com/events/nature-series-a-fowl-obsession-birding-migration-in-the-rgv-2/
LOCATION:TX
CATEGORIES:Parks and Outdoors,Seminars
ATTACH;FMTTYPE=image/png:https://stayinmcallen.com/wp-content/uploads/2025/03/Nature-Series-A-Fowl-Obssesion-t4C6hj.tmp_.png
END:VEVENT
END:VCALENDAR