BEGIN:VCALENDAR
VERSION:2.0
PRODID:-//Stayinmcallen - ECPv6.15.20//NONSGML v1.0//EN
CALSCALE:GREGORIAN
METHOD:PUBLISH
X-ORIGINAL-URL:https://stayinmcallen.com
X-WR-CALDESC:Events for Stayinmcallen
REFRESH-INTERVAL;VALUE=DURATION:PT1H
X-Robots-Tag:noindex
X-PUBLISHED-TTL:PT1H
BEGIN:VTIMEZONE
TZID:America/Chicago
BEGIN:DAYLIGHT
TZOFFSETFROM:-0600
TZOFFSETTO:-0500
TZNAME:CDT
DTSTART:20240310T080000
END:DAYLIGHT
BEGIN:STANDARD
TZOFFSETFROM:-0500
TZOFFSETTO:-0600
TZNAME:CST
DTSTART:20241103T070000
END:STANDARD
BEGIN:DAYLIGHT
TZOFFSETFROM:-0600
TZOFFSETTO:-0500
TZNAME:CDT
DTSTART:20250309T080000
END:DAYLIGHT
BEGIN:STANDARD
TZOFFSETFROM:-0500
TZOFFSETTO:-0600
TZNAME:CST
DTSTART:20251102T070000
END:STANDARD
BEGIN:DAYLIGHT
TZOFFSETFROM:-0600
TZOFFSETTO:-0500
TZNAME:CDT
DTSTART:20260308T080000
END:DAYLIGHT
BEGIN:STANDARD
TZOFFSETFROM:-0500
TZOFFSETTO:-0600
TZNAME:CST
DTSTART:20261101T070000
END:STANDARD
END:VTIMEZONE
BEGIN:VEVENT
DTSTART;TZID=America/Chicago:20250416T183000
DTEND;TZID=America/Chicago:20250416T193000
DTSTAMP:20260420T102103
CREATED:20250415T063323Z
LAST-MODIFIED:20250416T064818Z
UID:10002354-1744828200-1744831800@stayinmcallen.com
SUMMARY:Rooted Yoga
DESCRIPTION:Quiet Mind Yoga Studio will be at Quinta Mazatlan for a Spring/Summer Series of outdoor yoga happening every other Wednesday of the month from 6:30pm – 7:30pm. Guests are welcomed to come early and walk the Thornforest trails.\nBring your mats\, blankets\, blocks\, natural insect repellent\, water and be ready to become one with nature through yoga\, meditation and sound. Instructors from Quiet Mind Yoga will teach a beginner friendly yoga flow with yoga poses and meditation that all the family can join in on\nJoin Matthew as he guides you through an All-Levels yoga flow\, beginners are welcome to join!\nThis is the perfect way to relax\, recharge\, and connect with nature. Think of it as your midweek unwind!\nTo reserve your space visit quintamazatlan.ticketleap.com\, link in bio. Kids are welcome to come. See below for details.\nApril 16th\, 2025\nApril 30th\, 2025\nMay 14th\, 2025\nMay 28th\, 2025\nJune 11th\, 2025\nJune 25th\, 2025\nJuly 9th\, 2025\nJuly 23rd\, 2025\nAugust 6th\, 2025\nAugust 20th\, 2025\nSeptember 3rd\, 2025\nRooted Yoga\nQuinta Mazatlan\nTime: 6:30pm\nCost: donation based ($5 min.)\nquintamazatlan.ticketleap.com\,
URL:https://stayinmcallen.com/events/rooted-yoga-5/
LOCATION:Quinta Mazatlan\, 600 Sunset Dr\, McAllen\, TX\, United States
CATEGORIES:Family Fun,Sports,Parks and Outdoors,Health and Wellness,Educational Activities
ATTACH;FMTTYPE=image/webp:https://stayinmcallen.com/wp-content/uploads/2025/04/rooted-yoga-quinta-mazatlan-LBvLsc.tmp_.webp
GEO:26.176444;-98.229808
X-APPLE-STRUCTURED-LOCATION;VALUE=URI;X-ADDRESS=Quinta Mazatlan 600 Sunset Dr McAllen TX United States;X-APPLE-RADIUS=500;X-TITLE=600 Sunset Dr:geo:-98.229808,26.176444
END:VEVENT
BEGIN:VEVENT
DTSTART;TZID=America/Chicago:20250417T180000
DTEND;TZID=America/Chicago:20250417T190000
DTSTAMP:20260420T102103
CREATED:20250415T063332Z
LAST-MODIFIED:20250417T064814Z
UID:10002355-1744912800-1744916400@stayinmcallen.com
SUMMARY:Astronomy and the Rio Grande Valley
DESCRIPTION:Join us for a journey through time and space with Victor De Los Santos!\nThis illuminating program explores the deep-rooted connection between the stars and the people of South Texas—past\, present\, and future. From the celestial wisdom of Indigenous and Mesoamerican cultures to the cutting-edge research taking place today at UTRGV\, Victor will guide attendees through a story that’s both cosmic and cultural.\nVictor De Los Santos is the Board Chair of the South Texas Astronomical Society\, Public Outreach Lead for the UTRGV South Texas Space Science Institute\, and a NASA Solar System Ambassador\, Victor brings a wealth of experience and passion to his mission of making science accessible to all. By day\, he leads software development projects—but by night\, he leads the community in exploring the skies above.
URL:https://stayinmcallen.com/events/astronomy-and-the-rio-grande-valley/
LOCATION:Quinta Mazatlan\, 600 Sunset Dr\, McAllen\, TX\, United States
CATEGORIES:Parks and Outdoors,Health and Wellness,Educational Activities,Children's Activities,Museums and History
ATTACH;FMTTYPE=image/webp:https://stayinmcallen.com/wp-content/uploads/2025/04/astronomy-quinta-mazatlan-HA50U2.tmp_.webp
GEO:26.176444;-98.229808
X-APPLE-STRUCTURED-LOCATION;VALUE=URI;X-ADDRESS=Quinta Mazatlan 600 Sunset Dr McAllen TX United States;X-APPLE-RADIUS=500;X-TITLE=600 Sunset Dr:geo:-98.229808,26.176444
END:VEVENT
BEGIN:VEVENT
DTSTART;TZID=America/Chicago:20250419T130000
DTEND;TZID=America/Chicago:20250419T160000
DTSTAMP:20260420T102103
CREATED:20250415T063350Z
LAST-MODIFIED:20250419T064816Z
UID:10002356-1745067600-1745078400@stayinmcallen.com
SUMMARY:Underwater Easter Egg Hunt
DESCRIPTION:Dive into Easter fun at the Underwater Easter Egg Hunt at the Municipal Swimming Pool. Join us for a unique egg hunt adventure where kids can splash\, swim\, and search for hidden treasurers beneath the water. Sign up today!
URL:https://stayinmcallen.com/events/underwater-easter-egg-hunt/
LOCATION:Municipal Pool\, 1921 N. Bicentennial Blvd.\, McAllen\, 78501
CATEGORIES:Family Fun,Sports,Parks and Outdoors,Health and Wellness,Children's Activities
ATTACH;FMTTYPE=image/webp:https://stayinmcallen.com/wp-content/uploads/2025/04/underwater-easter-egg-hunt-mcallen-park-rec-du81Pw.tmp_.webp
END:VEVENT
END:VCALENDAR