BEGIN:VCALENDAR
VERSION:2.0
PRODID:-//Stayinmcallen - ECPv6.15.20//NONSGML v1.0//EN
CALSCALE:GREGORIAN
METHOD:PUBLISH
X-WR-CALNAME:Stayinmcallen
X-ORIGINAL-URL:https://stayinmcallen.com
X-WR-CALDESC:Events for Stayinmcallen
REFRESH-INTERVAL;VALUE=DURATION:PT1H
X-Robots-Tag:noindex
X-PUBLISHED-TTL:PT1H
BEGIN:VTIMEZONE
TZID:America/Chicago
BEGIN:DAYLIGHT
TZOFFSETFROM:-0600
TZOFFSETTO:-0500
TZNAME:CDT
DTSTART:20250309T080000
END:DAYLIGHT
BEGIN:STANDARD
TZOFFSETFROM:-0500
TZOFFSETTO:-0600
TZNAME:CST
DTSTART:20251102T070000
END:STANDARD
BEGIN:DAYLIGHT
TZOFFSETFROM:-0600
TZOFFSETTO:-0500
TZNAME:CDT
DTSTART:20260308T080000
END:DAYLIGHT
BEGIN:STANDARD
TZOFFSETFROM:-0500
TZOFFSETTO:-0600
TZNAME:CST
DTSTART:20261101T070000
END:STANDARD
BEGIN:DAYLIGHT
TZOFFSETFROM:-0600
TZOFFSETTO:-0500
TZNAME:CDT
DTSTART:20270314T080000
END:DAYLIGHT
BEGIN:STANDARD
TZOFFSETFROM:-0500
TZOFFSETTO:-0600
TZNAME:CST
DTSTART:20271107T070000
END:STANDARD
END:VTIMEZONE
BEGIN:VEVENT
DTSTART;TZID=America/Chicago:20260225T190000
DTEND;TZID=America/Chicago:20260225T213000
DTSTAMP:20260424T110608
CREATED:20260215T185141Z
LAST-MODIFIED:20260225T191148Z
UID:10003602-1772046000-1772055000@stayinmcallen.com
SUMMARY:The Thorn
DESCRIPTION:The Thorn tells the epic story of God’s love for the world and the spiritual battle for all humanity. The story of Christ is presented in an immersive show with music\, drama\, aerial acts\, movement arts\, modern dance\, and special effects. Witnessed live by more than 1 million people over 25 years\, The Thorn will engage audiences in the definitive story of love\, sacrifice and redemption like never before.\nSale Dates and Times:\nPublic Onsale : Fri\, 3 Oct 2025 at 10:00 AM\nArtist Presale : Thu\, 2 Oct 2025 at 10:00 AM\nVenue Presale : Thu\, 2 Oct 2025 at 10:00 AM\nTicketmaster Presale : Thu\, 2 Oct 2025 at 10:00 AM\nGroup Sales Offer : Thu\, 2 Oct 2025 at 10:00 AM\nFriends and Family Offer : Thu\, 2 Oct 2025 at 10:00 AM\nThorn Discount Offer : Thu\, 2 Oct 2025 at 10:00 AM\nLink to tickets here!\nThe Thorn is immersive and includes flashing/strobe lights\, visual effects\, loud music\, low fog and haze. Due to some intense scenes\, the show is recommended for ages 12+. All seats are ticketed. For more details\, please visit our FAQs at www.thethorn.com.
URL:https://stayinmcallen.com/events/the-thorn-3/
LOCATION:McAllen Performing Arts Center\, 99 Center Ln\, McAllen\, TX\, United States
CATEGORIES:Performing Arts
ATTACH;FMTTYPE=image/webp:https://stayinmcallen.com/wp-content/uploads/2026/02/The-Thorn-e7feIB.webp
GEO:26.19785;-98.277591
X-APPLE-STRUCTURED-LOCATION;VALUE=URI;X-ADDRESS=McAllen Performing Arts Center 99 Center Ln McAllen TX United States;X-APPLE-RADIUS=500;X-TITLE=99 Center Ln:geo:-98.277591,26.19785
END:VEVENT
END:VCALENDAR