BEGIN:VCALENDAR
VERSION:2.0
PRODID:-//Stayinmcallen - ECPv6.15.20//NONSGML v1.0//EN
CALSCALE:GREGORIAN
METHOD:PUBLISH
X-ORIGINAL-URL:https://stayinmcallen.com
X-WR-CALDESC:Events for Stayinmcallen
REFRESH-INTERVAL;VALUE=DURATION:PT1H
X-Robots-Tag:noindex
X-PUBLISHED-TTL:PT1H
BEGIN:VTIMEZONE
TZID:America/Chicago
BEGIN:DAYLIGHT
TZOFFSETFROM:-0600
TZOFFSETTO:-0500
TZNAME:CDT
DTSTART:20230312T080000
END:DAYLIGHT
BEGIN:STANDARD
TZOFFSETFROM:-0500
TZOFFSETTO:-0600
TZNAME:CST
DTSTART:20231105T070000
END:STANDARD
BEGIN:DAYLIGHT
TZOFFSETFROM:-0600
TZOFFSETTO:-0500
TZNAME:CDT
DTSTART:20240310T080000
END:DAYLIGHT
BEGIN:STANDARD
TZOFFSETFROM:-0500
TZOFFSETTO:-0600
TZNAME:CST
DTSTART:20241103T070000
END:STANDARD
BEGIN:DAYLIGHT
TZOFFSETFROM:-0600
TZOFFSETTO:-0500
TZNAME:CDT
DTSTART:20250309T080000
END:DAYLIGHT
BEGIN:STANDARD
TZOFFSETFROM:-0500
TZOFFSETTO:-0600
TZNAME:CST
DTSTART:20251102T070000
END:STANDARD
END:VTIMEZONE
BEGIN:VEVENT
DTSTART;TZID=America/Chicago:20240601T210000
DTEND;TZID=America/Chicago:20240601T210000
DTSTAMP:20260421T064147
CREATED:20240601T152909Z
LAST-MODIFIED:20240601T152909Z
UID:10000592-1717275600-1717275600@stayinmcallen.com
SUMMARY:Cesar K-Oso Cumbia Live Show
DESCRIPTION:Por primera vez en Mcallen y llegan directo a MK’Z!!!\nEsto se va descontrolar con César K-Oso.\nEstén listos para bailar y pistear toda la noche!! Preventa Disponible
URL:https://stayinmcallen.com/events/cesar-k-oso-cumbia-live-show/
LOCATION:MK’Z NIGHTCLUB\, 2021 Orchid Ave.\, Mcallen\, 78504
CATEGORIES:Live Music,Explore McAllen,Nightlife,Spanish Music
ATTACH;FMTTYPE=image/jpeg:https://stayinmcallen.com/wp-content/uploads/2024/06/16b76a47-f229-4984-a0f9-3f1694dec0d8-r13jk9.tmp_.jpg
END:VEVENT
BEGIN:VEVENT
DTSTART;TZID=America/Chicago:20240601T210000
DTEND;TZID=America/Chicago:20240601T210000
DTSTAMP:20260421T064147
CREATED:20240601T152912Z
LAST-MODIFIED:20240601T152912Z
UID:10000586-1717275600-1717275600@stayinmcallen.com
SUMMARY:Cesar K-Oso Cumbia Live Show
DESCRIPTION:Por primera vez en Mcallen y llegan directo a MK’Z!!!\nEsto se va descontrolar con César K-Oso.\nEstén listos para bailar y pistear toda la noche!! Preventa Disponible
URL:https://stayinmcallen.com/events/cesar-k-oso-cumbia-live-show-2/
LOCATION:MK’Z NIGHTCLUB\, 2021 Orchid Ave.\, Mcallen\, 78504
CATEGORIES:Live Music,Explore McAllen,Nightlife,Spanish Music
ATTACH;FMTTYPE=image/jpeg:https://stayinmcallen.com/wp-content/uploads/2024/06/16b76a47-f229-4984-a0f9-3f1694dec0d8-I9mV2t.tmp_.jpg
END:VEVENT
BEGIN:VEVENT
DTSTART;TZID=America/Chicago:20240604T200000
DTEND;TZID=America/Chicago:20240604T233000
DTSTAMP:20260421T064147
CREATED:20240601T152924Z
LAST-MODIFIED:20240604T154349Z
UID:10000594-1717531200-1717543800@stayinmcallen.com
SUMMARY:Estereomance\, Jeanelle\, & Lunar Heart
DESCRIPTION:Based in the sun-soaked borderland of El Paso\, TX and Cd Juárez\, Mex. Estereomance emerges as an enchanting musical trio\, weaving a vibrant tapestry of sound that transcends geographic and genre boundaries. Comprising the undeniable talents of Manuel\, Adria\, and Paulina\, this dynamic group has harmonized their diverse backgrounds to craft a musical experience that resonates deep within the soul.\nWith local support by Jeanelle and Lunar heart.
URL:https://stayinmcallen.com/events/estereomance-jeanelle-lunar-heart/
LOCATION:The Gremlin\, 322 s. 16th st\,\, McAllen\, 78501
CATEGORIES:Live Music,Explore McAllen,Spanish Music,Rock Music
ATTACH;FMTTYPE=image/jpeg:https://stayinmcallen.com/wp-content/uploads/2024/06/gremlin-june-4th-mkTuFD.tmp_.jpg
END:VEVENT
BEGIN:VEVENT
DTSTART;TZID=America/Chicago:20240604T200000
DTEND;TZID=America/Chicago:20240604T233000
DTSTAMP:20260421T064147
CREATED:20240601T152929Z
LAST-MODIFIED:20240601T152929Z
UID:10000588-1717531200-1717543800@stayinmcallen.com
SUMMARY:Estereomance\, Jeanelle\, & Lunar Heart
DESCRIPTION:Based in the sun-soaked borderland of El Paso\, TX and Cd Juárez\, Mex. Estereomance emerges as an enchanting musical trio\, weaving a vibrant tapestry of sound that transcends geographic and genre boundaries. Comprising the undeniable talents of Manuel\, Adria\, and Paulina\, this dynamic group has harmonized their diverse backgrounds to craft a musical experience that resonates deep within the soul.\nWith local support by Jeanelle and Lunar heart.
URL:https://stayinmcallen.com/events/estereomance-jeanelle-lunar-heart-2/
LOCATION:The Gremlin\, 322 s. 16th st\,\, McAllen\, 78501
CATEGORIES:Live Music,Explore McAllen,Spanish Music,Rock Music
ATTACH;FMTTYPE=image/jpeg:https://stayinmcallen.com/wp-content/uploads/2024/06/gremlin-june-4th-mkTuFD.tmp_.jpg
END:VEVENT
BEGIN:VEVENT
DTSTART;TZID=America/Chicago:20240615T210000
DTEND;TZID=America/Chicago:20240615T210000
DTSTAMP:20260421T064147
CREATED:20240601T153045Z
LAST-MODIFIED:20240615T165856Z
UID:10000606-1718485200-1718485200@stayinmcallen.com
SUMMARY:La Tropa Vallenata - Luchadores De La Cumbia
DESCRIPTION:Father’s Day Weekend!! Perfecto para celebrar llegan a poner mucho ritmo!!\n🎵 LA TROPA VALLENATA🎵\nEmpezando a poner ambiente\n🎵LOS LUCHADORES DE LA CUMBIA🎵\nPREVENTA DISPONIBLE $20
URL:https://stayinmcallen.com/events/la-tropa-vallenata-luchadores-de-la-cumbia/
LOCATION:MK’Z NIGHTCLUB\, 2021 Orchid Ave.\, Mcallen\, 78504
CATEGORIES:Live Music,Explore McAllen,Concerts,Spanish Music
ATTACH;FMTTYPE=image/jpeg:https://stayinmcallen.com/wp-content/uploads/2024/06/c156c3a7-288f-45db-812d-2f55c2bdf035-c4TcDE.tmp_.jpg
END:VEVENT
BEGIN:VEVENT
DTSTART;TZID=America/Chicago:20240629T210000
DTEND;TZID=America/Chicago:20240629T210000
DTSTAMP:20260421T064147
CREATED:20240601T153203Z
LAST-MODIFIED:20240629T182855Z
UID:10000614-1719694800-1719694800@stayinmcallen.com
SUMMARY:Gerardo Coronel “El Jerry”
DESCRIPTION:Regresa al Valle de Texas “El Jerry”. En concierto!!! Ven a vivir la experiencia al mejor lugar de RGV.\nSepara la fecha !!!\nPreventa $60
URL:https://stayinmcallen.com/events/gerardo-coronel-el-jerry/
LOCATION:MK’Z NIGHTCLUB\, 2021 Orchid Ave.\, Mcallen\, 78504
CATEGORIES:Live Music,City Events,Explore McAllen,Concerts,Spanish Music
ATTACH;FMTTYPE=image/jpeg:https://stayinmcallen.com/wp-content/uploads/2024/06/49a19233-8a4b-479d-938a-f742f9a734dc-Iv2gXY.tmp_.jpg
END:VEVENT
END:VCALENDAR