BEGIN:VCALENDAR
VERSION:2.0
PRODID:-//Stayinmcallen - ECPv6.15.20//NONSGML v1.0//EN
CALSCALE:GREGORIAN
METHOD:PUBLISH
X-ORIGINAL-URL:https://stayinmcallen.com
X-WR-CALDESC:Events for Stayinmcallen
REFRESH-INTERVAL;VALUE=DURATION:PT1H
X-Robots-Tag:noindex
X-PUBLISHED-TTL:PT1H
BEGIN:VTIMEZONE
TZID:America/Chicago
BEGIN:DAYLIGHT
TZOFFSETFROM:-0600
TZOFFSETTO:-0500
TZNAME:CDT
DTSTART:20230312T080000
END:DAYLIGHT
BEGIN:STANDARD
TZOFFSETFROM:-0500
TZOFFSETTO:-0600
TZNAME:CST
DTSTART:20231105T070000
END:STANDARD
BEGIN:DAYLIGHT
TZOFFSETFROM:-0600
TZOFFSETTO:-0500
TZNAME:CDT
DTSTART:20240310T080000
END:DAYLIGHT
BEGIN:STANDARD
TZOFFSETFROM:-0500
TZOFFSETTO:-0600
TZNAME:CST
DTSTART:20241103T070000
END:STANDARD
BEGIN:DAYLIGHT
TZOFFSETFROM:-0600
TZOFFSETTO:-0500
TZNAME:CDT
DTSTART:20250309T080000
END:DAYLIGHT
BEGIN:STANDARD
TZOFFSETFROM:-0500
TZOFFSETTO:-0600
TZNAME:CST
DTSTART:20251102T070000
END:STANDARD
END:VTIMEZONE
BEGIN:VEVENT
DTSTART;TZID=America/Chicago:20240629T210000
DTEND;TZID=America/Chicago:20240629T210000
DTSTAMP:20260421T094033
CREATED:20240601T153203Z
LAST-MODIFIED:20240629T182855Z
UID:10000614-1719694800-1719694800@stayinmcallen.com
SUMMARY:Gerardo Coronel “El Jerry”
DESCRIPTION:Regresa al Valle de Texas “El Jerry”. En concierto!!! Ven a vivir la experiencia al mejor lugar de RGV.\nSepara la fecha !!!\nPreventa $60
URL:https://stayinmcallen.com/events/gerardo-coronel-el-jerry/
LOCATION:MK’Z NIGHTCLUB\, 2021 Orchid Ave.\, Mcallen\, 78504
CATEGORIES:Live Music,City Events,Explore McAllen,Concerts,Spanish Music
ATTACH;FMTTYPE=image/jpeg:https://stayinmcallen.com/wp-content/uploads/2024/06/49a19233-8a4b-479d-938a-f742f9a734dc-Iv2gXY.tmp_.jpg
END:VEVENT
END:VCALENDAR