BEGIN:VCALENDAR
VERSION:2.0
PRODID:-//Stayinmcallen - ECPv6.15.20//NONSGML v1.0//EN
CALSCALE:GREGORIAN
METHOD:PUBLISH
X-ORIGINAL-URL:https://stayinmcallen.com
X-WR-CALDESC:Events for Stayinmcallen
REFRESH-INTERVAL;VALUE=DURATION:PT1H
X-Robots-Tag:noindex
X-PUBLISHED-TTL:PT1H
BEGIN:VTIMEZONE
TZID:America/Chicago
BEGIN:DAYLIGHT
TZOFFSETFROM:-0600
TZOFFSETTO:-0500
TZNAME:CDT
DTSTART:20230312T080000
END:DAYLIGHT
BEGIN:STANDARD
TZOFFSETFROM:-0500
TZOFFSETTO:-0600
TZNAME:CST
DTSTART:20231105T070000
END:STANDARD
BEGIN:DAYLIGHT
TZOFFSETFROM:-0600
TZOFFSETTO:-0500
TZNAME:CDT
DTSTART:20240310T080000
END:DAYLIGHT
BEGIN:STANDARD
TZOFFSETFROM:-0500
TZOFFSETTO:-0600
TZNAME:CST
DTSTART:20241103T070000
END:STANDARD
BEGIN:DAYLIGHT
TZOFFSETFROM:-0600
TZOFFSETTO:-0500
TZNAME:CDT
DTSTART:20250309T080000
END:DAYLIGHT
BEGIN:STANDARD
TZOFFSETFROM:-0500
TZOFFSETTO:-0600
TZNAME:CST
DTSTART:20251102T070000
END:STANDARD
END:VTIMEZONE
BEGIN:VEVENT
DTSTART;TZID=America/Chicago:20240803T100000
DTEND;TZID=America/Chicago:20240803T130000
DTSTAMP:20260425T203813
CREATED:20240705T121433Z
LAST-MODIFIED:20240802T130356Z
UID:10000678-1722679200-1722690000@stayinmcallen.com
SUMMARY:UTRGV Camps  Baseball Prospect Camp (14+)
DESCRIPTION:UTRGV Camps  Baseball Prospect Camp (14+)\n https://goutrgv.com/calendar.aspx?game_id=27478&sport_id=23
URL:https://stayinmcallen.com/events/utrgv-camps-baseball-prospect-camp-14-3/
LOCATION:Edinburg\, TX\, UTRGV Baseball Stadium
CATEGORIES:UTRGV Athletics
END:VEVENT
BEGIN:VEVENT
DTSTART;TZID=America/Chicago:20240803T100000
DTEND;TZID=America/Chicago:20240803T130000
DTSTAMP:20260425T203813
CREATED:20240705T121440Z
LAST-MODIFIED:20240705T121440Z
UID:10000680-1722679200-1722690000@stayinmcallen.com
SUMMARY:UTRGV Camps  Baseball Prospect Camp (14+)
DESCRIPTION:UTRGV Camps  Baseball Prospect Camp (14+)\n https://goutrgv.com/calendar.aspx?game_id=27478&sport_id=23
URL:https://stayinmcallen.com/events/utrgv-camps-baseball-prospect-camp-14-4/
LOCATION:Edinburg\, TX\, UTRGV Baseball Stadium
CATEGORIES:UTRGV Athletics
END:VEVENT
BEGIN:VEVENT
DTSTART;TZID=America/Chicago:20240809T090000
DTEND;TZID=America/Chicago:20240809T110000
DTSTAMP:20260425T203813
CREATED:20240719T123418Z
LAST-MODIFIED:20240809T131857Z
UID:10000797-1723194000-1723201200@stayinmcallen.com
SUMMARY:UTRGV Men's Soccer vs Idea Toros FA (Exhibition)
DESCRIPTION:UTRGV Men’s Soccer vs Idea Toros FA (Exhibition)\n https://goutrgv.com/calendar.aspx?game_id=27553&sport_id=16
URL:https://stayinmcallen.com/events/utrgv-mens-soccer-vs-idea-toros-fa-exhibition/
LOCATION:Edinburg\, TX\, UTRGV Soccer and Track & Field Complex
CATEGORIES:UTRGV Athletics
END:VEVENT
BEGIN:VEVENT
DTSTART;TZID=America/Chicago:20240809T090000
DTEND;TZID=America/Chicago:20240809T110000
DTSTAMP:20260425T203813
CREATED:20240719T123420Z
LAST-MODIFIED:20240719T123420Z
UID:10000794-1723194000-1723201200@stayinmcallen.com
SUMMARY:UTRGV Men's Soccer vs Idea Toros FA (Exhibition)
DESCRIPTION:UTRGV Men’s Soccer vs Idea Toros FA (Exhibition)\n https://goutrgv.com/calendar.aspx?game_id=27553&sport_id=16
URL:https://stayinmcallen.com/events/utrgv-mens-soccer-vs-idea-toros-fa-exhibition-2/
LOCATION:Edinburg\, TX\, UTRGV Soccer and Track & Field Complex
CATEGORIES:UTRGV Athletics
END:VEVENT
BEGIN:VEVENT
DTSTART;TZID=America/Chicago:20240810T110000
DTEND;TZID=America/Chicago:20240810T130000
DTSTAMP:20260425T203813
CREATED:20240719T123424Z
LAST-MODIFIED:20240809T131901Z
UID:10000798-1723287600-1723294800@stayinmcallen.com
SUMMARY:UTRGV Women's Soccer vs Houston (Exhibition)
DESCRIPTION:UTRGV Women’s Soccer vs Houston (Exhibition)\nStreaming Video: http://plus.espn.com/\n https://goutrgv.com/calendar.aspx?game_id=27581&sport_id=15
URL:https://stayinmcallen.com/events/utrgv-womens-soccer-vs-houston-exhibition/
LOCATION:Edinburg\, TX\, UTRGV Soccer and Track & Field Complex
CATEGORIES:UTRGV Athletics
END:VEVENT
BEGIN:VEVENT
DTSTART;TZID=America/Chicago:20240810T110000
DTEND;TZID=America/Chicago:20240810T130000
DTSTAMP:20260425T203813
CREATED:20240719T123425Z
LAST-MODIFIED:20240719T123425Z
UID:10000795-1723287600-1723294800@stayinmcallen.com
SUMMARY:UTRGV Women's Soccer vs Houston (Exhibition)
DESCRIPTION:UTRGV Women’s Soccer vs Houston (Exhibition)\nStreaming Video: http://plus.espn.com/\n https://goutrgv.com/calendar.aspx?game_id=27581&sport_id=15
URL:https://stayinmcallen.com/events/utrgv-womens-soccer-vs-houston-exhibition-2/
LOCATION:Edinburg\, TX\, UTRGV Soccer and Track & Field Complex
CATEGORIES:UTRGV Athletics
END:VEVENT
BEGIN:VEVENT
DTSTART;VALUE=DATE:20240812
DTEND;VALUE=DATE:20240815
DTSTAMP:20260425T203813
CREATED:20240809T131909Z
LAST-MODIFIED:20240809T131909Z
UID:10001049-1723489200-1723661999@stayinmcallen.com
SUMMARY:UTRGV Camps  Golf Skills Camp
DESCRIPTION:UTRGV Camps  Golf Skills Camp\n https://goutrgv.com/calendar.aspx?game_id=27627&sport_id=23
URL:https://stayinmcallen.com/events/utrgv-camps-golf-skills-camp/
LOCATION:McAllen\, TX\, McAllen Country Club
CATEGORIES:UTRGV Athletics
END:VEVENT
BEGIN:VEVENT
DTSTART;VALUE=DATE:20240812
DTEND;VALUE=DATE:20240815
DTSTAMP:20260425T203813
CREATED:20240809T131910Z
LAST-MODIFIED:20240809T131910Z
UID:10001048-1723489200-1723661999@stayinmcallen.com
SUMMARY:UTRGV Camps  Golf Skills Camp
DESCRIPTION:UTRGV Camps  Golf Skills Camp\n https://goutrgv.com/calendar.aspx?game_id=27627&sport_id=23
URL:https://stayinmcallen.com/events/utrgv-camps-golf-skills-camp-2/
LOCATION:McAllen\, TX\, McAllen Country Club
CATEGORIES:UTRGV Athletics
END:VEVENT
BEGIN:VEVENT
DTSTART;TZID=America/Chicago:20240813T183000
DTEND;TZID=America/Chicago:20240813T203000
DTSTAMP:20260425T203813
CREATED:20240719T123430Z
LAST-MODIFIED:20240809T131905Z
UID:10000799-1723573800-1723581000@stayinmcallen.com
SUMMARY:UTRGV Men's Soccer vs Coastal Bend (Exhibition)
DESCRIPTION:UTRGV Men’s Soccer vs Coastal Bend (Exhibition)\n https://goutrgv.com/calendar.aspx?game_id=27554&sport_id=16
URL:https://stayinmcallen.com/events/utrgv-mens-soccer-vs-coastal-bend-exhibition-3/
LOCATION:Brownsville\, TX\, Veterans Memorial High School
CATEGORIES:UTRGV Athletics
END:VEVENT
BEGIN:VEVENT
DTSTART;TZID=America/Chicago:20240813T183000
DTEND;TZID=America/Chicago:20240813T203000
DTSTAMP:20260425T203813
CREATED:20240719T123431Z
LAST-MODIFIED:20240719T123431Z
UID:10000796-1723573800-1723581000@stayinmcallen.com
SUMMARY:UTRGV Men's Soccer vs Coastal Bend (Exhibition)
DESCRIPTION:UTRGV Men’s Soccer vs Coastal Bend (Exhibition)\n https://goutrgv.com/calendar.aspx?game_id=27554&sport_id=16
URL:https://stayinmcallen.com/events/utrgv-mens-soccer-vs-coastal-bend-exhibition-4/
LOCATION:Brownsville\, TX\, Veterans Memorial High School
CATEGORIES:UTRGV Athletics
END:VEVENT
BEGIN:VEVENT
DTSTART;TZID=America/Chicago:20240815T183000
DTEND;TZID=America/Chicago:20240815T203000
DTSTAMP:20260425T203813
CREATED:20240719T123436Z
LAST-MODIFIED:20240809T131917Z
UID:10000800-1723746600-1723753800@stayinmcallen.com
SUMMARY:UTRGV Women's Soccer vs Texas Southern
DESCRIPTION:UTRGV Women’s Soccer vs Texas Southern\nTV: ESPN+ (USA) | Southland International\nStreaming Video: http://plus.espn.com/\nTickets: https://www.showpass.com/2024-2025-soccer-season-pass/\n https://goutrgv.com/calendar.aspx?game_id=27582&sport_id=15
URL:https://stayinmcallen.com/events/utrgv-womens-soccer-vs-texas-southern/
LOCATION:Edinburg\, TX\, UTRGV Soccer and Track & Field Complex
CATEGORIES:UTRGV Athletics
END:VEVENT
BEGIN:VEVENT
DTSTART;TZID=America/Chicago:20240815T183000
DTEND;TZID=America/Chicago:20240815T203000
DTSTAMP:20260425T203813
CREATED:20240719T123438Z
LAST-MODIFIED:20240719T123438Z
UID:10000802-1723746600-1723753800@stayinmcallen.com
SUMMARY:UTRGV Women's Soccer vs Texas Southern
DESCRIPTION:UTRGV Women’s Soccer vs Texas Southern\nTV: ESPN+ (USA)\nStreaming Video: http://plus.espn.com/\n https://goutrgv.com/calendar.aspx?game_id=27582&sport_id=15
URL:https://stayinmcallen.com/events/utrgv-womens-soccer-vs-texas-southern-2/
LOCATION:Edinburg\, TX\, UTRGV Soccer and Track & Field Complex
CATEGORIES:UTRGV Athletics
END:VEVENT
BEGIN:VEVENT
DTSTART;TZID=America/Chicago:20240820T190000
DTEND;TZID=America/Chicago:20240820T210000
DTSTAMP:20260425T203813
CREATED:20240719T123442Z
LAST-MODIFIED:20240816T133357Z
UID:10000801-1724180400-1724187600@stayinmcallen.com
SUMMARY:UTRGV Women's Soccer at Tarleton State
DESCRIPTION:UTRGV Women’s Soccer at Tarleton State\nTV: ESPN+ (USA) | WAC International\nStreaming Video: http://plus.espn.com/
URL:https://stayinmcallen.com/events/utrgv-womens-soccer-at-tarleton-state/
LOCATION:Stephenville\, TX
CATEGORIES:UTRGV Athletics
END:VEVENT
BEGIN:VEVENT
DTSTART;TZID=America/Chicago:20240820T190000
DTEND;TZID=America/Chicago:20240820T210000
DTSTAMP:20260425T203813
CREATED:20240719T123444Z
LAST-MODIFIED:20240719T123444Z
UID:10000803-1724180400-1724187600@stayinmcallen.com
SUMMARY:UTRGV Women's Soccer at Tarleton State
DESCRIPTION:UTRGV Women’s Soccer at Tarleton State\n https://goutrgv.com/calendar.aspx?game_id=27583&sport_id=15
URL:https://stayinmcallen.com/events/utrgv-womens-soccer-at-tarleton-state-2/
LOCATION:Stephenville\, TX
CATEGORIES:UTRGV Athletics
END:VEVENT
BEGIN:VEVENT
DTSTART;TZID=America/Chicago:20240822T183000
DTEND;TZID=America/Chicago:20240822T203000
DTSTAMP:20260425T203813
CREATED:20240719T123450Z
LAST-MODIFIED:20240816T133401Z
UID:10000804-1724351400-1724358600@stayinmcallen.com
SUMMARY:UTRGV Men's Soccer vs Texas A&M International (Exhibition)
DESCRIPTION:UTRGV Men’s Soccer vs Texas A&M International (Exhibition)
URL:https://stayinmcallen.com/events/utrgv-mens-soccer-vs-texas-am-international-exhibition/
LOCATION:Edinburg\, TX\, UTRGV Soccer and Track & Field Complex
CATEGORIES:UTRGV Athletics
END:VEVENT
BEGIN:VEVENT
DTSTART;TZID=America/Chicago:20240825T110000
DTEND;TZID=America/Chicago:20240825T130000
DTSTAMP:20260425T203813
CREATED:20240719T123456Z
LAST-MODIFIED:20240823T134855Z
UID:10000805-1724583600-1724590800@stayinmcallen.com
SUMMARY:UTRGV Women's Soccer at Rice
DESCRIPTION:UTRGV Women’s Soccer at Rice\nTV: ESPN+\nStreaming Video: https://www.espn.com/espnplus/catalog/56d874fa-ff97-41c3-8bc6-07b208281482/american-athletic-conference#bucketId=29804&sourceCollection=Browse_By_Conference_(ESPN+)
URL:https://stayinmcallen.com/events/utrgv-womens-soccer-at-rice/
LOCATION:Houston\, TX
CATEGORIES:UTRGV Athletics
END:VEVENT
BEGIN:VEVENT
DTSTART;TZID=America/Chicago:20240825T110000
DTEND;TZID=America/Chicago:20240825T130000
DTSTAMP:20260425T203813
CREATED:20240719T123505Z
LAST-MODIFIED:20240719T123505Z
UID:10000809-1724583600-1724590800@stayinmcallen.com
SUMMARY:UTRGV Women's Soccer at Rice
DESCRIPTION:UTRGV Women’s Soccer at Rice\n https://goutrgv.com/calendar.aspx?game_id=27584&sport_id=15
URL:https://stayinmcallen.com/events/utrgv-womens-soccer-at-rice-2/
LOCATION:Houston\, TX
CATEGORIES:UTRGV Athletics
END:VEVENT
BEGIN:VEVENT
DTSTART;TZID=America/Chicago:20240825T130000
DTEND;TZID=America/Chicago:20240825T150000
DTSTAMP:20260425T203813
CREATED:20240719T123503Z
LAST-MODIFIED:20240823T134859Z
UID:10000806-1724590800-1724598000@stayinmcallen.com
SUMMARY:UTRGV Men's Soccer at Lindenwood
DESCRIPTION:UTRGV Men’s Soccer at Lindenwood\nTV: ESPN+\nStreaming Video: https://www.espn.com/watch/player?id=94330c07-b0d7-41fb-b6eb-a8f6f7789926
URL:https://stayinmcallen.com/events/utrgv-mens-soccer-at-lindenwood/
LOCATION:St. Charles\, MO
CATEGORIES:UTRGV Athletics
END:VEVENT
BEGIN:VEVENT
DTSTART;TZID=America/Chicago:20240825T130000
DTEND;TZID=America/Chicago:20240825T150000
DTSTAMP:20260425T203813
CREATED:20240719T123511Z
LAST-MODIFIED:20240719T123511Z
UID:10000810-1724590800-1724598000@stayinmcallen.com
SUMMARY:UTRGV Men's Soccer at Lindenwood
DESCRIPTION:UTRGV Men’s Soccer at Lindenwood\n https://goutrgv.com/calendar.aspx?game_id=27556&sport_id=16
URL:https://stayinmcallen.com/events/utrgv-mens-soccer-at-lindenwood-2/
LOCATION:St. Charles\, MO
CATEGORIES:UTRGV Athletics
END:VEVENT
BEGIN:VEVENT
DTSTART;TZID=America/Chicago:20240829T183000
DTEND;TZID=America/Chicago:20240829T203000
DTSTAMP:20260425T203813
CREATED:20240719T123510Z
LAST-MODIFIED:20240823T134903Z
UID:10000807-1724956200-1724963400@stayinmcallen.com
SUMMARY:UTRGV Women's Soccer vs Southern
DESCRIPTION:UTRGV Women’s Soccer vs Southern\nTV: ESPN+ (USA) | Southland International\nStreaming Video: http://plus.espn.com/\nTickets: https://www.showpass.com/2024-2025-soccer-season-pass/
URL:https://stayinmcallen.com/events/utrgv-womens-soccer-vs-southern/
LOCATION:Edinburg\, TX\, UTRGV Soccer and Track & Field Complex
CATEGORIES:UTRGV Athletics
END:VEVENT
BEGIN:VEVENT
DTSTART;TZID=America/Chicago:20240829T183000
DTEND;TZID=America/Chicago:20240829T203000
DTSTAMP:20260425T203813
CREATED:20240719T123517Z
LAST-MODIFIED:20240719T123517Z
UID:10000811-1724956200-1724963400@stayinmcallen.com
SUMMARY:UTRGV Women's Soccer vs Southern
DESCRIPTION:UTRGV Women’s Soccer vs Southern\nTV: ESPN+ (USA)\nStreaming Video: http://plus.espn.com/\n https://goutrgv.com/calendar.aspx?game_id=27585&sport_id=15
URL:https://stayinmcallen.com/events/utrgv-womens-soccer-vs-southern-2/
LOCATION:Edinburg\, TX\, UTRGV Soccer and Track & Field Complex
CATEGORIES:UTRGV Athletics
END:VEVENT
BEGIN:VEVENT
DTSTART;VALUE=DATE:20240829
DTEND;VALUE=DATE:20240831
DTSTAMP:20260425T203813
CREATED:20240809T132000Z
LAST-MODIFIED:20240809T132000Z
UID:10001052-1724958000-1725044399@stayinmcallen.com
SUMMARY:UTRGV Women's Cross Country  XC at the Seashore
DESCRIPTION:UTRGV Women’s Cross Country  XC at the Seashore\n https://goutrgv.com/calendar.aspx?game_id=27617&sport_id=13
URL:https://stayinmcallen.com/events/utrgv-womens-cross-country-xc-at-the-seashore-2/
LOCATION:Corpus Christi\, TX
CATEGORIES:UTRGV Athletics
END:VEVENT
BEGIN:VEVENT
DTSTART;VALUE=DATE:20240829
DTEND;VALUE=DATE:20240831
DTSTAMP:20260425T203813
CREATED:20240809T132008Z
LAST-MODIFIED:20240809T132008Z
UID:10001053-1724958000-1725044399@stayinmcallen.com
SUMMARY:UTRGV Men's Cross Country  XC at the Seashore
DESCRIPTION:UTRGV Men’s Cross Country  XC at the Seashore\n https://goutrgv.com/calendar.aspx?game_id=27611&sport_id=4
URL:https://stayinmcallen.com/events/utrgv-mens-cross-country-xc-at-the-seashore-2/
LOCATION:Corpus Christi\, TX
CATEGORIES:UTRGV Athletics
END:VEVENT
BEGIN:VEVENT
DTSTART;TZID=America/Chicago:20240830T073000
DTEND;TZID=America/Chicago:20240830T103000
DTSTAMP:20260425T203813
CREATED:20240809T132006Z
LAST-MODIFIED:20240830T140357Z
UID:10001051-1725003000-1725013800@stayinmcallen.com
SUMMARY:UTRGV Men's Cross Country  XC at the Seashore
DESCRIPTION:UTRGV Men’s Cross Country  XC at the Seashore
URL:https://stayinmcallen.com/events/utrgv-mens-cross-country-xc-at-the-seashore/
LOCATION:Corpus Christi\, TX
CATEGORIES:UTRGV Athletics
END:VEVENT
BEGIN:VEVENT
DTSTART;TZID=America/Chicago:20240830T080000
DTEND;TZID=America/Chicago:20240830T110000
DTSTAMP:20260425T203813
CREATED:20240809T131956Z
LAST-MODIFIED:20240830T140401Z
UID:10001050-1725004800-1725015600@stayinmcallen.com
SUMMARY:UTRGV Women's Cross Country  XC at the Seashore
DESCRIPTION:UTRGV Women’s Cross Country  XC at the Seashore
URL:https://stayinmcallen.com/events/utrgv-womens-cross-country-xc-at-the-seashore/
LOCATION:Corpus Christi\, TX
CATEGORIES:UTRGV Athletics
END:VEVENT
BEGIN:VEVENT
DTSTART;TZID=America/Chicago:20240830T090000
DTEND;TZID=America/Chicago:20240830T110000
DTSTAMP:20260425T203813
CREATED:20240712T121954Z
LAST-MODIFIED:20240830T140409Z
UID:10000721-1725008400-1725015600@stayinmcallen.com
SUMMARY:UTRGV Volleyball vs Charlotte
DESCRIPTION:UTRGV Volleyball vs Charlotte
URL:https://stayinmcallen.com/events/utrgv-volleyball-vs-charlotte/
LOCATION:Greenville\, SC
CATEGORIES:UTRGV Athletics
END:VEVENT
BEGIN:VEVENT
DTSTART;TZID=America/Chicago:20240830T090000
DTEND;TZID=America/Chicago:20240830T110000
DTSTAMP:20260425T203813
CREATED:20240712T122000Z
LAST-MODIFIED:20240712T122000Z
UID:10000728-1725008400-1725015600@stayinmcallen.com
SUMMARY:UTRGV Volleyball vs Charlotte
DESCRIPTION:UTRGV Volleyball vs Charlotte\n https://goutrgv.com/calendar.aspx?game_id=27482&sport_id=12
URL:https://stayinmcallen.com/events/utrgv-volleyball-vs-charlotte-2/
LOCATION:Greenville\, SC
CATEGORIES:UTRGV Athletics
END:VEVENT
BEGIN:VEVENT
DTSTART;TZID=America/Chicago:20240830T173000
DTEND;TZID=America/Chicago:20240830T193000
DTSTAMP:20260425T203813
CREATED:20240712T122000Z
LAST-MODIFIED:20240830T140415Z
UID:10000722-1725039000-1725046200@stayinmcallen.com
SUMMARY:UTRGV Volleyball at Furman
DESCRIPTION:UTRGV Volleyball at Furman\nTV: ESPN+\nStreaming Video: https://www.espn.com/watch/player/_/id/71d21637-2c25-4a94-b510-6f7d1a4f2449?om-navmethod=espn:globalsearch:results
URL:https://stayinmcallen.com/events/utrgv-volleyball-at-furman/
LOCATION:Greenville\, SC
CATEGORIES:UTRGV Athletics
END:VEVENT
BEGIN:VEVENT
DTSTART;TZID=America/Chicago:20240830T173000
DTEND;TZID=America/Chicago:20240830T193000
DTSTAMP:20260425T203813
CREATED:20240712T122009Z
LAST-MODIFIED:20240712T122009Z
UID:10000729-1725039000-1725046200@stayinmcallen.com
SUMMARY:UTRGV Volleyball at Furman
DESCRIPTION:UTRGV Volleyball at Furman\n https://goutrgv.com/calendar.aspx?game_id=27483&sport_id=12
URL:https://stayinmcallen.com/events/utrgv-volleyball-at-furman-2/
LOCATION:Greenville\, SC
CATEGORIES:UTRGV Athletics
END:VEVENT
BEGIN:VEVENT
DTSTART;TZID=America/Chicago:20240831T090000
DTEND;TZID=America/Chicago:20240831T110000
DTSTAMP:20260425T203813
CREATED:20240712T122010Z
LAST-MODIFIED:20240830T140420Z
UID:10000723-1725094800-1725102000@stayinmcallen.com
SUMMARY:UTRGV Volleyball vs Charleston Southern
DESCRIPTION:UTRGV Volleyball vs Charleston Southern
URL:https://stayinmcallen.com/events/utrgv-volleyball-vs-charleston-southern/
LOCATION:Greenville\, SC
CATEGORIES:UTRGV Athletics
END:VEVENT
END:VCALENDAR