BEGIN:VCALENDAR
VERSION:2.0
PRODID:-//Stayinmcallen - ECPv6.15.20//NONSGML v1.0//EN
CALSCALE:GREGORIAN
METHOD:PUBLISH
X-ORIGINAL-URL:https://stayinmcallen.com
X-WR-CALDESC:Events for Stayinmcallen
REFRESH-INTERVAL;VALUE=DURATION:PT1H
X-Robots-Tag:noindex
X-PUBLISHED-TTL:PT1H
BEGIN:VTIMEZONE
TZID:America/Chicago
BEGIN:DAYLIGHT
TZOFFSETFROM:-0600
TZOFFSETTO:-0500
TZNAME:CDT
DTSTART:20250309T080000
END:DAYLIGHT
BEGIN:STANDARD
TZOFFSETFROM:-0500
TZOFFSETTO:-0600
TZNAME:CST
DTSTART:20251102T070000
END:STANDARD
BEGIN:DAYLIGHT
TZOFFSETFROM:-0600
TZOFFSETTO:-0500
TZNAME:CDT
DTSTART:20260308T080000
END:DAYLIGHT
BEGIN:STANDARD
TZOFFSETFROM:-0500
TZOFFSETTO:-0600
TZNAME:CST
DTSTART:20261101T070000
END:STANDARD
BEGIN:DAYLIGHT
TZOFFSETFROM:-0600
TZOFFSETTO:-0500
TZNAME:CDT
DTSTART:20270314T080000
END:DAYLIGHT
BEGIN:STANDARD
TZOFFSETFROM:-0500
TZOFFSETTO:-0600
TZNAME:CST
DTSTART:20271107T070000
END:STANDARD
END:VTIMEZONE
BEGIN:VEVENT
DTSTART;VALUE=DATE:20260528
DTEND;VALUE=DATE:20260603
DTSTAMP:20260424T065618
CREATED:20250816T051011Z
LAST-MODIFIED:20260417T152141Z
UID:10002975-1779994800-1780426799@stayinmcallen.com
SUMMARY:UTRGV Men's Golf  NCAA Championships
DESCRIPTION:UTRGV Men’s Golf  NCAA Championships
URL:https://stayinmcallen.com/events/utrgv-mens-golf-ncaa-championships-4/
LOCATION:Carlsbad\, Calif.
CATEGORIES:UTRGV Athletics
END:VEVENT
BEGIN:VEVENT
DTSTART;VALUE=DATE:20260531
DTEND;VALUE=DATE:20260602
DTSTAMP:20260424T065618
CREATED:20250830T061231Z
LAST-MODIFIED:20260417T152205Z
UID:10003096-1780254000-1780340399@stayinmcallen.com
SUMMARY:UTRGV Baseball vs Championship Game (If Necessary)
DESCRIPTION:UTRGV Baseball vs Championship Game (If Necessary)\nTV: ESPN Family of Networks\nStreaming Video: https://plus.espn.com/
URL:https://stayinmcallen.com/events/utrgv-baseball-vs-championship-game-if-necessary/
LOCATION:Campus Sites
CATEGORIES:UTRGV Athletics
END:VEVENT
BEGIN:VEVENT
DTSTART;VALUE=DATE:20260604
DTEND;VALUE=DATE:20260606
DTSTAMP:20260424T065618
CREATED:20250830T061235Z
LAST-MODIFIED:20260417T152209Z
UID:10003097-1780599600-1780685999@stayinmcallen.com
SUMMARY:UTRGV Baseball vs Game 1
DESCRIPTION:UTRGV Baseball vs Game 1\nTV: ESPN Family of Networks\nStreaming Video: https://plus.espn.com/
URL:https://stayinmcallen.com/events/utrgv-baseball-vs-game-1-2/
LOCATION:Campus Sites
CATEGORIES:UTRGV Athletics
END:VEVENT
BEGIN:VEVENT
DTSTART;VALUE=DATE:20260605
DTEND;VALUE=DATE:20260607
DTSTAMP:20260424T065618
CREATED:20250830T061240Z
LAST-MODIFIED:20260417T152214Z
UID:10003098-1780686000-1780772399@stayinmcallen.com
SUMMARY:UTRGV Baseball vs Game 2
DESCRIPTION:UTRGV Baseball vs Game 2\nTV: ESPN Family of Networks\nStreaming Video: https://plus.espn.com/
URL:https://stayinmcallen.com/events/utrgv-baseball-vs-game-2-2/
LOCATION:Campus Sites
CATEGORIES:UTRGV Athletics
END:VEVENT
BEGIN:VEVENT
DTSTART;VALUE=DATE:20260606
DTEND;VALUE=DATE:20260608
DTSTAMP:20260424T065618
CREATED:20250830T061244Z
LAST-MODIFIED:20260417T152217Z
UID:10003099-1780772400-1780858799@stayinmcallen.com
SUMMARY:UTRGV Baseball vs Game 3 (If Necessary)
DESCRIPTION:UTRGV Baseball vs Game 3 (If Necessary)\nTV: ESPN Family of Networks\nStreaming Video: https://plus.espn.com/
URL:https://stayinmcallen.com/events/utrgv-baseball-vs-game-3-if-necessary-2/
LOCATION:Campus Sites
CATEGORIES:UTRGV Athletics
END:VEVENT
BEGIN:VEVENT
DTSTART;TZID=America/Chicago:20260609T090000
DTEND;TZID=America/Chicago:20260609T120000
DTSTAMP:20260424T065618
CREATED:20260409T075415Z
LAST-MODIFIED:20260417T152221Z
UID:10003665-1780995600-1781006400@stayinmcallen.com
SUMMARY:UTRGV Camps  Football Prospect Camp I
DESCRIPTION:UTRGV Camps  Football Prospect Camp I
URL:https://stayinmcallen.com/events/utrgv-camps-football-prospect-camp-i/
LOCATION:Edinburg\, Texas\, Vaqueros Performance Center
CATEGORIES:UTRGV Athletics
END:VEVENT
BEGIN:VEVENT
DTSTART;VALUE=DATE:20260609
DTEND;VALUE=DATE:20260613
DTSTAMP:20260424T065618
CREATED:20251228T151708Z
LAST-MODIFIED:20260417T152239Z
UID:10003432-1781031600-1781290799@stayinmcallen.com
SUMMARY:UTRGV Men's Track & Field  NCAA Outdoor Championships
DESCRIPTION:UTRGV Men’s Track & Field  NCAA Outdoor Championships
URL:https://stayinmcallen.com/events/utrgv-mens-track-field-ncaa-outdoor-championships-4/
LOCATION:Eugene\, Ore.
CATEGORIES:UTRGV Athletics
END:VEVENT
BEGIN:VEVENT
DTSTART;VALUE=DATE:20260609
DTEND;VALUE=DATE:20260613
DTSTAMP:20260424T065618
CREATED:20251228T151714Z
LAST-MODIFIED:20260417T152231Z
UID:10003433-1781031600-1781290799@stayinmcallen.com
SUMMARY:UTRGV Women's Track & Field  NCAA Outdoor Championships
DESCRIPTION:UTRGV Women’s Track & Field  NCAA Outdoor Championships
URL:https://stayinmcallen.com/events/utrgv-womens-track-field-ncaa-outdoor-championships-4/
LOCATION:Eugene\, Ore.
CATEGORIES:UTRGV Athletics
END:VEVENT
BEGIN:VEVENT
DTSTART;TZID=America/Chicago:20260611T183000
DTEND;TZID=America/Chicago:20260611T213000
DTSTAMP:20260424T065618
CREATED:20260409T075419Z
LAST-MODIFIED:20260417T152235Z
UID:10003666-1781202600-1781213400@stayinmcallen.com
SUMMARY:UTRGV Camps  Football Prospect Camp II
DESCRIPTION:UTRGV Camps  Football Prospect Camp II
URL:https://stayinmcallen.com/events/utrgv-camps-football-prospect-camp-ii/
LOCATION:Edinburg\, Texas\, Vaqueros Performance Center
CATEGORIES:UTRGV Athletics
END:VEVENT
BEGIN:VEVENT
DTSTART;VALUE=DATE:20260611
DTEND;VALUE=DATE:20260613
DTSTAMP:20260424T065618
CREATED:20250830T061304Z
LAST-MODIFIED:20260417T152224Z
UID:10003102-1781204400-1781290799@stayinmcallen.com
SUMMARY:UTRGV Baseball vs First Round (Games 1 and 2)
DESCRIPTION:UTRGV Baseball vs First Round (Games 1 and 2)\nTV: ESPN Family of Networks\nStreaming Video: https://plus.espn.com/
URL:https://stayinmcallen.com/events/utrgv-baseball-vs-first-round-games-1-and-2/
LOCATION:Omaha\, Neb.
CATEGORIES:UTRGV Athletics
END:VEVENT
BEGIN:VEVENT
DTSTART;VALUE=DATE:20260612
DTEND;VALUE=DATE:20260614
DTSTAMP:20260424T065618
CREATED:20250830T061255Z
LAST-MODIFIED:20260417T152228Z
UID:10003101-1781290800-1781377199@stayinmcallen.com
SUMMARY:UTRGV Baseball vs First Round (Games 3 and 4)
DESCRIPTION:UTRGV Baseball vs First Round (Games 3 and 4)\nTV: ESPN Family of Networks\nStreaming Video: https://plus.espn.com/
URL:https://stayinmcallen.com/events/utrgv-baseball-vs-first-round-games-3-and-4/
LOCATION:Omaha\, Neb.
CATEGORIES:UTRGV Athletics
END:VEVENT
BEGIN:VEVENT
DTSTART;VALUE=DATE:20260613
DTEND;VALUE=DATE:20260615
DTSTAMP:20260424T065618
CREATED:20250830T061251Z
LAST-MODIFIED:20260417T152242Z
UID:10003100-1781377200-1781463599@stayinmcallen.com
SUMMARY:UTRGV Baseball vs Second Round (Games 5 and 6)
DESCRIPTION:UTRGV Baseball vs Second Round (Games 5 and 6)\nTV: ESPN Family of Networks\nStreaming Video: https://plus.espn.com/
URL:https://stayinmcallen.com/events/utrgv-baseball-vs-second-round-games-5-and-6/
LOCATION:Omaha\, Neb.
CATEGORIES:UTRGV Athletics
END:VEVENT
BEGIN:VEVENT
DTSTART;VALUE=DATE:20260614
DTEND;VALUE=DATE:20260616
DTSTAMP:20260424T065618
CREATED:20250830T061308Z
LAST-MODIFIED:20260417T152245Z
UID:10003103-1781463600-1781549999@stayinmcallen.com
SUMMARY:UTRGV Baseball vs Second Round (Games 7 and 8)
DESCRIPTION:UTRGV Baseball vs Second Round (Games 7 and 8)\nTV: ESPN Family of Networks\nStreaming Video: https://plus.espn.com/
URL:https://stayinmcallen.com/events/utrgv-baseball-vs-second-round-games-7-and-8/
LOCATION:Omaha\, Neb.
CATEGORIES:UTRGV Athletics
END:VEVENT
BEGIN:VEVENT
DTSTART;VALUE=DATE:20260615
DTEND;VALUE=DATE:20260617
DTSTAMP:20260424T065618
CREATED:20250830T061314Z
LAST-MODIFIED:20260417T152248Z
UID:10003104-1781550000-1781636399@stayinmcallen.com
SUMMARY:UTRGV Baseball vs Elimination Games (Games 9 and 10)
DESCRIPTION:UTRGV Baseball vs Elimination Games (Games 9 and 10)\nTV: ESPN Family of Networks\nStreaming Video: https://plus.espn.com/
URL:https://stayinmcallen.com/events/utrgv-baseball-vs-elimination-games-games-9-and-10/
LOCATION:Omaha\, Neb.
CATEGORIES:UTRGV Athletics
END:VEVENT
BEGIN:VEVENT
DTSTART;TZID=America/Chicago:20260616T090000
DTEND;TZID=America/Chicago:20260616T120000
DTSTAMP:20260424T065618
CREATED:20260409T075457Z
LAST-MODIFIED:20260417T152252Z
UID:10003667-1781600400-1781611200@stayinmcallen.com
SUMMARY:UTRGV Camps  Football Prospect Camp III
DESCRIPTION:UTRGV Camps  Football Prospect Camp III
URL:https://stayinmcallen.com/events/utrgv-camps-football-prospect-camp-iii/
LOCATION:Edinburg\, Texas\, Vaqueros Performance Center
CATEGORIES:UTRGV Athletics
END:VEVENT
BEGIN:VEVENT
DTSTART;VALUE=DATE:20260616
DTEND;VALUE=DATE:20260618
DTSTAMP:20260424T065618
CREATED:20250830T061319Z
LAST-MODIFIED:20260417T152256Z
UID:10003105-1781636400-1781722799@stayinmcallen.com
SUMMARY:UTRGV Baseball vs Semifinals (Games 11 and 12)
DESCRIPTION:UTRGV Baseball vs Semifinals (Games 11 and 12)\nTV: ESPN Family of Networks\nStreaming Video: https://plus.espn.com/
URL:https://stayinmcallen.com/events/utrgv-baseball-vs-semifinals-games-11-and-12/
LOCATION:Omaha\, Neb.
CATEGORIES:UTRGV Athletics
END:VEVENT
BEGIN:VEVENT
DTSTART;VALUE=DATE:20260617
DTEND;VALUE=DATE:20260619
DTSTAMP:20260424T065618
CREATED:20250830T061323Z
LAST-MODIFIED:20260417T152259Z
UID:10003106-1781722800-1781809199@stayinmcallen.com
SUMMARY:UTRGV Baseball vs Semifinals (If Necessary)
DESCRIPTION:UTRGV Baseball vs Semifinals (If Necessary)\nTV: ESPN Family of Networks\nStreaming Video: https://plus.espn.com/
URL:https://stayinmcallen.com/events/utrgv-baseball-vs-semifinals-if-necessary/
LOCATION:Omaha\, Neb.
CATEGORIES:UTRGV Athletics
END:VEVENT
BEGIN:VEVENT
DTSTART;VALUE=DATE:20260619
DTEND;VALUE=DATE:20260621
DTSTAMP:20260424T065618
CREATED:20250830T061328Z
LAST-MODIFIED:20260417T152303Z
UID:10003107-1781895600-1781981999@stayinmcallen.com
SUMMARY:UTRGV Baseball vs Championship Game 1
DESCRIPTION:UTRGV Baseball vs Championship Game 1\nTV: ESPN\nStreaming Video: https://plus.espn.com/
URL:https://stayinmcallen.com/events/utrgv-baseball-vs-championship-game-1/
LOCATION:Omaha\, Neb.
CATEGORIES:UTRGV Athletics
END:VEVENT
BEGIN:VEVENT
DTSTART;VALUE=DATE:20260620
DTEND;VALUE=DATE:20260622
DTSTAMP:20260424T065618
CREATED:20250830T061334Z
LAST-MODIFIED:20260417T152309Z
UID:10003108-1781982000-1782068399@stayinmcallen.com
SUMMARY:UTRGV Baseball vs Championship Game 2
DESCRIPTION:UTRGV Baseball vs Championship Game 2\nTV: ESPN\nStreaming Video: https://plus.espn.com/
URL:https://stayinmcallen.com/events/utrgv-baseball-vs-championship-game-2/
LOCATION:Omaha\, Neb.
CATEGORIES:UTRGV Athletics
END:VEVENT
BEGIN:VEVENT
DTSTART;VALUE=DATE:20260621
DTEND;VALUE=DATE:20260623
DTSTAMP:20260424T065618
CREATED:20250830T061339Z
LAST-MODIFIED:20260417T152306Z
UID:10003109-1782068400-1782154799@stayinmcallen.com
SUMMARY:UTRGV Baseball vs Championship Game 3 (If Necessary)
DESCRIPTION:UTRGV Baseball vs Championship Game 3 (If Necessary)\nTV: ESPN\nStreaming Video: https://plus.espn.com/
URL:https://stayinmcallen.com/events/utrgv-baseball-vs-championship-game-3-if-necessary/
LOCATION:Omaha\, Neb.
CATEGORIES:UTRGV Athletics
END:VEVENT
END:VCALENDAR