BEGIN:VCALENDAR
VERSION:2.0
PRODID:-//Stayinmcallen - ECPv6.15.20//NONSGML v1.0//EN
CALSCALE:GREGORIAN
METHOD:PUBLISH
X-ORIGINAL-URL:https://stayinmcallen.com
X-WR-CALDESC:Events for Stayinmcallen
REFRESH-INTERVAL;VALUE=DURATION:PT1H
X-Robots-Tag:noindex
X-PUBLISHED-TTL:PT1H
BEGIN:VTIMEZONE
TZID:America/Chicago
BEGIN:DAYLIGHT
TZOFFSETFROM:-0600
TZOFFSETTO:-0500
TZNAME:CDT
DTSTART:20250309T080000
END:DAYLIGHT
BEGIN:STANDARD
TZOFFSETFROM:-0500
TZOFFSETTO:-0600
TZNAME:CST
DTSTART:20251102T070000
END:STANDARD
BEGIN:DAYLIGHT
TZOFFSETFROM:-0600
TZOFFSETTO:-0500
TZNAME:CDT
DTSTART:20260308T080000
END:DAYLIGHT
BEGIN:STANDARD
TZOFFSETFROM:-0500
TZOFFSETTO:-0600
TZNAME:CST
DTSTART:20261101T070000
END:STANDARD
BEGIN:DAYLIGHT
TZOFFSETFROM:-0600
TZOFFSETTO:-0500
TZNAME:CDT
DTSTART:20270314T080000
END:DAYLIGHT
BEGIN:STANDARD
TZOFFSETFROM:-0500
TZOFFSETTO:-0600
TZNAME:CST
DTSTART:20271107T070000
END:STANDARD
END:VTIMEZONE
BEGIN:VEVENT
DTSTART;TZID=America/Chicago:20260714T180000
DTEND;TZID=America/Chicago:20260714T210000
DTSTAMP:20260424T065618
CREATED:20260416T112557Z
LAST-MODIFIED:20260417T152313Z
UID:10003669-1784052000-1784062800@stayinmcallen.com
SUMMARY:UTRGV Camps  Little Vaqueros Camp (Grades 1-5)
DESCRIPTION:UTRGV Camps  Little Vaqueros Camp (Grades 1-5)
URL:https://stayinmcallen.com/events/utrgv-camps-little-vaqueros-camp-grades-1-5/
LOCATION:Edinburg\, Texas\, UTRGV Fieldhouse
CATEGORIES:UTRGV Athletics
END:VEVENT
BEGIN:VEVENT
DTSTART;TZID=America/Chicago:20260715T090000
DTEND;TZID=America/Chicago:20260716T150000
DTSTAMP:20260424T065618
CREATED:20260416T112600Z
LAST-MODIFIED:20260417T152318Z
UID:10003670-1784106000-1784214000@stayinmcallen.com
SUMMARY:UTRGV Camps  Middle School Camp (Grades 6-8)
DESCRIPTION:UTRGV Camps  Middle School Camp (Grades 6-8)
URL:https://stayinmcallen.com/events/utrgv-camps-middle-school-camp-grades-6-8/
LOCATION:Edinburg\, Texas\, UTRGV Fieldhouse
CATEGORIES:UTRGV Athletics
END:VEVENT
BEGIN:VEVENT
DTSTART;TZID=America/Chicago:20260717T090000
DTEND;TZID=America/Chicago:20260718T150000
DTSTAMP:20260424T065618
CREATED:20260416T112604Z
LAST-MODIFIED:20260417T152321Z
UID:10003671-1784278800-1784386800@stayinmcallen.com
SUMMARY:UTRGV Camps  High School Elite Camp (Grades 9-12)
DESCRIPTION:UTRGV Camps  High School Elite Camp (Grades 9-12)
URL:https://stayinmcallen.com/events/utrgv-camps-high-school-elite-camp-grades-9-12/
LOCATION:Edinburg\, Texas\, UTRGV Fieldhouse
CATEGORIES:UTRGV Athletics
END:VEVENT
BEGIN:VEVENT
DTSTART;TZID=America/Chicago:20260727T180000
DTEND;TZID=America/Chicago:20260727T210000
DTSTAMP:20260424T065618
CREATED:20260416T112608Z
LAST-MODIFIED:20260417T152325Z
UID:10003672-1785175200-1785186000@stayinmcallen.com
SUMMARY:UTRGV Camps  Little Vaqueros Camp (Grades 1-5)
DESCRIPTION:UTRGV Camps  Little Vaqueros Camp (Grades 1-5)
URL:https://stayinmcallen.com/events/utrgv-camps-little-vaqueros-camp-grades-1-5-2/
LOCATION:Edinburg\, Texas\, UTRGV Fieldhouse
CATEGORIES:UTRGV Athletics
END:VEVENT
BEGIN:VEVENT
DTSTART;TZID=America/Chicago:20260728T180000
DTEND;TZID=America/Chicago:20260728T210000
DTSTAMP:20260424T065618
CREATED:20260416T112611Z
LAST-MODIFIED:20260417T152328Z
UID:10003673-1785261600-1785272400@stayinmcallen.com
SUMMARY:UTRGV Camps  Defense Camp
DESCRIPTION:UTRGV Camps  Defense Camp
URL:https://stayinmcallen.com/events/utrgv-camps-defense-camp/
LOCATION:Edinburg\, Texas\, UTRGV Fieldhouse
CATEGORIES:UTRGV Athletics
END:VEVENT
BEGIN:VEVENT
DTSTART;TZID=America/Chicago:20260729T180000
DTEND;TZID=America/Chicago:20260729T210000
DTSTAMP:20260424T065618
CREATED:20260416T112616Z
LAST-MODIFIED:20260417T152332Z
UID:10003674-1785348000-1785358800@stayinmcallen.com
SUMMARY:UTRGV Camps  Hitting Camp
DESCRIPTION:UTRGV Camps  Hitting Camp
URL:https://stayinmcallen.com/events/utrgv-camps-hitting-camp/
LOCATION:Edinburg\, Texas\, UTRGV Fieldhouse
CATEGORIES:UTRGV Athletics
END:VEVENT
BEGIN:VEVENT
DTSTART;TZID=America/Chicago:20260730T180000
DTEND;TZID=America/Chicago:20260730T210000
DTSTAMP:20260424T065618
CREATED:20260416T112625Z
LAST-MODIFIED:20260417T152335Z
UID:10003675-1785434400-1785445200@stayinmcallen.com
SUMMARY:UTRGV Camps  Setting Camp
DESCRIPTION:UTRGV Camps  Setting Camp
URL:https://stayinmcallen.com/events/utrgv-camps-setting-camp/
LOCATION:Edinburg\, Texas\, UTRGV Fieldhouse
CATEGORIES:UTRGV Athletics
END:VEVENT
END:VCALENDAR